From mboxrd@z Thu Jan  1 00:00:00 1970
Return-Path: <test-report-bounces@dpdk.org>
Received: from mails.dpdk.org (mails.dpdk.org [217.70.189.124])
	by inbox.dpdk.org (Postfix) with ESMTP id 28BDF43F3A
	for <public@inbox.dpdk.org>; Mon, 29 Apr 2024 16:59:23 +0200 (CEST)
Received: from mails.dpdk.org (localhost [127.0.0.1])
	by mails.dpdk.org (Postfix) with ESMTP id 1F44D4025C;
	Mon, 29 Apr 2024 16:59:23 +0200 (CEST)
Received: from mail-io1-f100.google.com (mail-io1-f100.google.com
 [209.85.166.100])
 by mails.dpdk.org (Postfix) with ESMTP id 21CFA400D6
 for <test-report@dpdk.org>; Mon, 29 Apr 2024 16:59:22 +0200 (CEST)
Received: by mail-io1-f100.google.com with SMTP id
 ca18e2360f4ac-7ded01aa1d2so39732239f.3
 for <test-report@dpdk.org>; Mon, 29 Apr 2024 07:59:22 -0700 (PDT)
DKIM-Signature: v=1; a=rsa-sha256; c=relaxed/relaxed;
 d=iol.unh.edu; s=unh-iol; t=1714402761; x=1715007561; darn=dpdk.org;
 h=references:in-reply-to:cc:to:from:subject:message-id:date:from:to
 :cc:subject:date:message-id:reply-to;
 bh=vtLIo+Actvma+FjXlPbm+Vl9Pi2PbAMNb5qv13zu3hA=;
 b=gUl5aQUaxAsI/Cptiw0pASfuuxejebsVIpSAW0N1MA2UHHd+A1CvjrjE31hXhEhQXC
 BlcZr+VvkMqam48Q5Da88MlfybXBhaGcr61ZH5WdjIUYgPPYG7HPK8CEh/oguTkiYTUF
 0YDhaSREuyNjdNCl2hc7XyD/2/KH3CMWtoz9s=
X-Google-DKIM-Signature: v=1; a=rsa-sha256; c=relaxed/relaxed;
 d=1e100.net; s=20230601; t=1714402761; x=1715007561;
 h=references:in-reply-to:cc:to:from:subject:message-id:date
 :x-gm-message-state:from:to:cc:subject:date:message-id:reply-to;
 bh=vtLIo+Actvma+FjXlPbm+Vl9Pi2PbAMNb5qv13zu3hA=;
 b=nBmzEsZjDBZyfebf8T1c92UcjQHd1pTFsniTXfXxmrVJ6zC6o2hk5Liqj2nPOWEldD
 fY89daiQr004IQ6UbnnF4IxuZEz88nBxpFqLqEYmFPZYZPcuNM/Fo71lDgzzMA5vWCCT
 5dUruVMBKlGa4YIa5bldFlml2dCXCBDnG951fKHoYuj3evoE1tCh8UdPPkfBUDLN3qTt
 Pe74Vmt5yFm3rC1Hc/Ee9Gxh+BaT/OtvzzgR/+UV597QYXsCl5a/YwtbItvG57OR606/
 rCv4RcuXf6EPe/Tf6UwYC336/nVMvKuB9l5BbB4D7h0sA8j6zu+brNyuqgMdxwl+sHfS
 m1wQ==
X-Gm-Message-State: AOJu0Yx0BT3ziOFu7ZXcjPUeYW/iXBPlE2GxPWAyT6P5jV9UhuhAZD/8
 L0gJMZMaQ0HS0wBMSGK/FzF7SXWeFLfg3iROa52PmSr/LIR0d/c75B2AkFMh8yvuFhbTcfNulnq
 Tk0KHeiwttxGohe6DRqEts2HgynDgxrg86JhGhpz9iwfpClc8pqVgMmGO
X-Google-Smtp-Source: AGHT+IFmyLx2jARYJXIFWzWxoikrYRs7UQ87RANDv9fmqhqdtRuRMBE7/FoGn9wGSepuIDrbm80y5eRPxo7H
X-Received: by 2002:a05:6e02:164a:b0:36b:2731:83ce with SMTP id
 v10-20020a056e02164a00b0036b273183cemr16419554ilu.8.1714402761488; 
 Mon, 29 Apr 2024 07:59:21 -0700 (PDT)
Received: from postal.iol.unh.edu (postal.iol.unh.edu.
 [2606:4100:3880:1234::84]) by smtp-relay.gmail.com with ESMTPS id
 l11-20020a056e021aab00b0036bf9ddef6dsm1244761ilv.66.2024.04.29.07.59.21
 (version=TLS1_2 cipher=ECDHE-ECDSA-AES128-GCM-SHA256 bits=128/128);
 Mon, 29 Apr 2024 07:59:21 -0700 (PDT)
X-Relaying-Domain: iol.unh.edu
Date: Mon, 29 Apr 2024 07:59:21 -0700 (PDT)
Message-ID: <662fb5c9.050a0220.c113e.7a82SMTPIN_ADDED_MISSING@mx.google.com>
Received: from [172.21.0.6] (unknown [172.18.0.240])
 by postal.iol.unh.edu (Postfix) with ESMTP id 0AA34604D420;
 Mon, 29 Apr 2024 10:59:21 -0400 (EDT)
Subject: |SUCCESS| pw139718-139722 [PATCH] [RFC,v3,6/6] eal: add unit tests f
From: dpdklab@iol.unh.edu
To: Test Report <test-report@dpdk.org>
Cc: dpdk-test-reports@iol.unh.edu
In-Reply-To: <20240429095138.106849-7-mattias.ronnblom@ericsson.com>
References: <20240429095138.106849-7-mattias.ronnblom@ericsson.com>
Content-Type: text/plain
X-BeenThere: test-report@dpdk.org
X-Mailman-Version: 2.1.29
Precedence: list
List-Id: automatic DPDK test reports <test-report.dpdk.org>
List-Unsubscribe: <https://mails.dpdk.org/options/test-report>,
 <mailto:test-report-request@dpdk.org?subject=unsubscribe>
List-Archive: <http://mails.dpdk.org/archives/test-report/>
List-Post: <mailto:test-report@dpdk.org>
List-Help: <mailto:test-report-request@dpdk.org?subject=help>
List-Subscribe: <https://mails.dpdk.org/listinfo/test-report>,
 <mailto:test-report-request@dpdk.org?subject=subscribe>
Errors-To: test-report-bounces@dpdk.org

Test-Label: iol-abi-testing
Test-Status: SUCCESS
http://dpdk.org/patch/139722

_Testing PASS_

Submitter: Mattias Ronnblom <mattias.ronnblom@ericsson.com>
Date: Monday, April 29 2024 09:51:38 
DPDK git baseline: Repo:dpdk
  Branch: master
  CommitID:7e06c0de1952d3109a5b0c4779d7e7d8059c9d78

139718-139722 --> testing pass

Test environment and result as below:

+------------------+----------+
|   Environment    | abi_test |
+==================+==========+
| Fedora 38        | PASS     |
+------------------+----------+
| CentOS Stream 8  | PASS     |
+------------------+----------+
| Debian 12        | PASS     |
+------------------+----------+
| CentOS Stream 9  | PASS     |
+------------------+----------+
| Debian Bullseye  | PASS     |
+------------------+----------+
| Fedora 39        | PASS     |
+------------------+----------+
| RHEL8            | PASS     |
+------------------+----------+
| openSUSE Leap 15 | PASS     |
+------------------+----------+
| Fedora 37        | PASS     |
+------------------+----------+


Fedora 38
	Kernel: Depends on container host
	Compiler: clang 16.0.6

CentOS Stream 8
	Kernel: 5.4.0-167-generic
	Compiler: gcc 8.5.0 20210514

Debian 12
	Kernel: Container Host Kernel
	Compiler: gcc 10.2.1

CentOS Stream 9
	Kernel: 5.4.0-167-generic
	Compiler: gcc 11.4.1 20230605

Debian Bullseye
	Kernel: 5.4.0-167-generic
	Compiler: gcc 10.2.1-6

Fedora 39
	Kernel: Depends on container host
	Compiler: gcc 13.2.1

RHEL8
	Kernel: 5.4.0-167-generic
	Compiler: gcc 8.5.0 20210514 (Red Hat 8.5.0-20)

openSUSE Leap 15
	Kernel: 5.4.0-167-generic
	Compiler: gcc 7.5.0

Fedora 37
	Kernel: Depends on container host system
	Compiler: gcc 12.3.1

To view detailed results, visit:
https://lab.dpdk.org/results/dashboard/patchsets/29873/

UNH-IOL DPDK Community Lab

To manage your email subscriptions, visit: 
https://lab.dpdk.org/results/dashboard/preferences/subscriptions/