From mboxrd@z Thu Jan  1 00:00:00 1970
Return-Path: <test-report-bounces@dpdk.org>
Received: from mails.dpdk.org (mails.dpdk.org [217.70.189.124])
	by inbox.dpdk.org (Postfix) with ESMTP id 0C4D743F3A
	for <public@inbox.dpdk.org>; Mon, 29 Apr 2024 17:03:04 +0200 (CEST)
Received: from mails.dpdk.org (localhost [127.0.0.1])
	by mails.dpdk.org (Postfix) with ESMTP id 0773C4025C;
	Mon, 29 Apr 2024 17:03:04 +0200 (CEST)
Received: from mail-pf1-f225.google.com (mail-pf1-f225.google.com
 [209.85.210.225])
 by mails.dpdk.org (Postfix) with ESMTP id 4F5BB400D6
 for <test-report@dpdk.org>; Mon, 29 Apr 2024 17:03:03 +0200 (CEST)
Received: by mail-pf1-f225.google.com with SMTP id
 d2e1a72fcca58-6f30f69a958so3929248b3a.1
 for <test-report@dpdk.org>; Mon, 29 Apr 2024 08:03:03 -0700 (PDT)
DKIM-Signature: v=1; a=rsa-sha256; c=relaxed/relaxed;
 d=iol.unh.edu; s=unh-iol; t=1714402982; x=1715007782; darn=dpdk.org;
 h=references:in-reply-to:cc:to:from:subject:message-id:date:from:to
 :cc:subject:date:message-id:reply-to;
 bh=uhy5pS4U/f2elnnwOqxir/xz0/OuW3s+9Sw0c7c+yrA=;
 b=EI2ZZezaNk4CXs2KqWV3i9syRCxqee8JeEnqyzmQh/hDhUbyLTYbP80iJpFqfQx4OJ
 j41FZiDCduoLHNPnIBZ27u3ERhupLv8ypVG2rQHp9aFI24TvPfPSjYTAhza2deAkqlPG
 CW2uK/NV5lQ4Id4ItybPIb8aKRiUE47EKsE0Y=
X-Google-DKIM-Signature: v=1; a=rsa-sha256; c=relaxed/relaxed;
 d=1e100.net; s=20230601; t=1714402982; x=1715007782;
 h=references:in-reply-to:cc:to:from:subject:message-id:date
 :x-gm-message-state:from:to:cc:subject:date:message-id:reply-to;
 bh=uhy5pS4U/f2elnnwOqxir/xz0/OuW3s+9Sw0c7c+yrA=;
 b=QKwMiESvEh7+5vtZOHIcx5gkfpDYnSwZBQrLXnV5ww7itub2lSiUYU6/D44mHNmGfD
 4Ptfb7dLeLEWkP0UtF7dGuTgPqJK/B1uuhXHk+7gTU9JDvbVNuAENN/WKogiYl3gUgrD
 9m5yM0NeHmpWpIGtPsmpmOJd2P1hoOJ4JDoYfLWBitQoLlB9LErvayBg6a/8zH6sg96h
 7tH36EY+oWdwCn9HGAc9j//wdlE7su0Xd9blP23ilGtim+EWNtzKcMOamqivEwFe5Arv
 25RPM3ppcvMF2hnDnp069xnFqcP7Obos5u0kjemeopY8ACc/0kDyP8/kM2ltyjZKHYMa
 O7Rw==
X-Gm-Message-State: AOJu0Yw90YsGkmTqdh8a56Mvm5wkEix/nv3xBdVuyzEo4Kc0VSId7XVr
 2UXyNno1ZY8j1+YluXJJI0Bf3GdmrO7u5YmbfNnaXaJwD8pPqMS+qpZPfPRocGiQi2WMOUC/DUq
 3H+HCTIQpTCJoM5jjlJst+Rz5HgB0LI+1I0goBm09a3uqcIflrme7h+qq
X-Google-Smtp-Source: AGHT+IEfrzUbFYFYfRGBYsDuutvawebeTMdhXpGFr2F+d6HyD9UrKIhbgoRsBRnZ0Ll5+BIAJaUOyla2OfEF
X-Received: by 2002:a05:6a20:96d0:b0:1ac:e0fa:fb24 with SMTP id
 hq16-20020a056a2096d000b001ace0fafb24mr11018337pzc.29.1714402982409; 
 Mon, 29 Apr 2024 08:03:02 -0700 (PDT)
Received: from postal.iol.unh.edu (postal.iol.unh.edu.
 [2606:4100:3880:1234::84]) by smtp-relay.gmail.com with ESMTPS id
 b8-20020a056a000a8800b006ecf7f19e08sm1867205pfl.3.2024.04.29.08.03.02
 (version=TLS1_2 cipher=ECDHE-ECDSA-AES128-GCM-SHA256 bits=128/128);
 Mon, 29 Apr 2024 08:03:02 -0700 (PDT)
X-Relaying-Domain: iol.unh.edu
Date: Mon, 29 Apr 2024 08:03:02 -0700 (PDT)
Message-ID: <662fb6a6.050a0220.4bafd.aa4aSMTPIN_ADDED_MISSING@mx.google.com>
Received: from [172.21.0.6] (unknown [172.18.0.240])
 by postal.iol.unh.edu (Postfix) with ESMTP id 95698604D420;
 Mon, 29 Apr 2024 11:03:01 -0400 (EDT)
Subject: |SUCCESS| pw139718-139722 [PATCH] [RFC,v3,6/6] eal: add unit tests f
From: dpdklab@iol.unh.edu
To: Test Report <test-report@dpdk.org>
Cc: dpdk-test-reports@iol.unh.edu
In-Reply-To: <20240429095138.106849-7-mattias.ronnblom@ericsson.com>
References: <20240429095138.106849-7-mattias.ronnblom@ericsson.com>
Content-Type: text/plain
X-BeenThere: test-report@dpdk.org
X-Mailman-Version: 2.1.29
Precedence: list
List-Id: automatic DPDK test reports <test-report.dpdk.org>
List-Unsubscribe: <https://mails.dpdk.org/options/test-report>,
 <mailto:test-report-request@dpdk.org?subject=unsubscribe>
List-Archive: <http://mails.dpdk.org/archives/test-report/>
List-Post: <mailto:test-report@dpdk.org>
List-Help: <mailto:test-report-request@dpdk.org?subject=help>
List-Subscribe: <https://mails.dpdk.org/listinfo/test-report>,
 <mailto:test-report-request@dpdk.org?subject=subscribe>
Errors-To: test-report-bounces@dpdk.org

Test-Label: iol-unit-arm64-testing
Test-Status: SUCCESS
http://dpdk.org/patch/139722

_Testing PASS_

Submitter: Mattias Ronnblom <mattias.ronnblom@ericsson.com>
Date: Monday, April 29 2024 09:51:38 
DPDK git baseline: Repo:dpdk
  Branch: master
  CommitID:7e06c0de1952d3109a5b0c4779d7e7d8059c9d78

139718-139722 --> testing pass

Test environment and result as below:

+-----------------------------+----------------+
|         Environment         | dpdk_unit_test |
+=============================+================+
| CentOS Stream 9 (ARM)       | PASS           |
+-----------------------------+----------------+
| 32-bit Ubuntu 20.04.4 (ARM) | PASS           |
+-----------------------------+----------------+
| Debian 11 (Buster) (ARM)    | PASS           |
+-----------------------------+----------------+


CentOS Stream 9 (ARM)
	Kernel: Container Host Kernel
	Compiler: gcc 11.4.1

32-bit Ubuntu 20.04.4 (ARM)
	Kernel: 5.4.0-155-generic aarch64
	Compiler: gcc 9.4

Debian 11 (Buster) (ARM)
	Kernel: Container Host Kernel
	Compiler: gcc 10.2.1

To view detailed results, visit:
https://lab.dpdk.org/results/dashboard/patchsets/29873/

UNH-IOL DPDK Community Lab

To manage your email subscriptions, visit: 
https://lab.dpdk.org/results/dashboard/preferences/subscriptions/