From mboxrd@z Thu Jan  1 00:00:00 1970
Return-Path: <test-report-bounces@dpdk.org>
Received: from mails.dpdk.org (mails.dpdk.org [217.70.189.124])
	by inbox.dpdk.org (Postfix) with ESMTP id 6B1EE43F3A
	for <public@inbox.dpdk.org>; Mon, 29 Apr 2024 17:11:01 +0200 (CEST)
Received: from mails.dpdk.org (localhost [127.0.0.1])
	by mails.dpdk.org (Postfix) with ESMTP id 64C024025C;
	Mon, 29 Apr 2024 17:11:01 +0200 (CEST)
Received: from mail-yw1-f227.google.com (mail-yw1-f227.google.com
 [209.85.128.227])
 by mails.dpdk.org (Postfix) with ESMTP id E3C774025C
 for <test-report@dpdk.org>; Mon, 29 Apr 2024 17:10:46 +0200 (CEST)
Received: by mail-yw1-f227.google.com with SMTP id
 00721157ae682-61ae4743d36so47949427b3.2
 for <test-report@dpdk.org>; Mon, 29 Apr 2024 08:10:46 -0700 (PDT)
DKIM-Signature: v=1; a=rsa-sha256; c=relaxed/relaxed;
 d=iol.unh.edu; s=unh-iol; t=1714403446; x=1715008246; darn=dpdk.org;
 h=references:in-reply-to:cc:to:from:subject:message-id:date:from:to
 :cc:subject:date:message-id:reply-to;
 bh=MUAU7uIxJdBTLn46dukYeVB7Uame4mamAOTtvaEXnEI=;
 b=AsIqmBSl1BgWEBaQGZC5kf3I6nvdG9yYz7lDzKF8YXRb9OMVdFADhWjm7vb3hRDFwU
 naJ2kEaJ4/2hwzkGQukfWwhRxUmA2+bYdwnC4+cBdRZu3mScRDsqGW4MkLkaEu9Oa9a6
 N2F8UeYkh6aOUGmoxlM7ipyOCgiXgYy3SsN9I=
X-Google-DKIM-Signature: v=1; a=rsa-sha256; c=relaxed/relaxed;
 d=1e100.net; s=20230601; t=1714403446; x=1715008246;
 h=references:in-reply-to:cc:to:from:subject:message-id:date
 :x-gm-message-state:from:to:cc:subject:date:message-id:reply-to;
 bh=MUAU7uIxJdBTLn46dukYeVB7Uame4mamAOTtvaEXnEI=;
 b=cY+hhlOp6phpJJthh5fcbFE5mG3Ot6CiggompxNi8twjsFdh3cEcCtpcO6l6hlSJ5a
 trWorSx1+a2Pf+F15WJ0qvVKkX3XPhdmGRaSUamGt0AC+XrfBCzJczID2P+kz8ihssBV
 5Z4bk3OmmMRI6EFis37zXNVsnzaIEPYEsNotKBemkgGuISKTKbn0yCxdB3ecFBVkssP1
 GwtFeLXHWQgHzRLCOH3UKKGz1MJuYAxTsRmY2Q99agaVwKh8kCz4HpnOZ5LWWmXXXtFb
 O2JsEitlsUpp6rOcg5KfOczfZSLFTkrqCV5KFK5h8RJm8gaa0BN5XyLBbUWqbzWoSMfn
 XeYA==
X-Gm-Message-State: AOJu0YypntPIqmEoBvc7XzqfkTSgl0FlJS2dCq+jf9UPGsSMvuVQstv7
 qk+IJw1YnUc0De0PfTpXaucXOHnqUhCZqhPMI8W6ipN8zk4dcbiyOeOMgEKHnyoq13Y19t5+opB
 WuRybVwlGdD+/j1E0dTZxFcqL7Zk3QKmzOUKdgoTg
X-Google-Smtp-Source: AGHT+IEA30O728/Cwi8OqjDK0NQ3t1n7wJ9pvJlXl74B9vDEshio1hVc4YkczoGNq3vK03aD7UD7iaG2WQt/
X-Received: by 2002:a05:690c:6c0a:b0:618:1960:f59e with SMTP id
 ir10-20020a05690c6c0a00b006181960f59emr117858ywb.25.1714403446320; 
 Mon, 29 Apr 2024 08:10:46 -0700 (PDT)
Received: from postal.iol.unh.edu (postal.iol.unh.edu. [132.177.123.84])
 by smtp-relay.gmail.com with ESMTPS id
 bd19-20020a05690c011300b006143dc5533dsm1165954ywb.56.2024.04.29.08.10.46
 (version=TLS1_2 cipher=ECDHE-ECDSA-AES128-GCM-SHA256 bits=128/128);
 Mon, 29 Apr 2024 08:10:46 -0700 (PDT)
X-Relaying-Domain: iol.unh.edu
Date: Mon, 29 Apr 2024 08:10:46 -0700 (PDT)
Message-ID: <662fb876.050a0220.953c8.af94SMTPIN_ADDED_MISSING@mx.google.com>
Received: from [172.17.0.5] (unknown [172.18.0.217])
 by postal.iol.unh.edu (Postfix) with ESMTP id EC677604D420;
 Mon, 29 Apr 2024 11:10:45 -0400 (EDT)
Subject: |SUCCESS| pw139718-139722 [PATCH] [RFC,v3,6/6] eal: add unit tests f
From: dpdklab@iol.unh.edu
To: Test Report <test-report@dpdk.org>
Cc: dpdk-test-reports@iol.unh.edu
In-Reply-To: <20240429095138.106849-7-mattias.ronnblom@ericsson.com>
References: <20240429095138.106849-7-mattias.ronnblom@ericsson.com>
Content-Type: text/plain
X-BeenThere: test-report@dpdk.org
X-Mailman-Version: 2.1.29
Precedence: list
List-Id: automatic DPDK test reports <test-report.dpdk.org>
List-Unsubscribe: <https://mails.dpdk.org/options/test-report>,
 <mailto:test-report-request@dpdk.org?subject=unsubscribe>
List-Archive: <http://mails.dpdk.org/archives/test-report/>
List-Post: <mailto:test-report@dpdk.org>
List-Help: <mailto:test-report-request@dpdk.org?subject=help>
List-Subscribe: <https://mails.dpdk.org/listinfo/test-report>,
 <mailto:test-report-request@dpdk.org?subject=subscribe>
Errors-To: test-report-bounces@dpdk.org

Test-Label: iol-compile-amd64-testing
Test-Status: SUCCESS
http://dpdk.org/patch/139722

_Testing PASS_

Submitter: Mattias Ronnblom <mattias.ronnblom@ericsson.com>
Date: Monday, April 29 2024 09:51:38 
DPDK git baseline: Repo:dpdk
  Branch: master
  CommitID:7e06c0de1952d3109a5b0c4779d7e7d8059c9d78

139718-139722 --> testing pass

Test environment and result as below:

+---------------------+--------------------+----------------------+-------------------+
|     Environment     | dpdk_meson_compile | dpdk_mingw64_compile | dpdk_msvc_compile |
+=====================+====================+======================+===================+
| Windows Server 2019 | PASS               | PASS                 | SKIPPED           |
+---------------------+--------------------+----------------------+-------------------+
| FreeBSD 13.3        | PASS               | SKIPPED              | SKIPPED           |
+---------------------+--------------------+----------------------+-------------------+
| Windows Server 2022 | PASS               | PASS                 | PASS              |
+---------------------+--------------------+----------------------+-------------------+
| CentOS Stream 8     | PASS               | SKIPPED              | SKIPPED           |
+---------------------+--------------------+----------------------+-------------------+
| Debian Bullseye     | PASS               | SKIPPED              | SKIPPED           |
+---------------------+--------------------+----------------------+-------------------+
| CentOS Stream 9     | PASS               | SKIPPED              | SKIPPED           |
+---------------------+--------------------+----------------------+-------------------+
| Debian 12           | PASS               | SKIPPED              | SKIPPED           |
+---------------------+--------------------+----------------------+-------------------+
| Fedora 38           | PASS               | SKIPPED              | SKIPPED           |
+---------------------+--------------------+----------------------+-------------------+
| Fedora 37           | PASS               | SKIPPED              | SKIPPED           |
+---------------------+--------------------+----------------------+-------------------+
| Fedora 39           | PASS               | SKIPPED              | SKIPPED           |
+---------------------+--------------------+----------------------+-------------------+


Windows Server 2019
	Kernel: 10.0.17763
	Compiler: clang 14.0 and gcc 8.1.0 (MinGW)

FreeBSD 13.3
	Kernel: 13.3-RELEASE-p1
	Compiler: clang 17.0.6

Windows Server 2022
	Kernel: 10.0.20348.2031
	Compiler: clang 15.0.7, gcc 8.1.0 (MinGW), and MSVC VS 17.9

CentOS Stream 8
	Kernel: 5.4.0-167-generic
	Compiler: gcc 8.5.0 20210514

Debian Bullseye
	Kernel: 5.4.0-167-generic
	Compiler: gcc 10.2.1-6

CentOS Stream 9
	Kernel: 5.4.0-167-generic
	Compiler: gcc 11.4.1 20230605

Debian 12
	Kernel: Container Host Kernel
	Compiler: gcc 10.2.1

Fedora 38
	Kernel: Depends on container host
	Compiler: clang 16.0.6

Fedora 37
	Kernel: Depends on container host system
	Compiler: gcc 12.3.1

Fedora 39
	Kernel: Depends on container host
	Compiler: clang 17.0.6

To view detailed results, visit:
https://lab.dpdk.org/results/dashboard/patchsets/29873/

UNH-IOL DPDK Community Lab

To manage your email subscriptions, visit: 
https://lab.dpdk.org/results/dashboard/preferences/subscriptions/