From mboxrd@z Thu Jan  1 00:00:00 1970
Return-Path: <test-report-bounces@dpdk.org>
Received: from mails.dpdk.org (mails.dpdk.org [217.70.189.124])
	by inbox.dpdk.org (Postfix) with ESMTP id 5C1CB43F47
	for <public@inbox.dpdk.org>; Mon, 29 Apr 2024 17:14:56 +0200 (CEST)
Received: from mails.dpdk.org (localhost [127.0.0.1])
	by mails.dpdk.org (Postfix) with ESMTP id 4619E402A3;
	Mon, 29 Apr 2024 17:14:56 +0200 (CEST)
Received: from mail-io1-f99.google.com (mail-io1-f99.google.com
 [209.85.166.99]) by mails.dpdk.org (Postfix) with ESMTP id 4C1564029C
 for <test-report@dpdk.org>; Mon, 29 Apr 2024 17:14:52 +0200 (CEST)
Received: by mail-io1-f99.google.com with SMTP id
 ca18e2360f4ac-7decd9851dfso59552639f.3
 for <test-report@dpdk.org>; Mon, 29 Apr 2024 08:14:52 -0700 (PDT)
DKIM-Signature: v=1; a=rsa-sha256; c=relaxed/relaxed;
 d=iol.unh.edu; s=unh-iol; t=1714403691; x=1715008491; darn=dpdk.org;
 h=references:in-reply-to:cc:to:from:subject:message-id:date:from:to
 :cc:subject:date:message-id:reply-to;
 bh=MUAU7uIxJdBTLn46dukYeVB7Uame4mamAOTtvaEXnEI=;
 b=C/GlTT9jwLJYcYU9L3Mf5ZU1gLm9yErfFLiBVgW/E80TTeFLB+R0VMs0X5cD059ip2
 P9inYtx6Rg+FzAzIBcSBfRfb5YOanzQTnDNMWskVkGF5EU9iJR3NFzO42TbPossDOYGt
 Ojhuio5SNc/1J28m+7KFq3kidcSB+jLYVv34w=
X-Google-DKIM-Signature: v=1; a=rsa-sha256; c=relaxed/relaxed;
 d=1e100.net; s=20230601; t=1714403691; x=1715008491;
 h=references:in-reply-to:cc:to:from:subject:message-id:date
 :x-gm-message-state:from:to:cc:subject:date:message-id:reply-to;
 bh=MUAU7uIxJdBTLn46dukYeVB7Uame4mamAOTtvaEXnEI=;
 b=erfL+XCaX1S4pM1p5Hgi1pXJ2eoE+2OEZ6l4MasSImIhPGd3CZAhSvLO9q8mJ58x/2
 OmqtHs8DZQBmddmerQoLzmmapOaMXpki34Cn/rEn9hKe6kOgJlyig9LksyHttnGxNIOR
 C/64zPMa51rsJgG9MmpV0ZSsAsGj8vLHP/mNVARmoCoc2G1zUkTgCEu0rAYcd7+ya6im
 Q83UxyKx1mIWD+TNsSYGm6S/ywnUah2+34ky1ylxOBGa+Lq5iE241o6h6YPa9br6++rO
 SnjoROyOaPUYBJb71CTr2IE4r7ISdqgbCk7+r8uTTZGEw7tQTzW0pVszM5ULvPUFEaa5
 0yog==
X-Gm-Message-State: AOJu0YyePacrSveX5rTJqCBEtiSPp4GFUMCQEgz06tEGA7YtVQ9MjVX7
 6pDtFzn+hR48uQXZ6njfZIV9tfCsBA0nmSDfOkyjs53GiLD7OMYXlit8w/LcrkNAQ/OD5FU6gu5
 u+98HpuNeq1Al9UZLRf7LDM97ojR0HJVm9jv8bQmgKWYXs3S13qSf11Dm
X-Google-Smtp-Source: AGHT+IHqHNkTxeINqcAyJpMviZPGZaZMLuvFfD4SnSBBxgk3expM/EulmIBg0g/J94E/ro8KoATXszbi4ynL
X-Received: by 2002:a05:6602:208a:b0:7de:d88f:54a7 with SMTP id
 a10-20020a056602208a00b007ded88f54a7mr898829ioa.13.1714403691597; 
 Mon, 29 Apr 2024 08:14:51 -0700 (PDT)
Received: from postal.iol.unh.edu (postal.iol.unh.edu.
 [2606:4100:3880:1234::84]) by smtp-relay.gmail.com with ESMTPS id
 hs12-20020a056638708c00b00486ea85f1c9sm1054724jab.11.2024.04.29.08.14.51
 (version=TLS1_2 cipher=ECDHE-ECDSA-AES128-GCM-SHA256 bits=128/128);
 Mon, 29 Apr 2024 08:14:51 -0700 (PDT)
X-Relaying-Domain: iol.unh.edu
Date: Mon, 29 Apr 2024 08:14:51 -0700 (PDT)
Message-ID: <662fb96b.050a0220.be26e.e3ccSMTPIN_ADDED_MISSING@mx.google.com>
Received: from [172.17.0.3] (unknown [172.18.0.217])
 by postal.iol.unh.edu (Postfix) with ESMTP id 17E0E604D420;
 Mon, 29 Apr 2024 11:14:50 -0400 (EDT)
Subject: |SUCCESS| pw139718-139722 [PATCH] [RFC,v3,6/6] eal: add unit tests f
From: dpdklab@iol.unh.edu
To: Test Report <test-report@dpdk.org>
Cc: dpdk-test-reports@iol.unh.edu
In-Reply-To: <20240429095138.106849-7-mattias.ronnblom@ericsson.com>
References: <20240429095138.106849-7-mattias.ronnblom@ericsson.com>
Content-Type: text/plain
X-BeenThere: test-report@dpdk.org
X-Mailman-Version: 2.1.29
Precedence: list
List-Id: automatic DPDK test reports <test-report.dpdk.org>
List-Unsubscribe: <https://mails.dpdk.org/options/test-report>,
 <mailto:test-report-request@dpdk.org?subject=unsubscribe>
List-Archive: <http://mails.dpdk.org/archives/test-report/>
List-Post: <mailto:test-report@dpdk.org>
List-Help: <mailto:test-report-request@dpdk.org?subject=help>
List-Subscribe: <https://mails.dpdk.org/listinfo/test-report>,
 <mailto:test-report-request@dpdk.org?subject=subscribe>
Errors-To: test-report-bounces@dpdk.org

Test-Label: iol-compile-amd64-testing
Test-Status: SUCCESS
http://dpdk.org/patch/139722

_Testing PASS_

Submitter: Mattias Ronnblom <mattias.ronnblom@ericsson.com>
Date: Monday, April 29 2024 09:51:38 
DPDK git baseline: Repo:dpdk
  Branch: master
  CommitID:7e06c0de1952d3109a5b0c4779d7e7d8059c9d78

139718-139722 --> testing pass

Test environment and result as below:

+---------------------+--------------------+----------------------+-------------------+
|     Environment     | dpdk_meson_compile | dpdk_mingw64_compile | dpdk_msvc_compile |
+=====================+====================+======================+===================+
| Windows Server 2019 | PASS               | PASS                 | SKIPPED           |
+---------------------+--------------------+----------------------+-------------------+
| FreeBSD 13.3        | PASS               | SKIPPED              | SKIPPED           |
+---------------------+--------------------+----------------------+-------------------+
| Windows Server 2022 | PASS               | PASS                 | PASS              |
+---------------------+--------------------+----------------------+-------------------+
| CentOS Stream 8     | PASS               | SKIPPED              | SKIPPED           |
+---------------------+--------------------+----------------------+-------------------+
| Debian Bullseye     | PASS               | SKIPPED              | SKIPPED           |
+---------------------+--------------------+----------------------+-------------------+
| CentOS Stream 9     | PASS               | SKIPPED              | SKIPPED           |
+---------------------+--------------------+----------------------+-------------------+
| Debian 12           | PASS               | SKIPPED              | SKIPPED           |
+---------------------+--------------------+----------------------+-------------------+
| Fedora 38           | PASS               | SKIPPED              | SKIPPED           |
+---------------------+--------------------+----------------------+-------------------+
| Fedora 37           | PASS               | SKIPPED              | SKIPPED           |
+---------------------+--------------------+----------------------+-------------------+
| Fedora 39           | PASS               | SKIPPED              | SKIPPED           |
+---------------------+--------------------+----------------------+-------------------+


Windows Server 2019
	Kernel: 10.0.17763
	Compiler: clang 14.0 and gcc 8.1.0 (MinGW)

FreeBSD 13.3
	Kernel: 13.3-RELEASE-p1
	Compiler: clang 17.0.6

Windows Server 2022
	Kernel: 10.0.20348.2031
	Compiler: clang 15.0.7, gcc 8.1.0 (MinGW), and MSVC VS 17.9

CentOS Stream 8
	Kernel: 5.4.0-167-generic
	Compiler: gcc 8.5.0 20210514

Debian Bullseye
	Kernel: 5.4.0-167-generic
	Compiler: gcc 10.2.1-6

CentOS Stream 9
	Kernel: 5.4.0-167-generic
	Compiler: gcc 11.4.1 20230605

Debian 12
	Kernel: Container Host Kernel
	Compiler: gcc 10.2.1

Fedora 38
	Kernel: Depends on container host
	Compiler: clang 16.0.6

Fedora 37
	Kernel: Depends on container host system
	Compiler: gcc 12.3.1

Fedora 39
	Kernel: Depends on container host
	Compiler: clang 17.0.6

To view detailed results, visit:
https://lab.dpdk.org/results/dashboard/patchsets/29873/

UNH-IOL DPDK Community Lab

To manage your email subscriptions, visit: 
https://lab.dpdk.org/results/dashboard/preferences/subscriptions/