From mboxrd@z Thu Jan  1 00:00:00 1970
Return-Path: <test-report-bounces@dpdk.org>
Received: from mails.dpdk.org (mails.dpdk.org [217.70.189.124])
	by inbox.dpdk.org (Postfix) with ESMTP id 0341143F47
	for <public@inbox.dpdk.org>; Mon, 29 Apr 2024 17:45:48 +0200 (CEST)
Received: from mails.dpdk.org (localhost [127.0.0.1])
	by mails.dpdk.org (Postfix) with ESMTP id DC0E7402A3;
	Mon, 29 Apr 2024 17:45:48 +0200 (CEST)
Received: from mail-ua1-f98.google.com (mail-ua1-f98.google.com
 [209.85.222.98]) by mails.dpdk.org (Postfix) with ESMTP id 74D604029C
 for <test-report@dpdk.org>; Mon, 29 Apr 2024 17:45:47 +0200 (CEST)
Received: by mail-ua1-f98.google.com with SMTP id
 a1e0cc1a2514c-7f105fe8a51so242592241.1
 for <test-report@dpdk.org>; Mon, 29 Apr 2024 08:45:47 -0700 (PDT)
DKIM-Signature: v=1; a=rsa-sha256; c=relaxed/relaxed;
 d=iol.unh.edu; s=unh-iol; t=1714405547; x=1715010347; darn=dpdk.org;
 h=references:in-reply-to:cc:to:from:subject:message-id:date:from:to
 :cc:subject:date:message-id:reply-to;
 bh=z2mFowWlkuMt738I1JRv499voqfqgZSLo2xpCwmWIaA=;
 b=GNrr3mCzPEALa1JzbZvQO8ZQ0hUSILArLeGJrJr7Tx/tC+hZBPQgShPpgjEY5Pkixc
 y+LeQbQvIizTmjydjWWS4AaHMw+vIS+T+TgzWJPm9/Aqi6j0Dx5CnqVvvr1nKAZFGlcb
 82kwQoJBkDGer1GLh9SzJpiwDPfiaQfGB1ZLE=
X-Google-DKIM-Signature: v=1; a=rsa-sha256; c=relaxed/relaxed;
 d=1e100.net; s=20230601; t=1714405547; x=1715010347;
 h=references:in-reply-to:cc:to:from:subject:message-id:date
 :x-gm-message-state:from:to:cc:subject:date:message-id:reply-to;
 bh=z2mFowWlkuMt738I1JRv499voqfqgZSLo2xpCwmWIaA=;
 b=QJA0XREp5Os9pAujxJTAp+lfBhadlbx3vhD/CSg9Qj6D2qV2S76xkdxPrWPNFScUi5
 Qq48MmCHEV2kE7CGASXrBfZ7uMzzM+fMAtPzjK1CGJh6uWZO93nTp7BOPelC9ygAqOdP
 Oq4UJv1KSXHn49rCLlrtNf9pwhMx9iPkv9/kBx6FTL6zh2T7anAO7XCjSKVTCxueQePq
 852vSgA6aYjBnrLADlypuAjha9KznWx35aG8AQmREUdPGVzAJhxyfavbgktL0mFoHOeY
 xVs8XtcTma5We5VL38iUW1KtMr8yFB/4zYUNMClzcRtFW7Y0bIh+pQjV6tDyAnjPOhsx
 viJQ==
X-Gm-Message-State: AOJu0YwkEdJQP51pwkL61KhTD20zdFYHd0xoEkr9ZmUFkMo/tb4G5yAD
 /z8EOWOFQoPsQ3cS2PiRZpvbDBS7LkOCQt2+uxx3l5V3dZSYVzQZJt0ynyLGZzKze9p/qEJ9Djr
 ecBgGrapJLzq4eajHnF5AVmS4+NeBoQMgtLVhUAzvaJth9HYKivdCcK9u
X-Google-Smtp-Source: AGHT+IGQl0i5ejL8lFQ6CVVbYgltMjHFV6a7kCPCedScFwtmocXaLZnwNiLz/QEg0myZcczSN+eQyfm/8Ukn
X-Received: by 2002:a67:f7c7:0:b0:47b:7178:8ffd with SMTP id
 a7-20020a67f7c7000000b0047b71788ffdmr11489046vsp.0.1714405546646; 
 Mon, 29 Apr 2024 08:45:46 -0700 (PDT)
Received: from postal.iol.unh.edu (postal.iol.unh.edu.
 [2606:4100:3880:1234::84]) by smtp-relay.gmail.com with ESMTPS id
 x11-20020a0ce78b000000b006a0cb8050b2sm335914qvn.74.2024.04.29.08.45.46
 (version=TLS1_2 cipher=ECDHE-ECDSA-AES128-GCM-SHA256 bits=128/128);
 Mon, 29 Apr 2024 08:45:46 -0700 (PDT)
X-Relaying-Domain: iol.unh.edu
Date: Mon, 29 Apr 2024 08:45:46 -0700 (PDT)
Message-ID: <662fc0aa.0c0a0220.cde6b.e648SMTPIN_ADDED_MISSING@mx.google.com>
Received: from [172.17.0.2] (unknown [172.18.0.217])
 by postal.iol.unh.edu (Postfix) with ESMTP id 52444604D420;
 Mon, 29 Apr 2024 11:45:46 -0400 (EDT)
Subject: |SUCCESS| pw139718-139722 [PATCH] [RFC,v3,6/6] eal: add unit tests f
From: dpdklab@iol.unh.edu
To: Test Report <test-report@dpdk.org>
Cc: dpdk-test-reports@iol.unh.edu
In-Reply-To: <20240429095138.106849-7-mattias.ronnblom@ericsson.com>
References: <20240429095138.106849-7-mattias.ronnblom@ericsson.com>
Content-Type: text/plain
X-BeenThere: test-report@dpdk.org
X-Mailman-Version: 2.1.29
Precedence: list
List-Id: automatic DPDK test reports <test-report.dpdk.org>
List-Unsubscribe: <https://mails.dpdk.org/options/test-report>,
 <mailto:test-report-request@dpdk.org?subject=unsubscribe>
List-Archive: <http://mails.dpdk.org/archives/test-report/>
List-Post: <mailto:test-report@dpdk.org>
List-Help: <mailto:test-report-request@dpdk.org?subject=help>
List-Subscribe: <https://mails.dpdk.org/listinfo/test-report>,
 <mailto:test-report-request@dpdk.org?subject=subscribe>
Errors-To: test-report-bounces@dpdk.org

Test-Label: iol-unit-arm64-testing
Test-Status: SUCCESS
http://dpdk.org/patch/139722

_Testing PASS_

Submitter: Mattias Ronnblom <mattias.ronnblom@ericsson.com>
Date: Monday, April 29 2024 09:51:38 
DPDK git baseline: Repo:dpdk
  Branch: master
  CommitID:7e06c0de1952d3109a5b0c4779d7e7d8059c9d78

139718-139722 --> testing pass

Test environment and result as below:

+-----------------------------+----------------+---------------------------+------------------------------+--------------+
|         Environment         | dpdk_unit_test | cryptodev_sw_zuc_autotest | cryptodev_sw_snow3g_autotest | lpm_autotest |
+=============================+================+===========================+==============================+==============+
| CentOS Stream 9 (ARM)       | PASS           | SKIPPED                   | SKIPPED                      | SKIPPED      |
+-----------------------------+----------------+---------------------------+------------------------------+--------------+
| 32-bit Ubuntu 20.04.4 (ARM) | PASS           | SKIPPED                   | SKIPPED                      | SKIPPED      |
+-----------------------------+----------------+---------------------------+------------------------------+--------------+
| Debian 11 (Buster) (ARM)    | PASS           | SKIPPED                   | SKIPPED                      | SKIPPED      |
+-----------------------------+----------------+---------------------------+------------------------------+--------------+
| Debian 12 (arm)             | PASS           | PASS                      | PASS                         | SKIPPED      |
+-----------------------------+----------------+---------------------------+------------------------------+--------------+
| Fedora 39 (ARM)             | PASS           | SKIPPED                   | SKIPPED                      | SKIPPED      |
+-----------------------------+----------------+---------------------------+------------------------------+--------------+
| Ubuntu 20.04 (ARM)          | PASS           | SKIPPED                   | SKIPPED                      | SKIPPED      |
+-----------------------------+----------------+---------------------------+------------------------------+--------------+
| Fedora 37 (ARM)             | PASS           | SKIPPED                   | SKIPPED                      | SKIPPED      |
+-----------------------------+----------------+---------------------------+------------------------------+--------------+
| Fedora 39 (ARM Clang)       | PASS           | SKIPPED                   | SKIPPED                      | SKIPPED      |
+-----------------------------+----------------+---------------------------+------------------------------+--------------+
| Ubuntu 20.04 ARM SVE        | SKIPPED        | SKIPPED                   | SKIPPED                      | PASS         |
+-----------------------------+----------------+---------------------------+------------------------------+--------------+


CentOS Stream 9 (ARM)
	Kernel: Container Host Kernel
	Compiler: gcc 11.4.1

32-bit Ubuntu 20.04.4 (ARM)
	Kernel: 5.4.0-155-generic aarch64
	Compiler: gcc 9.4

Debian 11 (Buster) (ARM)
	Kernel: Container Host Kernel
	Compiler: gcc 10.2.1

Debian 12 (arm)
	Kernel: Container Host Kernel
	Compiler: gcc 12.2.0

Fedora 39 (ARM)
	Kernel: Depends on container host
	Compiler: gcc 13.2.1

Ubuntu 20.04 (ARM)
	Kernel: Container Host Kernel
	Compiler: gcc 9.4.0

Fedora 37 (ARM)
	Kernel: Depends on container host
	Compiler: gcc 12.3.1

Fedora 39 (ARM Clang)
	Kernel: Depends on container host
	Compiler: clang 17.0.6

Ubuntu 20.04 ARM SVE
	Kernel: 5.4.0-167-generic
	Compiler: gcc (Ubuntu 10.5.0-1ubuntu1~20.04) 10.5.0

To view detailed results, visit:
https://lab.dpdk.org/results/dashboard/patchsets/29873/

UNH-IOL DPDK Community Lab

To manage your email subscriptions, visit: 
https://lab.dpdk.org/results/dashboard/preferences/subscriptions/