From mboxrd@z Thu Jan  1 00:00:00 1970
Return-Path: <test-report-bounces@dpdk.org>
Received: from mails.dpdk.org (mails.dpdk.org [217.70.189.124])
	by inbox.dpdk.org (Postfix) with ESMTP id 967AF43F4D
	for <public@inbox.dpdk.org>; Mon, 29 Apr 2024 22:47:28 +0200 (CEST)
Received: from mails.dpdk.org (localhost [127.0.0.1])
	by mails.dpdk.org (Postfix) with ESMTP id 8EC0D402A3;
	Mon, 29 Apr 2024 22:47:28 +0200 (CEST)
Received: from mail-il1-f227.google.com (mail-il1-f227.google.com
 [209.85.166.227])
 by mails.dpdk.org (Postfix) with ESMTP id D085D4029C
 for <test-report@dpdk.org>; Mon, 29 Apr 2024 22:47:27 +0200 (CEST)
Received: by mail-il1-f227.google.com with SMTP id
 e9e14a558f8ab-36c4edfb18aso5379335ab.3
 for <test-report@dpdk.org>; Mon, 29 Apr 2024 13:47:27 -0700 (PDT)
DKIM-Signature: v=1; a=rsa-sha256; c=relaxed/relaxed;
 d=iol.unh.edu; s=unh-iol; t=1714423647; x=1715028447; darn=dpdk.org;
 h=references:in-reply-to:cc:to:from:subject:message-id:date:from:to
 :cc:subject:date:message-id:reply-to;
 bh=Qb65cPCuOFxM3PdSnWTPi+9rABHkUEfD/L7u6LJaiJo=;
 b=Erm7MjJ0LjH9GfiX/5wMnEDSfC9bZdmrBlK+kkPuiS30NrGo581/PExF9JzJ4eyr6V
 Gir0AQuIgCLG5Q0R0vjpOncDRdPudEUfA7XCNNM31uVMbOo+0U4WakILFV3O6vZHy7fv
 G6VhYrSy/zN06A42kHW7+6rIWADjxumjIOVkY=
X-Google-DKIM-Signature: v=1; a=rsa-sha256; c=relaxed/relaxed;
 d=1e100.net; s=20230601; t=1714423647; x=1715028447;
 h=references:in-reply-to:cc:to:from:subject:message-id:date
 :x-gm-message-state:from:to:cc:subject:date:message-id:reply-to;
 bh=Qb65cPCuOFxM3PdSnWTPi+9rABHkUEfD/L7u6LJaiJo=;
 b=Ss8nXuU3dAFphcRVcq77QC0i7oU6kKvPrhT3FsFGxubXuC/7v2OZOvjealuwGM+fgJ
 wCZbduA8kQ2+KCKJ7I4oW9kLTIo6bI3mD1qG8m6J1TdyNRXclYx6yBkZcntASBNHD9YD
 r0SvQIdvQQRIpRHLAiWLT2gSbeWEEUR2Gj72LBoiGXERWeLfnDMdex+f0H7LqBN+mp34
 tzR4VE5IlIjwJ0GZy9goik233IesAjQU6o6sXSHeK4Gyu8qgEhSbH42S6PptWBbSInMV
 ua3PTNvDmZRjSWHO0PSi2B9dzF1yXnvtDFLEISC1iLWf+pL8o/ipsD6opx85gWvMeE3R
 /m+w==
X-Gm-Message-State: AOJu0Yw9jmIAXXuJrt1GBhKjbMkJxHLFkn5hx/1QbK4P2pjpmkXh1Onm
 IBdReO8S1tSHIJjhc9cQP5AT+pXk7KtMOM4mmXJJ0LzDEVh2obEiRfXBMRwlWQfPE4Rhjw/gXMX
 1pjIBdEgvKSWSvbYwo1uv2mza8oQEfH+CSWivNIsHEc+jE1m90X3NBuGM
X-Google-Smtp-Source: AGHT+IEM2ccugMVLSQ8RQXr//P7LSQKrGZLPmuPRl3eYB8ceynvOFQvkMcSnuHlHDDEAFWr9+Iu+h/LJQeWs
X-Received: by 2002:a05:6e02:1c27:b0:369:ed5b:dd56 with SMTP id
 m7-20020a056e021c2700b00369ed5bdd56mr18533539ilh.17.1714423647194; 
 Mon, 29 Apr 2024 13:47:27 -0700 (PDT)
Received: from postal.iol.unh.edu (postal.iol.unh.edu.
 [2606:4100:3880:1234::84]) by smtp-relay.gmail.com with ESMTPS id
 g6-20020a92c7c6000000b0036b26f5a9ffsm1498222ilk.63.2024.04.29.13.47.27
 (version=TLS1_2 cipher=ECDHE-ECDSA-AES128-GCM-SHA256 bits=128/128);
 Mon, 29 Apr 2024 13:47:27 -0700 (PDT)
X-Relaying-Domain: iol.unh.edu
Date: Mon, 29 Apr 2024 13:47:27 -0700 (PDT)
Message-ID: <6630075f.920a0220.59490.710eSMTPIN_ADDED_MISSING@mx.google.com>
Received: from [172.21.0.7] (unknown [172.18.0.240])
 by postal.iol.unh.edu (Postfix) with ESMTP id C9E0E604D420;
 Mon, 29 Apr 2024 16:47:26 -0400 (EDT)
Subject: |SUCCESS| pw139725 [PATCH] [RFC] eal: make lcore_init aware of cgrou
From: dpdklab@iol.unh.edu
To: Test Report <test-report@dpdk.org>
Cc: dpdk-test-reports@iol.unh.edu
In-Reply-To: <20240429195342.42711-1-stephen@networkplumber.org>
References: <20240429195342.42711-1-stephen@networkplumber.org>
Content-Type: text/plain
X-BeenThere: test-report@dpdk.org
X-Mailman-Version: 2.1.29
Precedence: list
List-Id: automatic DPDK test reports <test-report.dpdk.org>
List-Unsubscribe: <https://mails.dpdk.org/options/test-report>,
 <mailto:test-report-request@dpdk.org?subject=unsubscribe>
List-Archive: <http://mails.dpdk.org/archives/test-report/>
List-Post: <mailto:test-report@dpdk.org>
List-Help: <mailto:test-report-request@dpdk.org?subject=help>
List-Subscribe: <https://mails.dpdk.org/listinfo/test-report>,
 <mailto:test-report-request@dpdk.org?subject=subscribe>
Errors-To: test-report-bounces@dpdk.org

Test-Label: iol-compile-arm64-testing
Test-Status: SUCCESS
http://dpdk.org/patch/139725

_Testing PASS_

Submitter: Stephen Hemminger <stephen@networkplumber.org>
Date: Monday, April 29 2024 19:52:25 
DPDK git baseline: Repo:dpdk
  Branch: master
  CommitID:7e06c0de1952d3109a5b0c4779d7e7d8059c9d78

139725 --> testing pass

Test environment and result as below:

+--------------------------+--------------------+
|       Environment        | dpdk_meson_compile |
+==========================+====================+
| Ubuntu 20.04 ARM SVE     | PASS               |
+--------------------------+--------------------+
| Debian 12 with MUSDK     | PASS               |
+--------------------------+--------------------+
| Fedora 38 (ARM)          | PASS               |
+--------------------------+--------------------+
| Debian 12 (arm)          | PASS               |
+--------------------------+--------------------+
| Fedora 37 (ARM)          | PASS               |
+--------------------------+--------------------+
| CentOS Stream 9 (ARM)    | PASS               |
+--------------------------+--------------------+
| Debian 11 (Buster) (ARM) | PASS               |
+--------------------------+--------------------+
| Ubuntu 20.04 (ARM)       | PASS               |
+--------------------------+--------------------+


Ubuntu 20.04 ARM SVE
	Kernel: 5.4.0-167-generic
	Compiler: gcc (Ubuntu 10.5.0-1ubuntu1~20.04) 10.5.0

Debian 12 with MUSDK
	Kernel: Container Host Kernel
	Compiler: gcc 12.2.0

Fedora 38 (ARM)
	Kernel: Depends on container host
	Compiler: gcc 13.2.1

Debian 12 (arm)
	Kernel: Container Host Kernel
	Compiler: gcc 12.2.0

Fedora 37 (ARM)
	Kernel: Depends on container host
	Compiler: gcc 12.3.1

CentOS Stream 9 (ARM)
	Kernel: Container Host Kernel
	Compiler: gcc 11.4.1

Debian 11 (Buster) (ARM)
	Kernel: Container Host Kernel
	Compiler: gcc 10.2.1

Ubuntu 20.04 (ARM)
	Kernel: Container Host Kernel
	Compiler: gcc 9.4.0

To view detailed results, visit:
https://lab.dpdk.org/results/dashboard/patchsets/29875/

UNH-IOL DPDK Community Lab

To manage your email subscriptions, visit: 
https://lab.dpdk.org/results/dashboard/preferences/subscriptions/