From mboxrd@z Thu Jan  1 00:00:00 1970
Return-Path: <test-report-bounces@dpdk.org>
Received: from mails.dpdk.org (mails.dpdk.org [217.70.189.124])
	by inbox.dpdk.org (Postfix) with ESMTP id E2DE743F4D
	for <public@inbox.dpdk.org>; Mon, 29 Apr 2024 22:48:21 +0200 (CEST)
Received: from mails.dpdk.org (localhost [127.0.0.1])
	by mails.dpdk.org (Postfix) with ESMTP id DD7FB402A3;
	Mon, 29 Apr 2024 22:48:21 +0200 (CEST)
Received: from mail-oo1-f97.google.com (mail-oo1-f97.google.com
 [209.85.161.97]) by mails.dpdk.org (Postfix) with ESMTP id 9FC204029C
 for <test-report@dpdk.org>; Mon, 29 Apr 2024 22:48:13 +0200 (CEST)
Received: by mail-oo1-f97.google.com with SMTP id
 006d021491bc7-5af3035825eso2454451eaf.0
 for <test-report@dpdk.org>; Mon, 29 Apr 2024 13:48:13 -0700 (PDT)
DKIM-Signature: v=1; a=rsa-sha256; c=relaxed/relaxed;
 d=iol.unh.edu; s=unh-iol; t=1714423693; x=1715028493; darn=dpdk.org;
 h=references:in-reply-to:cc:to:from:subject:message-id:date:from:to
 :cc:subject:date:message-id:reply-to;
 bh=VwK+TER31WEFSsL++0Zf3XvXHCmEuaVVJ444HM6R58I=;
 b=RhdEDArNSkCJi13N9Gr++KR7b1idFCZHOdv2cXrGkrdMUnNqpk//d24TdOUeM06y4W
 KEGGDO/Ne3XgT9nttdkykhPmAjY4lNRSMxE1NpVBCd7QNhCmegbOtki172a+UWgHfFG1
 4ACvLaP3+ZVh4Rh5JNcGHjF9/JexUr6zVwAoc=
X-Google-DKIM-Signature: v=1; a=rsa-sha256; c=relaxed/relaxed;
 d=1e100.net; s=20230601; t=1714423693; x=1715028493;
 h=references:in-reply-to:cc:to:from:subject:message-id:date
 :x-gm-message-state:from:to:cc:subject:date:message-id:reply-to;
 bh=VwK+TER31WEFSsL++0Zf3XvXHCmEuaVVJ444HM6R58I=;
 b=aI/YmyTy7gs4jA6fWJKYg2FehjHf/DQIeV6Jo5GjcPdyKRIq2DsMrOB8GLKTgOog/C
 tn2r9AQ5qsDy5C/URYrvNTenlV52xR7j98cAAkzu2o/JaddTab/zsihUwh1uR342JM9w
 PARAhmCjeUWExvlF9ovOKHhrF1ufKsiXKyZFUKEaPy6zH+vWhhXjkDNB5TJ+5ixdhPP4
 L5RkCVhsfDYTWAsv8NHq+uU1avhSY0C65BlDbdWO+1oSw9ZX50ZUkZ+JKZWaVvNVdkhd
 bCUt8NPxflT2ciFJ6TXOWteU2ExTpDhRfWfyZ3Tl2gVlB09hefR6Kpvrg7SXpAF3zaEA
 qM7Q==
X-Gm-Message-State: AOJu0Yw+tawUVbgvkfoQKVOuMaPxRlBXDATPpcLvmbXJhi0KG77TLzEd
 YsotkLyZ2yekG/Qs9/hI76qD73B3I0DEztfnvM5jivFs7SLOGKy6rkoXiw3/TguIKlpwFPExW4d
 wWXmDhFB2Luie0eX9wEbhLakh5a2S0a4I5WNUBENp85edOSc3XsFBgMx1
X-Google-Smtp-Source: AGHT+IEEYd5QCz4SOfpgNNtemF+FAFXrO9XH2wyIED5mC9+3O/OMU2uuLMI9/2HPGftwaV/DqtEB5bcRMqbc
X-Received: by 2002:a05:6871:1d6:b0:238:f9e5:195a with SMTP id
 q22-20020a05687101d600b00238f9e5195amr339353oad.23.1714423693084; 
 Mon, 29 Apr 2024 13:48:13 -0700 (PDT)
Received: from postal.iol.unh.edu (postal.iol.unh.edu.
 [2606:4100:3880:1234::84]) by smtp-relay.gmail.com with ESMTPS id
 w5-20020a056870854500b00220ba95201csm567411oaj.22.2024.04.29.13.48.12
 (version=TLS1_2 cipher=ECDHE-ECDSA-AES128-GCM-SHA256 bits=128/128);
 Mon, 29 Apr 2024 13:48:13 -0700 (PDT)
X-Relaying-Domain: iol.unh.edu
Date: Mon, 29 Apr 2024 13:48:13 -0700 (PDT)
Message-ID: <6630078d.050a0220.deb22.8957SMTPIN_ADDED_MISSING@mx.google.com>
Received: from [172.21.0.6] (unknown [172.18.0.240])
 by postal.iol.unh.edu (Postfix) with ESMTP id 8CA25604D420;
 Mon, 29 Apr 2024 16:48:12 -0400 (EDT)
Subject: |SUCCESS| pw139725 [PATCH] [RFC] eal: make lcore_init aware of cgrou
From: dpdklab@iol.unh.edu
To: Test Report <test-report@dpdk.org>
Cc: dpdk-test-reports@iol.unh.edu
In-Reply-To: <20240429195342.42711-1-stephen@networkplumber.org>
References: <20240429195342.42711-1-stephen@networkplumber.org>
Content-Type: text/plain
X-BeenThere: test-report@dpdk.org
X-Mailman-Version: 2.1.29
Precedence: list
List-Id: automatic DPDK test reports <test-report.dpdk.org>
List-Unsubscribe: <https://mails.dpdk.org/options/test-report>,
 <mailto:test-report-request@dpdk.org?subject=unsubscribe>
List-Archive: <http://mails.dpdk.org/archives/test-report/>
List-Post: <mailto:test-report@dpdk.org>
List-Help: <mailto:test-report-request@dpdk.org?subject=help>
List-Subscribe: <https://mails.dpdk.org/listinfo/test-report>,
 <mailto:test-report-request@dpdk.org?subject=subscribe>
Errors-To: test-report-bounces@dpdk.org

Test-Label: iol-compile-amd64-testing
Test-Status: SUCCESS
http://dpdk.org/patch/139725

_Testing PASS_

Submitter: Stephen Hemminger <stephen@networkplumber.org>
Date: Monday, April 29 2024 19:52:25 
DPDK git baseline: Repo:dpdk
  Branch: master
  CommitID:7e06c0de1952d3109a5b0c4779d7e7d8059c9d78

139725 --> testing pass

Test environment and result as below:

+---------------------+--------------------+-------------------+----------------------+
|     Environment     | dpdk_meson_compile | dpdk_msvc_compile | dpdk_mingw64_compile |
+=====================+====================+===================+======================+
| CentOS Stream 8     | PASS               | SKIPPED           | SKIPPED              |
+---------------------+--------------------+-------------------+----------------------+
| CentOS Stream 9     | PASS               | SKIPPED           | SKIPPED              |
+---------------------+--------------------+-------------------+----------------------+
| Debian Bullseye     | PASS               | SKIPPED           | SKIPPED              |
+---------------------+--------------------+-------------------+----------------------+
| Fedora 38           | PASS               | SKIPPED           | SKIPPED              |
+---------------------+--------------------+-------------------+----------------------+
| Fedora 37           | PASS               | SKIPPED           | SKIPPED              |
+---------------------+--------------------+-------------------+----------------------+
| FreeBSD 13.3        | PASS               | SKIPPED           | SKIPPED              |
+---------------------+--------------------+-------------------+----------------------+
| Debian 12           | PASS               | SKIPPED           | SKIPPED              |
+---------------------+--------------------+-------------------+----------------------+
| Windows Server 2022 | PASS               | PASS              | PASS                 |
+---------------------+--------------------+-------------------+----------------------+
| Fedora 39           | PASS               | SKIPPED           | SKIPPED              |
+---------------------+--------------------+-------------------+----------------------+
| Windows Server 2019 | PASS               | SKIPPED           | PASS                 |
+---------------------+--------------------+-------------------+----------------------+
| openSUSE Leap 15    | PASS               | SKIPPED           | SKIPPED              |
+---------------------+--------------------+-------------------+----------------------+


CentOS Stream 8
	Kernel: 5.4.0-167-generic
	Compiler: gcc 8.5.0 20210514

CentOS Stream 9
	Kernel: 5.4.0-167-generic
	Compiler: gcc 11.4.1 20230605

Debian Bullseye
	Kernel: 5.4.0-167-generic
	Compiler: gcc 10.2.1-6

Fedora 38
	Kernel: Depends on container host
	Compiler: gcc 13.2.1

Fedora 37
	Kernel: Depends on container host system
	Compiler: gcc 12.3.1

FreeBSD 13.3
	Kernel: 13.3-RELEASE-p1
	Compiler: clang 17.0.6

Debian 12
	Kernel: Container Host Kernel
	Compiler: gcc 10.2.1

Windows Server 2022
	Kernel: 10.0.20348.2031
	Compiler: clang 15.0.7, gcc 8.1.0 (MinGW), and MSVC VS 17.9

Fedora 39
	Kernel: Depends on container host
	Compiler: gcc 13.2.1

Windows Server 2019
	Kernel: 10.0.17763
	Compiler: clang 14.0 and gcc 8.1.0 (MinGW)

openSUSE Leap 15
	Kernel: 5.4.0-167-generic
	Compiler: gcc 7.5.0

To view detailed results, visit:
https://lab.dpdk.org/results/dashboard/patchsets/29875/

UNH-IOL DPDK Community Lab

To manage your email subscriptions, visit: 
https://lab.dpdk.org/results/dashboard/preferences/subscriptions/