From mboxrd@z Thu Jan  1 00:00:00 1970
Return-Path: <test-report-bounces@dpdk.org>
Received: from mails.dpdk.org (mails.dpdk.org [217.70.189.124])
	by inbox.dpdk.org (Postfix) with ESMTP id C709743F3A
	for <public@inbox.dpdk.org>; Tue, 30 Apr 2024 12:48:02 +0200 (CEST)
Received: from mails.dpdk.org (localhost [127.0.0.1])
	by mails.dpdk.org (Postfix) with ESMTP id C31494025C;
	Tue, 30 Apr 2024 12:48:02 +0200 (CEST)
Received: from mail-il1-f225.google.com (mail-il1-f225.google.com
 [209.85.166.225])
 by mails.dpdk.org (Postfix) with ESMTP id 2E7ED400EF
 for <test-report@dpdk.org>; Tue, 30 Apr 2024 12:48:01 +0200 (CEST)
Received: by mail-il1-f225.google.com with SMTP id
 e9e14a558f8ab-36c4edfb18aso7287835ab.3
 for <test-report@dpdk.org>; Tue, 30 Apr 2024 03:48:01 -0700 (PDT)
DKIM-Signature: v=1; a=rsa-sha256; c=relaxed/relaxed;
 d=iol.unh.edu; s=unh-iol; t=1714474080; x=1715078880; darn=dpdk.org;
 h=references:in-reply-to:cc:to:from:subject:message-id:date:from:to
 :cc:subject:date:message-id:reply-to;
 bh=/iigoiiPSDf5XPBi3zyG7jfrkFrr4lSfRtQRjJEdDyw=;
 b=a3efjDr6L7oXuW4LPqVLzcS3xGtJTlC2fvT7gEVzy5XisDun/Q3HTEVkwS4mp0m3qi
 myFlDmq/tPrx2G7oIvXTCXCC30cGEsfeRbTVWk6QsVqfrX/dFSdzdMRNFWcVQXtHkzch
 hozwZ6TTOZWgszCklDZbfB4MF8vogU/s7buEA=
X-Google-DKIM-Signature: v=1; a=rsa-sha256; c=relaxed/relaxed;
 d=1e100.net; s=20230601; t=1714474080; x=1715078880;
 h=references:in-reply-to:cc:to:from:subject:message-id:date
 :x-gm-message-state:from:to:cc:subject:date:message-id:reply-to;
 bh=/iigoiiPSDf5XPBi3zyG7jfrkFrr4lSfRtQRjJEdDyw=;
 b=F99sjaerOX281Settu+SW/zFVaFDcFyhhKducMBhgKNtxDfe2XChPjwFpV8cOqFZgs
 nYrDzUPqExkznuvwKvFYGdP7FXRVV3AaiL11Dt/IBFPox1xRm1Q7LG3jMzePd4r7A0mw
 s+h9Kugj6JWSvfcFHqHFr/gSyBFtdv2tGAgGgAwiWI4BZ8cE+1uari/4Gc1+PPegdj5w
 67b3paDa35duVoQU8L83dHKjkZ1uLuBChnb1grpPISxSLA/7KTT5cqrakb9WDdxnOYYu
 /DI8zk0sQJ1wAputM+ZxM3Bdy/E7mUsTigkHZLjCDKeQ0mIQjoiVTQwlmngv1rz2YIXx
 jWow==
X-Gm-Message-State: AOJu0Yx4BDlk3RyCatJuPlJaC1lg5GVzY0TsfZhIU6W9PWLggfnN1mCU
 XLZoPEbynMhKNZgHrH7m+qRNEzUXMe9tmaDGEi3m2pWlTHGIoYoiI0+7vmLHXFhDtI6K3JRPBcb
 sAJ6c+m3uO4wEEC0ZsbpSRvGGRVDH/A39FYjQcpnN
X-Google-Smtp-Source: AGHT+IFzlTr3L2XDm2nBN5QFBbYrvnVz6MmGmHzoM+WiGl46HLmDrJKrkx2osaiegbZE8GLmy/DqqwOUfOBt
X-Received: by 2002:a05:6e02:1523:b0:36c:4b24:9890 with SMTP id
 i3-20020a056e02152300b0036c4b249890mr9134106ilu.25.1714474080616; 
 Tue, 30 Apr 2024 03:48:00 -0700 (PDT)
Received: from postal.iol.unh.edu (postal.iol.unh.edu. [132.177.123.84])
 by smtp-relay.gmail.com with ESMTPS id
 m18-20020a056638271200b00487c57f5907sm403559jav.65.2024.04.30.03.48.00
 (version=TLS1_2 cipher=ECDHE-ECDSA-AES128-GCM-SHA256 bits=128/128);
 Tue, 30 Apr 2024 03:48:00 -0700 (PDT)
X-Relaying-Domain: iol.unh.edu
Date: Tue, 30 Apr 2024 03:48:00 -0700 (PDT)
Message-ID: <6630cc60.050a0220.6ce39.dd2aSMTPIN_ADDED_MISSING@mx.google.com>
Received: from [172.21.0.6] (unknown [172.18.0.240])
 by postal.iol.unh.edu (Postfix) with ESMTP id 3BDAE604D420;
 Tue, 30 Apr 2024 06:48:00 -0400 (EDT)
Subject: |SUCCESS| pw139727-139731 [PATCH] [RFC,v4,6/6] eal: add unit tests f
From: dpdklab@iol.unh.edu
To: Test Report <test-report@dpdk.org>
Cc: dpdk-test-reports@iol.unh.edu
In-Reply-To: <20240430095523.108688-7-mattias.ronnblom@ericsson.com>
References: <20240430095523.108688-7-mattias.ronnblom@ericsson.com>
Content-Type: text/plain
X-BeenThere: test-report@dpdk.org
X-Mailman-Version: 2.1.29
Precedence: list
List-Id: automatic DPDK test reports <test-report.dpdk.org>
List-Unsubscribe: <https://mails.dpdk.org/options/test-report>,
 <mailto:test-report-request@dpdk.org?subject=unsubscribe>
List-Archive: <http://mails.dpdk.org/archives/test-report/>
List-Post: <mailto:test-report@dpdk.org>
List-Help: <mailto:test-report-request@dpdk.org?subject=help>
List-Subscribe: <https://mails.dpdk.org/listinfo/test-report>,
 <mailto:test-report-request@dpdk.org?subject=subscribe>
Errors-To: test-report-bounces@dpdk.org

Test-Label: iol-compile-amd64-testing
Test-Status: SUCCESS
http://dpdk.org/patch/139731

_Testing PASS_

Submitter: Mattias Ronnblom <mattias.ronnblom@ericsson.com>
Date: Tuesday, April 30 2024 09:55:23 
DPDK git baseline: Repo:dpdk
  Branch: master
  CommitID:7e06c0de1952d3109a5b0c4779d7e7d8059c9d78

139727-139731 --> testing pass

Test environment and result as below:

+---------------------+--------------------+----------------------+-------------------+
|     Environment     | dpdk_meson_compile | dpdk_mingw64_compile | dpdk_msvc_compile |
+=====================+====================+======================+===================+
| Windows Server 2019 | PASS               | PASS                 | SKIPPED           |
+---------------------+--------------------+----------------------+-------------------+
| Windows Server 2022 | PASS               | PASS                 | PASS              |
+---------------------+--------------------+----------------------+-------------------+
| FreeBSD 13.3        | PASS               | SKIPPED              | SKIPPED           |
+---------------------+--------------------+----------------------+-------------------+


Windows Server 2019
	Kernel: 10.0.17763
	Compiler: clang 14.0 and gcc 8.1.0 (MinGW)

Windows Server 2022
	Kernel: 10.0.20348.2031
	Compiler: clang 15.0.7, gcc 8.1.0 (MinGW), and MSVC VS 17.9

FreeBSD 13.3
	Kernel: 13.3-RELEASE-p1
	Compiler: clang 17.0.6

To view detailed results, visit:
https://lab.dpdk.org/results/dashboard/patchsets/29877/

UNH-IOL DPDK Community Lab

To manage your email subscriptions, visit: 
https://lab.dpdk.org/results/dashboard/preferences/subscriptions/