From mboxrd@z Thu Jan  1 00:00:00 1970
Return-Path: <test-report-bounces@dpdk.org>
Received: from mails.dpdk.org (mails.dpdk.org [217.70.189.124])
	by inbox.dpdk.org (Postfix) with ESMTP id 4BEF543F3A
	for <public@inbox.dpdk.org>; Tue, 30 Apr 2024 13:19:46 +0200 (CEST)
Received: from mails.dpdk.org (localhost [127.0.0.1])
	by mails.dpdk.org (Postfix) with ESMTP id 403D94025C;
	Tue, 30 Apr 2024 13:19:46 +0200 (CEST)
Received: from mail-il1-f227.google.com (mail-il1-f227.google.com
 [209.85.166.227])
 by mails.dpdk.org (Postfix) with ESMTP id 4BE2C400EF
 for <test-report@dpdk.org>; Tue, 30 Apr 2024 13:19:45 +0200 (CEST)
Received: by mail-il1-f227.google.com with SMTP id
 e9e14a558f8ab-36c5d26045bso917865ab.0
 for <test-report@dpdk.org>; Tue, 30 Apr 2024 04:19:45 -0700 (PDT)
DKIM-Signature: v=1; a=rsa-sha256; c=relaxed/relaxed;
 d=iol.unh.edu; s=unh-iol; t=1714475984; x=1715080784; darn=dpdk.org;
 h=references:in-reply-to:cc:to:from:subject:message-id:date:from:to
 :cc:subject:date:message-id:reply-to;
 bh=iJibzUFQ77pvATMOTOVgvaa5kf3iyprGH6tgBc+/Pvg=;
 b=Y5oxThD4kI4uCG4jC2FndWDlsPKDI9KR07Va8kLSrsXzQ2qcgqh6OSbu7PxXr3AzYh
 6D2U4xyLsR9cAvlUht/aXyBPspMBVC67NyUkZSOPorCtR35hg6XH566XXgxu67/9Paav
 gthZk7Yk4flvBGjlRdoZb2zWhaoNGcsnsH36c=
X-Google-DKIM-Signature: v=1; a=rsa-sha256; c=relaxed/relaxed;
 d=1e100.net; s=20230601; t=1714475984; x=1715080784;
 h=references:in-reply-to:cc:to:from:subject:message-id:date
 :x-gm-message-state:from:to:cc:subject:date:message-id:reply-to;
 bh=iJibzUFQ77pvATMOTOVgvaa5kf3iyprGH6tgBc+/Pvg=;
 b=lU0954OVELJJMqfSkYgqrQ49L7teS3Z9/+C+sHigXkN+bH+rwQJnYl/dnLazU08fgC
 Z+Nd3qnEj/kysrbQm/FSxv0aEdnLPtMtbTOPoycg5r7hUxv75/0BCq4M7lNebgK1tR5u
 HQASNlMV6uoAfXtWjAD/h62P4nU2jdf92Vj5MhVU/0rineWBipCCuXB9fj8JXQlE8FPq
 y15i+EH3Dt5JdxdHVa9o6Q6qDOlTCsfk7JcM/iCdRvHRiAcfCaalkK2VsX9DbxlzEprz
 i86POBth1FvOumOe4AHqgvqBCiIiKobFW2Sbc0WnHxXoD6uYtxYAS3/MTukR28BQiJxl
 otrA==
X-Gm-Message-State: AOJu0YwkcQFT3SvnFaN5QJIeGY6mCqHwYOJ70KCZPEaiaptRrkzMl0/z
 Bu5NmJCmWHPScemdEmXgKgDEvqnlZFmDJapd6BM0VahMe2cCh6mVLaeuD45Ul93ngHLHEzYubEY
 xyd55Glkd/TQowyPBajUfQWcZ1q+p/NR7+91MhWZah6c07PUnBiBhRl7Y
X-Google-Smtp-Source: AGHT+IE69X/pYaFnC66z6AdiEwgcFvLBawu3ttFx8K/ksCndEGpoBXXERN6JrslJbTp87ayE57eFKxlwbrQK
X-Received: by 2002:a92:c9cd:0:b0:36c:3827:58c8 with SMTP id
 k13-20020a92c9cd000000b0036c382758c8mr12100549ilq.5.1714475984695; 
 Tue, 30 Apr 2024 04:19:44 -0700 (PDT)
Received: from postal.iol.unh.edu (postal.iol.unh.edu.
 [2606:4100:3880:1234::84]) by smtp-relay.gmail.com with ESMTPS id
 f8-20020a056e02168800b0036c50d8efbcsm322176ila.9.2024.04.30.04.19.44
 (version=TLS1_2 cipher=ECDHE-ECDSA-AES128-GCM-SHA256 bits=128/128);
 Tue, 30 Apr 2024 04:19:44 -0700 (PDT)
X-Relaying-Domain: iol.unh.edu
Date: Tue, 30 Apr 2024 04:19:44 -0700 (PDT)
Message-ID: <6630d3d0.050a0220.8d100.ac50SMTPIN_ADDED_MISSING@mx.google.com>
Received: from [172.21.0.6] (unknown [172.18.0.240])
 by postal.iol.unh.edu (Postfix) with ESMTP id 39030604D420;
 Tue, 30 Apr 2024 07:19:44 -0400 (EDT)
Subject: |SUCCESS| pw139727-139731 [PATCH] [RFC,v4,6/6] eal: add unit tests f
From: dpdklab@iol.unh.edu
To: Test Report <test-report@dpdk.org>
Cc: dpdk-test-reports@iol.unh.edu
In-Reply-To: <20240430095523.108688-7-mattias.ronnblom@ericsson.com>
References: <20240430095523.108688-7-mattias.ronnblom@ericsson.com>
Content-Type: text/plain
X-BeenThere: test-report@dpdk.org
X-Mailman-Version: 2.1.29
Precedence: list
List-Id: automatic DPDK test reports <test-report.dpdk.org>
List-Unsubscribe: <https://mails.dpdk.org/options/test-report>,
 <mailto:test-report-request@dpdk.org?subject=unsubscribe>
List-Archive: <http://mails.dpdk.org/archives/test-report/>
List-Post: <mailto:test-report@dpdk.org>
List-Help: <mailto:test-report-request@dpdk.org?subject=help>
List-Subscribe: <https://mails.dpdk.org/listinfo/test-report>,
 <mailto:test-report-request@dpdk.org?subject=subscribe>
Errors-To: test-report-bounces@dpdk.org

Test-Label: iol-compile-amd64-testing
Test-Status: SUCCESS
http://dpdk.org/patch/139731

_Testing PASS_

Submitter: Mattias Ronnblom <mattias.ronnblom@ericsson.com>
Date: Tuesday, April 30 2024 09:55:23 
DPDK git baseline: Repo:dpdk
  Branch: master
  CommitID:7e06c0de1952d3109a5b0c4779d7e7d8059c9d78

139727-139731 --> testing pass

Test environment and result as below:

+---------------------+--------------------+----------------------+-------------------+
|     Environment     | dpdk_meson_compile | dpdk_mingw64_compile | dpdk_msvc_compile |
+=====================+====================+======================+===================+
| Windows Server 2019 | PASS               | PASS                 | SKIPPED           |
+---------------------+--------------------+----------------------+-------------------+
| Windows Server 2022 | PASS               | PASS                 | PASS              |
+---------------------+--------------------+----------------------+-------------------+
| FreeBSD 13.3        | PASS               | SKIPPED              | SKIPPED           |
+---------------------+--------------------+----------------------+-------------------+
| Debian Bullseye     | PASS               | SKIPPED              | SKIPPED           |
+---------------------+--------------------+----------------------+-------------------+
| Debian 12           | PASS               | SKIPPED              | SKIPPED           |
+---------------------+--------------------+----------------------+-------------------+
| CentOS Stream 8     | PASS               | SKIPPED              | SKIPPED           |
+---------------------+--------------------+----------------------+-------------------+
| CentOS Stream 9     | PASS               | SKIPPED              | SKIPPED           |
+---------------------+--------------------+----------------------+-------------------+
| Fedora 39           | PASS               | SKIPPED              | SKIPPED           |
+---------------------+--------------------+----------------------+-------------------+
| Fedora 38           | PASS               | SKIPPED              | SKIPPED           |
+---------------------+--------------------+----------------------+-------------------+


Windows Server 2019
	Kernel: 10.0.17763
	Compiler: clang 14.0 and gcc 8.1.0 (MinGW)

Windows Server 2022
	Kernel: 10.0.20348.2031
	Compiler: clang 15.0.7, gcc 8.1.0 (MinGW), and MSVC VS 17.9

FreeBSD 13.3
	Kernel: 13.3-RELEASE-p1
	Compiler: clang 17.0.6

Debian Bullseye
	Kernel: 5.4.0-167-generic
	Compiler: gcc 10.2.1-6

Debian 12
	Kernel: Container Host Kernel
	Compiler: gcc 10.2.1

CentOS Stream 8
	Kernel: 5.4.0-167-generic
	Compiler: gcc 8.5.0 20210514

CentOS Stream 9
	Kernel: 5.4.0-167-generic
	Compiler: gcc 11.4.1 20230605

Fedora 39
	Kernel: Depends on container host
	Compiler: clang 17.0.6

Fedora 38
	Kernel: Depends on container host
	Compiler: clang 16.0.6

To view detailed results, visit:
https://lab.dpdk.org/results/dashboard/patchsets/29877/

UNH-IOL DPDK Community Lab

To manage your email subscriptions, visit: 
https://lab.dpdk.org/results/dashboard/preferences/subscriptions/