From mboxrd@z Thu Jan  1 00:00:00 1970
Return-Path: <test-report-bounces@dpdk.org>
Received: from mails.dpdk.org (mails.dpdk.org [217.70.189.124])
	by inbox.dpdk.org (Postfix) with ESMTP id DF75443F54
	for <public@inbox.dpdk.org>; Tue, 30 Apr 2024 15:06:37 +0200 (CEST)
Received: from mails.dpdk.org (localhost [127.0.0.1])
	by mails.dpdk.org (Postfix) with ESMTP id D88344025C;
	Tue, 30 Apr 2024 15:06:37 +0200 (CEST)
Received: from mail-il1-f226.google.com (mail-il1-f226.google.com
 [209.85.166.226])
 by mails.dpdk.org (Postfix) with ESMTP id 3203E400EF
 for <test-report@dpdk.org>; Tue, 30 Apr 2024 15:06:37 +0200 (CEST)
Received: by mail-il1-f226.google.com with SMTP id
 e9e14a558f8ab-36b146836d7so23002395ab.3
 for <test-report@dpdk.org>; Tue, 30 Apr 2024 06:06:37 -0700 (PDT)
DKIM-Signature: v=1; a=rsa-sha256; c=relaxed/relaxed;
 d=iol.unh.edu; s=unh-iol; t=1714482396; x=1715087196; darn=dpdk.org;
 h=references:in-reply-to:cc:to:from:subject:message-id:date:from:to
 :cc:subject:date:message-id:reply-to;
 bh=qCaITMEHOegEnACHmLBPTZWlmoDV6oQjhdNSgMaz2S0=;
 b=YbC/Cv0+DJrBSFvqz4fwV+kS5FFdwc7bEl4DwXUwGl/OmqplT7yIED/EonCVvcIJnW
 gTPMnRiIEmSYH40Ar3RLZRmW4kxkVPvUn2D2bZ4VdF4o8s2V0elJOKl+MnnW/PBRU8Fj
 AWo7O4cGaQPOPT+95q16Czr8tL80NVQy2ONYM=
X-Google-DKIM-Signature: v=1; a=rsa-sha256; c=relaxed/relaxed;
 d=1e100.net; s=20230601; t=1714482396; x=1715087196;
 h=references:in-reply-to:cc:to:from:subject:message-id:date
 :x-gm-message-state:from:to:cc:subject:date:message-id:reply-to;
 bh=qCaITMEHOegEnACHmLBPTZWlmoDV6oQjhdNSgMaz2S0=;
 b=Lai/tfDPcUpOEMz/wPPrMnT8yIC4/hhT77aBnu2jIdLQmzjhsagjU8+sqpH0q1NrpL
 sjJAXXNEbxJt5t8g9kwWMVueslyYQp2ICcnvllehHZCEDqaRdMoSguUknzDgPOXfrUUP
 w21A5FeIaerKxP1kcaSmv2NR5Xz6Ho82/Rpm37nx7J6xnME1kNkqmqRumB1wTx1t2AyU
 lEWHDB77sagi1D7UffC51WFODusbktsJDHJutMznUW3PEQEenLx5NeThvyJRyvCzZPWF
 T2CPAJVEtiowkTYXZfsuMppCuir0n2MfMIcmT5a0pwT5qtrTI0OC16tzhcHcUDj/mjdQ
 0fXg==
X-Gm-Message-State: AOJu0YwCGE7dUa7QFhEIe3QheUS+L5lnWMLxTE1Oa5t+xrfyoMNzQ5jE
 yuhdHkMgujKBAIEuA4yvWTgBjtyh9fcf0oe8zVym6LOYrsBzRdpLBRPuxQuU91RpXdh2pSlMuHE
 dLdNgavbuuF6UBV6jG8ROZq4upFdfnfLgU4E6ogTi
X-Google-Smtp-Source: AGHT+IG+lyuSPTcrRuTHuydGI8PUIvdO6ISpiba7M2XwrU84KTeZcrhlT2ZcLK5/4B1pXR1N3+Da7TPhWFUT
X-Received: by 2002:a05:6e02:1564:b0:36c:4c81:424c with SMTP id
 k4-20020a056e02156400b0036c4c81424cmr7889241ilu.0.1714482396554; 
 Tue, 30 Apr 2024 06:06:36 -0700 (PDT)
Received: from postal.iol.unh.edu (postal.iol.unh.edu. [132.177.123.84])
 by smtp-relay.gmail.com with ESMTPS id
 o7-20020a92c047000000b00368737f7a81sm1535631ilf.41.2024.04.30.06.06.36
 (version=TLS1_2 cipher=ECDHE-ECDSA-AES128-GCM-SHA256 bits=128/128);
 Tue, 30 Apr 2024 06:06:36 -0700 (PDT)
X-Relaying-Domain: iol.unh.edu
Date: Tue, 30 Apr 2024 06:06:36 -0700 (PDT)
Message-ID: <6630ecdc.920a0220.7b3a1.7535SMTPIN_ADDED_MISSING@mx.google.com>
Received: from [172.21.0.6] (unknown [172.18.0.240])
 by postal.iol.unh.edu (Postfix) with ESMTP id 25058604D420;
 Tue, 30 Apr 2024 09:06:36 -0400 (EDT)
Subject: |SUCCESS| pw139737-139738 [PATCH] [RFC,v5,6/6] eal: add unit tests f
From: dpdklab@iol.unh.edu
To: Test Report <test-report@dpdk.org>
Cc: dpdk-test-reports@iol.unh.edu
In-Reply-To: <20240430120810.108928-7-mattias.ronnblom@ericsson.com>
References: <20240430120810.108928-7-mattias.ronnblom@ericsson.com>
Content-Type: text/plain
X-BeenThere: test-report@dpdk.org
X-Mailman-Version: 2.1.29
Precedence: list
List-Id: automatic DPDK test reports <test-report.dpdk.org>
List-Unsubscribe: <https://mails.dpdk.org/options/test-report>,
 <mailto:test-report-request@dpdk.org?subject=unsubscribe>
List-Archive: <http://mails.dpdk.org/archives/test-report/>
List-Post: <mailto:test-report@dpdk.org>
List-Help: <mailto:test-report-request@dpdk.org?subject=help>
List-Subscribe: <https://mails.dpdk.org/listinfo/test-report>,
 <mailto:test-report-request@dpdk.org?subject=subscribe>
Errors-To: test-report-bounces@dpdk.org

Test-Label: iol-compile-amd64-testing
Test-Status: SUCCESS
http://dpdk.org/patch/139738

_Testing PASS_

Submitter: Mattias Ronnblom <mattias.ronnblom@ericsson.com>
Date: Tuesday, April 30 2024 12:08:10 
DPDK git baseline: Repo:dpdk
  Branch: master
  CommitID:7e06c0de1952d3109a5b0c4779d7e7d8059c9d78

139737-139738 --> testing pass

Test environment and result as below:

+---------------------+--------------------+----------------------+-------------------+
|     Environment     | dpdk_meson_compile | dpdk_mingw64_compile | dpdk_msvc_compile |
+=====================+====================+======================+===================+
| Windows Server 2019 | PASS               | PASS                 | SKIPPED           |
+---------------------+--------------------+----------------------+-------------------+
| Windows Server 2022 | PASS               | PASS                 | PASS              |
+---------------------+--------------------+----------------------+-------------------+
| FreeBSD 13.3        | PASS               | SKIPPED              | SKIPPED           |
+---------------------+--------------------+----------------------+-------------------+


Windows Server 2019
	Kernel: 10.0.17763
	Compiler: clang 14.0 and gcc 8.1.0 (MinGW)

Windows Server 2022
	Kernel: 10.0.20348.2031
	Compiler: clang 15.0.7, gcc 8.1.0 (MinGW), and MSVC VS 17.9

FreeBSD 13.3
	Kernel: 13.3-RELEASE-p1
	Compiler: clang 17.0.6

To view detailed results, visit:
https://lab.dpdk.org/results/dashboard/patchsets/29878/

UNH-IOL DPDK Community Lab

To manage your email subscriptions, visit: 
https://lab.dpdk.org/results/dashboard/preferences/subscriptions/