From mboxrd@z Thu Jan  1 00:00:00 1970
Return-Path: <test-report-bounces@dpdk.org>
Received: from mails.dpdk.org (mails.dpdk.org [217.70.189.124])
	by inbox.dpdk.org (Postfix) with ESMTP id A592343F54
	for <public@inbox.dpdk.org>; Tue, 30 Apr 2024 15:17:19 +0200 (CEST)
Received: from mails.dpdk.org (localhost [127.0.0.1])
	by mails.dpdk.org (Postfix) with ESMTP id 9F6AB4025C;
	Tue, 30 Apr 2024 15:17:19 +0200 (CEST)
Received: from mail-oo1-f97.google.com (mail-oo1-f97.google.com
 [209.85.161.97]) by mails.dpdk.org (Postfix) with ESMTP id C2749400EF
 for <test-report@dpdk.org>; Tue, 30 Apr 2024 15:17:17 +0200 (CEST)
Received: by mail-oo1-f97.google.com with SMTP id
 006d021491bc7-5afb498d9faso768099eaf.2
 for <test-report@dpdk.org>; Tue, 30 Apr 2024 06:17:17 -0700 (PDT)
DKIM-Signature: v=1; a=rsa-sha256; c=relaxed/relaxed;
 d=iol.unh.edu; s=unh-iol; t=1714483037; x=1715087837; darn=dpdk.org;
 h=references:in-reply-to:cc:to:from:subject:message-id:date:from:to
 :cc:subject:date:message-id:reply-to;
 bh=3BHheHs/w1BIU1PkHsbbZPwHM2cQqXDzZwDNJEb4TNw=;
 b=Erc+q+0yS+j7P2CMk0tjm/jjKqLLiV3JEPLo264Ts0/l7627vR27R0ntr4NweFyzR+
 iMB4GEu29jWm2LyL1Fp6XXlK8UvbL9DmOAptPBPWIbqdircnAG/NIuApDYmfG7ELlfY9
 iJvbtFOoUQaXLnqqDHa9k/S4O01Zz9/mNwcRg=
X-Google-DKIM-Signature: v=1; a=rsa-sha256; c=relaxed/relaxed;
 d=1e100.net; s=20230601; t=1714483037; x=1715087837;
 h=references:in-reply-to:cc:to:from:subject:message-id:date
 :x-gm-message-state:from:to:cc:subject:date:message-id:reply-to;
 bh=3BHheHs/w1BIU1PkHsbbZPwHM2cQqXDzZwDNJEb4TNw=;
 b=HsYy0JDPGU5nkV9hkvGPe1tmY6ih6n3QnR4TXg0/bcCr5k2WhQ2ffnQMf2JZyd2gX8
 BBoD/TStheav73zDejhMfCtLS9j+V5DytKCI7UZAEKB0IFaOrJ9/rF/VaXJbaYj9qfOl
 VX13Px1BT67JXwOVKm9/9C+lObNh0NPwlV6WQ5UaZNpMVAXT4ZNehKk4Le66Y8HqN8g2
 nyT3mpoGtFOjq7Ue4pj9+G1y+BF7Lc9HxgEIspBejVoRIbrBbO9aXRL3mBr/bJp7cWcM
 qE8dSm8HH9RCowKE58rcdmoyQ9LreGjcvJeCYNYI/++ekl4WPfm09TpO4tuwEeOZK18c
 g2kg==
X-Gm-Message-State: AOJu0YxuHQCmQYmmZbEJrltQc52LHBRJX5H8uzmGjjml+sdTaOmKS4Bl
 7Zo1nlIXRSgCKb6TSF5Qy560IUwLLFLjUdLrf7oD3P1H/bPdvVjZpg8Kh4/dF8T6X3slQIn7eBw
 WISZXp3ZX0Bbgwl1fxnvMVpKYwVRY7txbOChSGhUbVQoo3fsUQdBRrIrU
X-Google-Smtp-Source: AGHT+IED/Z8E2BZjR/dI8+7EU331i0hTRFErfsU6qkp3sredIhnJtMxf+5PFYOgm7lep/2ycUbyddG968N1M
X-Received: by 2002:a4a:9886:0:b0:5a4:aea7:8066 with SMTP id
 a6-20020a4a9886000000b005a4aea78066mr14604014ooj.5.1714483037078; 
 Tue, 30 Apr 2024 06:17:17 -0700 (PDT)
Received: from postal.iol.unh.edu (postal.iol.unh.edu.
 [2606:4100:3880:1234::84]) by smtp-relay.gmail.com with ESMTPS id
 7-20020a4a0007000000b005afbf7b2274sm255401ooh.2.2024.04.30.06.17.16
 (version=TLS1_2 cipher=ECDHE-ECDSA-AES128-GCM-SHA256 bits=128/128);
 Tue, 30 Apr 2024 06:17:17 -0700 (PDT)
X-Relaying-Domain: iol.unh.edu
Date: Tue, 30 Apr 2024 06:17:17 -0700 (PDT)
Message-ID: <6630ef5d.4a0a0220.db6c2.8f82SMTPIN_ADDED_MISSING@mx.google.com>
Received: from [172.21.0.6] (unknown [172.18.0.240])
 by postal.iol.unh.edu (Postfix) with ESMTP id 8A4DB604D420;
 Tue, 30 Apr 2024 09:17:16 -0400 (EDT)
Subject: |SUCCESS| pw139737-139738 [PATCH] [RFC,v5,6/6] eal: add unit tests f
From: dpdklab@iol.unh.edu
To: Test Report <test-report@dpdk.org>
Cc: dpdk-test-reports@iol.unh.edu
In-Reply-To: <20240430120810.108928-7-mattias.ronnblom@ericsson.com>
References: <20240430120810.108928-7-mattias.ronnblom@ericsson.com>
Content-Type: text/plain
X-BeenThere: test-report@dpdk.org
X-Mailman-Version: 2.1.29
Precedence: list
List-Id: automatic DPDK test reports <test-report.dpdk.org>
List-Unsubscribe: <https://mails.dpdk.org/options/test-report>,
 <mailto:test-report-request@dpdk.org?subject=unsubscribe>
List-Archive: <http://mails.dpdk.org/archives/test-report/>
List-Post: <mailto:test-report@dpdk.org>
List-Help: <mailto:test-report-request@dpdk.org?subject=help>
List-Subscribe: <https://mails.dpdk.org/listinfo/test-report>,
 <mailto:test-report-request@dpdk.org?subject=subscribe>
Errors-To: test-report-bounces@dpdk.org

Test-Label: iol-abi-testing
Test-Status: SUCCESS
http://dpdk.org/patch/139738

_Testing PASS_

Submitter: Mattias Ronnblom <mattias.ronnblom@ericsson.com>
Date: Tuesday, April 30 2024 12:08:10 
DPDK git baseline: Repo:dpdk
  Branch: master
  CommitID:7e06c0de1952d3109a5b0c4779d7e7d8059c9d78

139737-139738 --> testing pass

Test environment and result as below:

+------------------+----------+
|   Environment    | abi_test |
+==================+==========+
| CentOS Stream 8  | PASS     |
+------------------+----------+
| Fedora 38        | PASS     |
+------------------+----------+
| Fedora 39        | PASS     |
+------------------+----------+
| openSUSE Leap 15 | PASS     |
+------------------+----------+
| Fedora 37        | PASS     |
+------------------+----------+
| RHEL8            | PASS     |
+------------------+----------+
| Debian Bullseye  | PASS     |
+------------------+----------+
| CentOS Stream 9  | PASS     |
+------------------+----------+
| Ubuntu 22.04     | PASS     |
+------------------+----------+


CentOS Stream 8
	Kernel: 5.4.0-167-generic
	Compiler: gcc 8.5.0 20210514

Fedora 38
	Kernel: Depends on container host
	Compiler: clang 16.0.6

Fedora 39
	Kernel: Depends on container host
	Compiler: clang 17.0.6

openSUSE Leap 15
	Kernel: 5.4.0-167-generic
	Compiler: gcc 7.5.0

Fedora 37
	Kernel: Depends on container host system
	Compiler: gcc 12.3.1

RHEL8
	Kernel: 5.4.0-167-generic
	Compiler: gcc 8.5.0 20210514 (Red Hat 8.5.0-20)

Debian Bullseye
	Kernel: 5.4.0-167-generic
	Compiler: gcc 10.2.1-6

CentOS Stream 9
	Kernel: 5.4.0-167-generic
	Compiler: gcc 11.4.1 20230605

Ubuntu 22.04
	Kernel: 5.4.0-167-generic
	Compiler: gcc 11.4.0

To view detailed results, visit:
https://lab.dpdk.org/results/dashboard/patchsets/29878/

UNH-IOL DPDK Community Lab

To manage your email subscriptions, visit: 
https://lab.dpdk.org/results/dashboard/preferences/subscriptions/