From mboxrd@z Thu Jan  1 00:00:00 1970
Return-Path: <test-report-bounces@dpdk.org>
Received: from mails.dpdk.org (mails.dpdk.org [217.70.189.124])
	by inbox.dpdk.org (Postfix) with ESMTP id 72BD043F54
	for <public@inbox.dpdk.org>; Tue, 30 Apr 2024 15:32:52 +0200 (CEST)
Received: from mails.dpdk.org (localhost [127.0.0.1])
	by mails.dpdk.org (Postfix) with ESMTP id 6EB074025C;
	Tue, 30 Apr 2024 15:32:52 +0200 (CEST)
Received: from mail-il1-f225.google.com (mail-il1-f225.google.com
 [209.85.166.225])
 by mails.dpdk.org (Postfix) with ESMTP id 6B766400EF
 for <test-report@dpdk.org>; Tue, 30 Apr 2024 15:32:51 +0200 (CEST)
Received: by mail-il1-f225.google.com with SMTP id
 e9e14a558f8ab-36c50653eb6so9032715ab.3
 for <test-report@dpdk.org>; Tue, 30 Apr 2024 06:32:51 -0700 (PDT)
DKIM-Signature: v=1; a=rsa-sha256; c=relaxed/relaxed;
 d=iol.unh.edu; s=unh-iol; t=1714483971; x=1715088771; darn=dpdk.org;
 h=references:in-reply-to:cc:to:from:subject:message-id:date:from:to
 :cc:subject:date:message-id:reply-to;
 bh=czT7gEWWuy4sWQ9JGXdmumxhtyQdwX/Hlk+a8wo5yaQ=;
 b=Wm6YJMVgQlkpv257/mdjNgIaVFPSfauK7ZaHRpgxT7oY/cuqWlJYYZP8NzCe9JOjqI
 yDKwosDhvgX6MJS3rx1bpB+fOwdtX2LwoqdlxR9saXms3N2gxmLemym7h3xxoBRlPjpp
 pMYtB5dQ0LWlpEZFhNyfEH5av5ZkFBj8pw+Cs=
X-Google-DKIM-Signature: v=1; a=rsa-sha256; c=relaxed/relaxed;
 d=1e100.net; s=20230601; t=1714483971; x=1715088771;
 h=references:in-reply-to:cc:to:from:subject:message-id:date
 :x-gm-message-state:from:to:cc:subject:date:message-id:reply-to;
 bh=czT7gEWWuy4sWQ9JGXdmumxhtyQdwX/Hlk+a8wo5yaQ=;
 b=VjvwnjIm1JnLOG+4x9XT0daryECvS4Z6O/Ok/PCRIWzvmyAmh3IwvabT8wr5UAaxbA
 w4UMkDPMm/vmv0oayAkhR7q8kKF5GyqkQO1Bw8BJw5/vv/d7DVA88CZbiqXBCAjrkgF1
 1mIKzA03Aa+M3hWFXZb/jdacTSsP8+/c8ncJ+ed5/IeblSF4OmzNO9vlMPLjrto9+ZsR
 DcqaK6/jgdCFAyKUyDc2fQ8HJRmNy1H2cBgr23fc1mCuhKpMJ2d0SKRp6i1Oe741I5Fl
 PhRUHWPraokFJrNB10mfa2Wv3ZfNDkbaro5A2WcQf+nHuOE6it3zSGxPH63l7CGi9fgc
 FS3A==
X-Gm-Message-State: AOJu0YxQr1n0uXNejE+ZvU8FPo5H846t+Z1ON1OSmkZAZGAZ5biIZ+Zz
 CfysZkaucsw9KNaTvBDwcAoJgzLk2q7Vt/FNeeC0djfQnMEzHj1NriskwyNrzv4EBJXf+CrIcbK
 xSeQeF3MNthawlDS3chw+9eBx+6nNNjaxJp/DQnaaZXP5A984vPyaOT0R
X-Google-Smtp-Source: AGHT+IFV3BA9b3Ety1Kt0jVR0ke2oIL9GsHD2qUTWVJjCSuUp/KTe4CiW1H8Ws3b6KO92oeVjP6RhQJGYMda
X-Received: by 2002:a05:6e02:154e:b0:36b:ffda:4455 with SMTP id
 j14-20020a056e02154e00b0036bffda4455mr15098847ilu.30.1714483970792; 
 Tue, 30 Apr 2024 06:32:50 -0700 (PDT)
Received: from postal.iol.unh.edu (postal.iol.unh.edu.
 [2606:4100:3880:1234::84]) by smtp-relay.gmail.com with ESMTPS id
 l11-20020a056e021aab00b0036bf9ddef6dsm1409082ilv.66.2024.04.30.06.32.50
 (version=TLS1_2 cipher=ECDHE-ECDSA-AES128-GCM-SHA256 bits=128/128);
 Tue, 30 Apr 2024 06:32:50 -0700 (PDT)
X-Relaying-Domain: iol.unh.edu
Date: Tue, 30 Apr 2024 06:32:50 -0700 (PDT)
Message-ID: <6630f302.050a0220.c113e.cf74SMTPIN_ADDED_MISSING@mx.google.com>
Received: from [172.17.0.3] (unknown [172.18.0.217])
 by postal.iol.unh.edu (Postfix) with ESMTP id 5DB43604D420;
 Tue, 30 Apr 2024 09:32:50 -0400 (EDT)
Subject: |SUCCESS| pw139737-139738 [PATCH] [RFC,v5,6/6] eal: add unit tests f
From: dpdklab@iol.unh.edu
To: Test Report <test-report@dpdk.org>
Cc: Mattias Ronnblom <mattias.ronnblom@ericsson.com>
In-Reply-To: <20240430120810.108928-7-mattias.ronnblom@ericsson.com>
References: <20240430120810.108928-7-mattias.ronnblom@ericsson.com>
Content-Type: text/plain
X-BeenThere: test-report@dpdk.org
X-Mailman-Version: 2.1.29
Precedence: list
List-Id: automatic DPDK test reports <test-report.dpdk.org>
List-Unsubscribe: <https://mails.dpdk.org/options/test-report>,
 <mailto:test-report-request@dpdk.org?subject=unsubscribe>
List-Archive: <http://mails.dpdk.org/archives/test-report/>
List-Post: <mailto:test-report@dpdk.org>
List-Help: <mailto:test-report-request@dpdk.org?subject=help>
List-Subscribe: <https://mails.dpdk.org/listinfo/test-report>,
 <mailto:test-report-request@dpdk.org?subject=subscribe>
Errors-To: test-report-bounces@dpdk.org

Test-Label: iol-unit-amd64-testing
Test-Status: SUCCESS
http://dpdk.org/patch/139738

_Testing PASS_

Submitter: Mattias Ronnblom <mattias.ronnblom@ericsson.com>
Date: Tuesday, April 30 2024 12:08:10 
DPDK git baseline: Repo:dpdk
  Branch: master
  CommitID:7e06c0de1952d3109a5b0c4779d7e7d8059c9d78

139737-139738 --> testing pass

Test environment and result as below:

+---------------------+----------------+
|     Environment     | dpdk_unit_test |
+=====================+================+
| Windows Server 2019 | PASS           |
+---------------------+----------------+
| Windows Server 2022 | PASS           |
+---------------------+----------------+
| CentOS Stream 8     | PASS           |
+---------------------+----------------+
| Debian Bullseye     | PASS           |
+---------------------+----------------+


Windows Server 2019
	Kernel: 10.0.17763
	Compiler: clang 14.0 and gcc 8.1.0 (MinGW)

Windows Server 2022
	Kernel: 10.0.20348.2031
	Compiler: clang 15.0.7, gcc 8.1.0 (MinGW), and MSVC VS 17.9

CentOS Stream 8
	Kernel: 5.4.0-167-generic
	Compiler: gcc 8.5.0 20210514

Debian Bullseye
	Kernel: 5.4.0-167-generic
	Compiler: gcc 10.2.1-6

To view detailed results, visit:
https://lab.dpdk.org/results/dashboard/patchsets/29878/

UNH-IOL DPDK Community Lab

To manage your email subscriptions, visit: 
https://lab.dpdk.org/results/dashboard/preferences/subscriptions/