From mboxrd@z Thu Jan  1 00:00:00 1970
Return-Path: <test-report-bounces@dpdk.org>
Received: from mails.dpdk.org (mails.dpdk.org [217.70.189.124])
	by inbox.dpdk.org (Postfix) with ESMTP id EE41943F55
	for <public@inbox.dpdk.org>; Tue, 30 Apr 2024 16:20:55 +0200 (CEST)
Received: from mails.dpdk.org (localhost [127.0.0.1])
	by mails.dpdk.org (Postfix) with ESMTP id CB3424025C;
	Tue, 30 Apr 2024 16:20:55 +0200 (CEST)
Received: from mail-io1-f97.google.com (mail-io1-f97.google.com
 [209.85.166.97]) by mails.dpdk.org (Postfix) with ESMTP id 828A7400EF
 for <test-report@dpdk.org>; Tue, 30 Apr 2024 16:20:54 +0200 (CEST)
Received: by mail-io1-f97.google.com with SMTP id
 ca18e2360f4ac-7ded607b62bso51335139f.0
 for <test-report@dpdk.org>; Tue, 30 Apr 2024 07:20:54 -0700 (PDT)
DKIM-Signature: v=1; a=rsa-sha256; c=relaxed/relaxed;
 d=iol.unh.edu; s=unh-iol; t=1714486854; x=1715091654; darn=dpdk.org;
 h=references:in-reply-to:cc:to:from:subject:message-id:date:from:to
 :cc:subject:date:message-id:reply-to;
 bh=a4PlkX9G7weC4bwwv+0JHZGY3F0uSRcvPygArxW/Jvs=;
 b=FPt+9puYM0xi/VV6PKxL0OMarnu3oAAGY8CLqqj4R1ibH6ajBRg66gMPez00eHtPdm
 URUWytjdrmHli4YuKO/+rfcqpXCo2hlyNLC2mXwtmB9rCUg0f25btT/OBc6BPtS6IDTV
 83Uy+DVXLQ/5SuJupdIfypSn2qyXJj6FBvlao=
X-Google-DKIM-Signature: v=1; a=rsa-sha256; c=relaxed/relaxed;
 d=1e100.net; s=20230601; t=1714486854; x=1715091654;
 h=references:in-reply-to:cc:to:from:subject:message-id:date
 :x-gm-message-state:from:to:cc:subject:date:message-id:reply-to;
 bh=a4PlkX9G7weC4bwwv+0JHZGY3F0uSRcvPygArxW/Jvs=;
 b=I86bECshykIckE97MGBYpOuOmBklhCXjxBtjZDnretiT5medXoJ0BrgCm2i1VN2J4+
 NZiB0iD6KHhCG24TbPPxWyZG86jsXHrkCfkJGfDKruC+gdEtyNqBVeTO8Y54/dSJhV4V
 uPoAlLVWDHSxScwRbgJdxFIpl6Bz2rGrM0DJCIJEWcBhwIkDOXAHKKYjXaKH4d1ufzPK
 FEBiuIiBpc4NNXwwYmE9rrIJ7Q1lIMY76mjRVIU6VfvHldVyik3p32ZeRNViuw8JYwJp
 5Sjb8AD7muT5n/pvE9Ir1Co5V+Uq+yCs1O9f7quaGcgC+IwLqNBPH1l4tg91w/ZH5LtC
 +2RQ==
X-Gm-Message-State: AOJu0YwHH/5deha7y+sCy1FbyVvgr52rTDE5ynIsYbZdRgDnojKpIl2d
 Y4ZkgLkOj+C+1On7zHNwSjYhoJOrNyHWXqlcpFC/BW/0QYslaH6lo8FdBmIcqSxngWIZr1wsdwg
 8WK9yFomh5gci8MJSsRuiE7dhul7AVU+hSbmfAAYK
X-Google-Smtp-Source: AGHT+IEEJbk+0z0bBxgWcL4BeKYTCwt+gPWz7Uf8bB8zCNE0X3DvyCLU9dbxqS3ris4sAa++gGjgf4bfeGnx
X-Received: by 2002:a05:6e02:1d97:b0:36b:f0c:cd5a with SMTP id
 h23-20020a056e021d9700b0036b0f0ccd5amr2809337ila.10.1714486853844; 
 Tue, 30 Apr 2024 07:20:53 -0700 (PDT)
Received: from postal.iol.unh.edu (postal.iol.unh.edu. [132.177.123.84])
 by smtp-relay.gmail.com with ESMTPS id
 u13-20020a92cccd000000b003661f061e65sm1581720ilq.71.2024.04.30.07.20.53
 (version=TLS1_2 cipher=ECDHE-ECDSA-AES128-GCM-SHA256 bits=128/128);
 Tue, 30 Apr 2024 07:20:53 -0700 (PDT)
X-Relaying-Domain: iol.unh.edu
Date: Tue, 30 Apr 2024 07:20:53 -0700 (PDT)
Message-ID: <6630fe45.920a0220.a6329.a0ecSMTPIN_ADDED_MISSING@mx.google.com>
Received: from [172.17.0.2] (unknown [172.18.0.217])
 by postal.iol.unh.edu (Postfix) with ESMTP id 4606E604D420;
 Tue, 30 Apr 2024 10:20:53 -0400 (EDT)
Subject: |SUCCESS| pw139737-139738 [PATCH] [RFC,v5,6/6] eal: add unit tests f
From: dpdklab@iol.unh.edu
To: Test Report <test-report@dpdk.org>
Cc: dpdk-test-reports@iol.unh.edu
In-Reply-To: <20240430120810.108928-7-mattias.ronnblom@ericsson.com>
References: <20240430120810.108928-7-mattias.ronnblom@ericsson.com>
Content-Type: text/plain
X-BeenThere: test-report@dpdk.org
X-Mailman-Version: 2.1.29
Precedence: list
List-Id: automatic DPDK test reports <test-report.dpdk.org>
List-Unsubscribe: <https://mails.dpdk.org/options/test-report>,
 <mailto:test-report-request@dpdk.org?subject=unsubscribe>
List-Archive: <http://mails.dpdk.org/archives/test-report/>
List-Post: <mailto:test-report@dpdk.org>
List-Help: <mailto:test-report-request@dpdk.org?subject=help>
List-Subscribe: <https://mails.dpdk.org/listinfo/test-report>,
 <mailto:test-report-request@dpdk.org?subject=subscribe>
Errors-To: test-report-bounces@dpdk.org

Test-Label: iol-compile-arm64-testing
Test-Status: SUCCESS
http://dpdk.org/patch/139738

_Testing PASS_

Submitter: Mattias Ronnblom <mattias.ronnblom@ericsson.com>
Date: Tuesday, April 30 2024 12:08:10 
DPDK git baseline: Repo:dpdk
  Branch: master
  CommitID:7e06c0de1952d3109a5b0c4779d7e7d8059c9d78

139737-139738 --> testing pass

Test environment and result as below:

+----------------------------------------+--------------------+
|              Environment               | dpdk_meson_compile |
+========================================+====================+
| Ubuntu 20.04 ARM SVE                   | PASS               |
+----------------------------------------+--------------------+
| Debian 12 with MUSDK                   | PASS               |
+----------------------------------------+--------------------+
| Ubuntu 20.04 aarch32 GCC Cross Compile | PASS               |
+----------------------------------------+--------------------+
| Ubuntu 20.04 ARM Clang Cross Compile   | PASS               |
+----------------------------------------+--------------------+
| Ubuntu 20.04 ARM GCC Cross Compile     | PASS               |
+----------------------------------------+--------------------+
| Fedora 38 (ARM Clang)                  | PASS               |
+----------------------------------------+--------------------+


Ubuntu 20.04 ARM SVE
	Kernel: 5.4.0-167-generic
	Compiler: gcc (Ubuntu 10.5.0-1ubuntu1~20.04) 10.5.0

Debian 12 with MUSDK
	Kernel: Container Host Kernel
	Compiler: gcc 12.2.0

Ubuntu 20.04 aarch32 GCC Cross Compile
	Kernel: 5.4.0-167-generic
	Compiler: gcc 9.4.0

Ubuntu 20.04 ARM Clang Cross Compile
	Kernel: 5.4.0-72-generic
	Compiler: clang 10.0.0-4ubuntu1

Ubuntu 20.04 ARM GCC Cross Compile
	Kernel: 5.4.0-167-generic
	Compiler: aarch64-linux-gnu-gcc (Ubuntu 9.4.0-1ubuntu1~20.04.2) 9.4.0

Fedora 38 (ARM Clang)
	Kernel: Depends on container host
	Compiler: clang 16.0.6

To view detailed results, visit:
https://lab.dpdk.org/results/dashboard/patchsets/29878/

UNH-IOL DPDK Community Lab

To manage your email subscriptions, visit: 
https://lab.dpdk.org/results/dashboard/preferences/subscriptions/