From mboxrd@z Thu Jan  1 00:00:00 1970
Return-Path: <test-report-bounces@dpdk.org>
Received: from mails.dpdk.org (mails.dpdk.org [217.70.189.124])
	by inbox.dpdk.org (Postfix) with ESMTP id B820A43F55
	for <public@inbox.dpdk.org>; Tue, 30 Apr 2024 17:22:06 +0200 (CEST)
Received: from mails.dpdk.org (localhost [127.0.0.1])
	by mails.dpdk.org (Postfix) with ESMTP id B140A4025C;
	Tue, 30 Apr 2024 17:22:06 +0200 (CEST)
Received: from mail-il1-f228.google.com (mail-il1-f228.google.com
 [209.85.166.228])
 by mails.dpdk.org (Postfix) with ESMTP id AEABB400EF
 for <test-report@dpdk.org>; Tue, 30 Apr 2024 17:22:05 +0200 (CEST)
Received: by mail-il1-f228.google.com with SMTP id
 e9e14a558f8ab-36c551bf5e3so6392475ab.1
 for <test-report@dpdk.org>; Tue, 30 Apr 2024 08:22:05 -0700 (PDT)
DKIM-Signature: v=1; a=rsa-sha256; c=relaxed/relaxed;
 d=iol.unh.edu; s=unh-iol; t=1714490525; x=1715095325; darn=dpdk.org;
 h=references:in-reply-to:cc:to:from:subject:message-id:date:from:to
 :cc:subject:date:message-id:reply-to;
 bh=ERVRlOGNCAdH6UuW8EiW+e1wDG7jgVGw7RoWq+7xV/M=;
 b=Eb+3HEClQq1lCtu6ROZdxa9O0tD3psqhePE0U+bQIJcK+HT4ArnewNtwFezqasd+XV
 zzeWiEUArWFYefurbbK6X7vTvh6GleQVPmxDzTSlgQA1U72HqVLGdM2Hux1DlnXTjfGc
 7BWv7G/XTZ33MKcmSwsDeCBJeKKieQYVS6V+0=
X-Google-DKIM-Signature: v=1; a=rsa-sha256; c=relaxed/relaxed;
 d=1e100.net; s=20230601; t=1714490525; x=1715095325;
 h=references:in-reply-to:cc:to:from:subject:message-id:date
 :x-gm-message-state:from:to:cc:subject:date:message-id:reply-to;
 bh=ERVRlOGNCAdH6UuW8EiW+e1wDG7jgVGw7RoWq+7xV/M=;
 b=auTXN6OYLGWx2i7GbrmEtnhHhMyq59MX+UxbRSJ9gENtSoeqp8TIjivdMnd9iUmBsx
 M50zQSN1rzN+pp6AgRPc1E9zm0Zq0P+LbeLgp7zatygk1vv2hxesjqkT5/Y6DC7ytnF3
 cUSGoqHHtxDqqcOzGq8WkwAH2S/tmI1AnnEWQC5AaSIgCZhuXO4bmInN7BZJM761mmc2
 2ejG+BZyM0QoNnvbMPtAEob12X680FULfDwxEMBlj0WWZ9l1BAFrJGH2z2zS9gh+/Crr
 LViOFphuqFhyON7Zsxu9HF6ySbJVSOxXdh1IcoiQrzi0iRWcE5XEDU2JsvMwNzIuHwRu
 BySg==
X-Gm-Message-State: AOJu0YzdbnLzjTlxaaPdPaCy36djO1Ob5w6075IIxl1F02jBqGtSHR3Y
 tPqqr7DjyuXXZqr8f2+g9gYIwI0Q2/ZNCKio36VyBB+8Lru/4re7Wghe1S3dIcmsUmndRIb2fZx
 xOWd0sltHD1GPqH5/DALCactReLbcADGCZa4Idy83HPpQvZodJ9qV8qyu
X-Google-Smtp-Source: AGHT+IHbpsXl0tebcIJ+AdUYdvGiFkqdgbd/ATsnGbwOSQmt/+OWYXD7WvalMd+qF3PBAlrN+LL06uXFjW9C
X-Received: by 2002:a05:6e02:1cad:b0:36c:51a3:9903 with SMTP id
 x13-20020a056e021cad00b0036c51a39903mr78738ill.17.1714490525090; 
 Tue, 30 Apr 2024 08:22:05 -0700 (PDT)
Received: from postal.iol.unh.edu (postal.iol.unh.edu.
 [2606:4100:3880:1234::84]) by smtp-relay.gmail.com with ESMTPS id
 jo13-20020a0566388d0d00b004879cced24asm736804jab.38.2024.04.30.08.22.04
 (version=TLS1_2 cipher=ECDHE-ECDSA-AES128-GCM-SHA256 bits=128/128);
 Tue, 30 Apr 2024 08:22:05 -0700 (PDT)
X-Relaying-Domain: iol.unh.edu
Date: Tue, 30 Apr 2024 08:22:05 -0700 (PDT)
Message-ID: <66310c9d.050a0220.fe848.79e3SMTPIN_ADDED_MISSING@mx.google.com>
Received: from [172.17.0.2] (unknown [172.18.0.217])
 by postal.iol.unh.edu (Postfix) with ESMTP id B1E1B604D420;
 Tue, 30 Apr 2024 11:22:04 -0400 (EDT)
Subject: |SUCCESS| pw139737-139738 [PATCH] [RFC,v5,6/6] eal: add unit tests f
From: dpdklab@iol.unh.edu
To: Test Report <test-report@dpdk.org>
Cc: dpdk-test-reports@iol.unh.edu
In-Reply-To: <20240430120810.108928-7-mattias.ronnblom@ericsson.com>
References: <20240430120810.108928-7-mattias.ronnblom@ericsson.com>
Content-Type: text/plain
X-BeenThere: test-report@dpdk.org
X-Mailman-Version: 2.1.29
Precedence: list
List-Id: automatic DPDK test reports <test-report.dpdk.org>
List-Unsubscribe: <https://mails.dpdk.org/options/test-report>,
 <mailto:test-report-request@dpdk.org?subject=unsubscribe>
List-Archive: <http://mails.dpdk.org/archives/test-report/>
List-Post: <mailto:test-report@dpdk.org>
List-Help: <mailto:test-report-request@dpdk.org?subject=help>
List-Subscribe: <https://mails.dpdk.org/listinfo/test-report>,
 <mailto:test-report-request@dpdk.org?subject=subscribe>
Errors-To: test-report-bounces@dpdk.org

Test-Label: iol-unit-arm64-testing
Test-Status: SUCCESS
http://dpdk.org/patch/139738

_Testing PASS_

Submitter: Mattias Ronnblom <mattias.ronnblom@ericsson.com>
Date: Tuesday, April 30 2024 12:08:10 
DPDK git baseline: Repo:dpdk
  Branch: master
  CommitID:7e06c0de1952d3109a5b0c4779d7e7d8059c9d78

139737-139738 --> testing pass

Test environment and result as below:

+-----------------------------+----------------+--------------+------------------------------+
|         Environment         | dpdk_unit_test | lpm_autotest | cryptodev_sw_snow3g_autotest |
+=============================+================+==============+==============================+
| Debian 12 (arm)             | PASS           | SKIPPED      | PASS                         |
+-----------------------------+----------------+--------------+------------------------------+
| 32-bit Ubuntu 20.04.4 (ARM) | PASS           | SKIPPED      | SKIPPED                      |
+-----------------------------+----------------+--------------+------------------------------+
| CentOS Stream 9 (ARM)       | PASS           | SKIPPED      | SKIPPED                      |
+-----------------------------+----------------+--------------+------------------------------+
| Debian 11 (Buster) (ARM)    | PASS           | SKIPPED      | SKIPPED                      |
+-----------------------------+----------------+--------------+------------------------------+
| Fedora 38 (ARM Clang)       | PASS           | SKIPPED      | SKIPPED                      |
+-----------------------------+----------------+--------------+------------------------------+
| Fedora 38 (ARM)             | PASS           | SKIPPED      | SKIPPED                      |
+-----------------------------+----------------+--------------+------------------------------+
| Fedora 37 (ARM)             | PASS           | SKIPPED      | SKIPPED                      |
+-----------------------------+----------------+--------------+------------------------------+
| Ubuntu 20.04 (ARM)          | PASS           | SKIPPED      | SKIPPED                      |
+-----------------------------+----------------+--------------+------------------------------+
| Ubuntu 20.04 ARM SVE        | SKIPPED        | PASS         | SKIPPED                      |
+-----------------------------+----------------+--------------+------------------------------+


Debian 12 (arm)
	Kernel: Container Host Kernel
	Compiler: gcc 12.2.0

32-bit Ubuntu 20.04.4 (ARM)
	Kernel: 5.4.0-155-generic aarch64
	Compiler: gcc 9.4

CentOS Stream 9 (ARM)
	Kernel: Container Host Kernel
	Compiler: gcc 11.4.1

Debian 11 (Buster) (ARM)
	Kernel: Container Host Kernel
	Compiler: gcc 10.2.1

Fedora 38 (ARM Clang)
	Kernel: Depends on container host
	Compiler: clang 16.0.6

Fedora 38 (ARM)
	Kernel: Depends on container host
	Compiler: gcc 13.2.1

Fedora 37 (ARM)
	Kernel: Depends on container host
	Compiler: gcc 12.3.1

Ubuntu 20.04 (ARM)
	Kernel: Container Host Kernel
	Compiler: gcc 9.4.0

Ubuntu 20.04 ARM SVE
	Kernel: 5.4.0-167-generic
	Compiler: gcc (Ubuntu 10.5.0-1ubuntu1~20.04) 10.5.0

To view detailed results, visit:
https://lab.dpdk.org/results/dashboard/patchsets/29878/

UNH-IOL DPDK Community Lab

To manage your email subscriptions, visit: 
https://lab.dpdk.org/results/dashboard/preferences/subscriptions/