From mboxrd@z Thu Jan  1 00:00:00 1970
Return-Path: <test-report-bounces@dpdk.org>
Received: from mails.dpdk.org (mails.dpdk.org [217.70.189.124])
	by inbox.dpdk.org (Postfix) with ESMTP id 10EDD43F32
	for <public@inbox.dpdk.org>; Tue, 30 Apr 2024 21:28:40 +0200 (CEST)
Received: from mails.dpdk.org (localhost [127.0.0.1])
	by mails.dpdk.org (Postfix) with ESMTP id 0CBEC40262;
	Tue, 30 Apr 2024 21:28:40 +0200 (CEST)
Received: from mail-yw1-f225.google.com (mail-yw1-f225.google.com
 [209.85.128.225])
 by mails.dpdk.org (Postfix) with ESMTP id 934E44025C
 for <test-report@dpdk.org>; Tue, 30 Apr 2024 21:28:35 +0200 (CEST)
Received: by mail-yw1-f225.google.com with SMTP id
 00721157ae682-61500da846fso43247777b3.1
 for <test-report@dpdk.org>; Tue, 30 Apr 2024 12:28:35 -0700 (PDT)
DKIM-Signature: v=1; a=rsa-sha256; c=relaxed/relaxed;
 d=iol.unh.edu; s=unh-iol; t=1714505315; x=1715110115; darn=dpdk.org;
 h=references:in-reply-to:cc:to:from:subject:message-id:date:from:to
 :cc:subject:date:message-id:reply-to;
 bh=SjdMmTAgoWKBPfHzFG8xdBzz29JJ8OAdayfw3FgLdZI=;
 b=BLWParQAy2eycu6vBI0LZmyoxeyqECplKkAS2AYk/OdUrMSPzzze2y3uh1L5Wm9E9n
 IsFfD4yxBUsFGpPDCEcgcLYenZ9OorVyPUnwKsarMPyIiKdzFlI5SdAEOvvcs50j3hKm
 nB9ps9+3ualPIwOVXOfwDZxKr6r0HRtAWRLrg=
X-Google-DKIM-Signature: v=1; a=rsa-sha256; c=relaxed/relaxed;
 d=1e100.net; s=20230601; t=1714505315; x=1715110115;
 h=references:in-reply-to:cc:to:from:subject:message-id:date
 :x-gm-message-state:from:to:cc:subject:date:message-id:reply-to;
 bh=SjdMmTAgoWKBPfHzFG8xdBzz29JJ8OAdayfw3FgLdZI=;
 b=U9bVNj2ehnX/wOrrWC1QtcPIpUvirLTxsLAU+iumScXW/Ynx1SS0hyb+AJp65AibPI
 e6aJhlDKXdXZhwswMutV9/b6u762uDDCfVB4S1eoUTU+iQqWivs3wdGdMHbLpi8DMbH3
 4NXpSSf65Jz6GEmbwG+lN5VFGP+BOfOsT3+NdXRmCHxb0U3GQPwVNfCbuobnFgLb3f1Q
 LXIbzNzze8SdaSFXNUUDNj1kWxXOwsfTYrK39ggHKnKim4HeAIisyFjUDEjLjvr+XvGN
 qBaQ7KRqV4pKyWP3TfQgDFIVvObBfldJKuaqU6CGvaHQ+cdHQWbOdD0pu4D+Wox1mERl
 EgOA==
X-Gm-Message-State: AOJu0YzTzzebNQWWaZw/aW0NTeCB1X2XgLEklbILERfBD44PNfQVyx+R
 S8xDDx3L2Z2V94ZG+tPnv8QzQyGbQbwp9veYiL4FaBGhzTs5YNm2OXSnqkvx4+TO2rTf04IiQx9
 fDZxmCadUYM7BCCTCoKA6+0MC4RWl/TmVqCVKtlal2cxKjnbKWmt3pSs3
X-Google-Smtp-Source: AGHT+IHcnJQgf1sIsOzfgeNXFGejoEwTiwz6Mwcfl+y974xD2KAmsLni784JX4BY4KSc/slL8WIOg4Q8DRKV
X-Received: by 2002:a05:690c:4b04:b0:61a:b3e8:8d94 with SMTP id
 ip4-20020a05690c4b0400b0061ab3e88d94mr622881ywb.0.1714505315061; 
 Tue, 30 Apr 2024 12:28:35 -0700 (PDT)
Received: from postal.iol.unh.edu (postal.iol.unh.edu.
 [2606:4100:3880:1234::84]) by smtp-relay.gmail.com with ESMTPS id
 l187-20020a0dc9c4000000b0061b9334b295sm1216981ywd.68.2024.04.30.12.28.34
 (version=TLS1_2 cipher=ECDHE-ECDSA-AES128-GCM-SHA256 bits=128/128);
 Tue, 30 Apr 2024 12:28:35 -0700 (PDT)
X-Relaying-Domain: iol.unh.edu
Date: Tue, 30 Apr 2024 12:28:35 -0700 (PDT)
Message-ID: <66314663.0d0a0220.38379.9460SMTPIN_ADDED_MISSING@mx.google.com>
Received: from [172.21.0.6] (unknown [172.18.0.240])
 by postal.iol.unh.edu (Postfix) with ESMTP id B4B30604D420;
 Tue, 30 Apr 2024 15:28:34 -0400 (EDT)
Subject: |SUCCESS| pw139745-139746 [PATCH] [v5,2/2] dts: Change hugepage 'amo
From: dpdklab@iol.unh.edu
To: Test Report <test-report@dpdk.org>
Cc: dpdk-test-reports@iol.unh.edu
In-Reply-To: <20240430184533.29247-3-npratte@iol.unh.edu>
References: <20240430184533.29247-3-npratte@iol.unh.edu>
Content-Type: text/plain
X-BeenThere: test-report@dpdk.org
X-Mailman-Version: 2.1.29
Precedence: list
List-Id: automatic DPDK test reports <test-report.dpdk.org>
List-Unsubscribe: <https://mails.dpdk.org/options/test-report>,
 <mailto:test-report-request@dpdk.org?subject=unsubscribe>
List-Archive: <http://mails.dpdk.org/archives/test-report/>
List-Post: <mailto:test-report@dpdk.org>
List-Help: <mailto:test-report-request@dpdk.org?subject=help>
List-Subscribe: <https://mails.dpdk.org/listinfo/test-report>,
 <mailto:test-report-request@dpdk.org?subject=subscribe>
Errors-To: test-report-bounces@dpdk.org

Test-Label: iol-compile-arm64-testing
Test-Status: SUCCESS
http://dpdk.org/patch/139746

_Testing PASS_

Submitter: Nicholas Pratte <npratte@iol.unh.edu>
Date: Tuesday, April 30 2024 18:45:33 
DPDK git baseline: Repo:dpdk
  Branch: master
  CommitID:7e06c0de1952d3109a5b0c4779d7e7d8059c9d78

139745-139746 --> testing pass

Test environment and result as below:

+--------------------------+--------------------+
|       Environment        | dpdk_meson_compile |
+==========================+====================+
| Ubuntu 20.04 ARM SVE     | PASS               |
+--------------------------+--------------------+
| Debian 12 with MUSDK     | PASS               |
+--------------------------+--------------------+
| Fedora 39 (ARM)          | PASS               |
+--------------------------+--------------------+
| Debian 12 (arm)          | PASS               |
+--------------------------+--------------------+
| Fedora 37 (ARM)          | PASS               |
+--------------------------+--------------------+
| Debian 11 (Buster) (ARM) | PASS               |
+--------------------------+--------------------+
| Fedora 38 (ARM)          | PASS               |
+--------------------------+--------------------+


Ubuntu 20.04 ARM SVE
	Kernel: 5.4.0-167-generic
	Compiler: gcc (Ubuntu 10.5.0-1ubuntu1~20.04) 10.5.0

Debian 12 with MUSDK
	Kernel: Container Host Kernel
	Compiler: gcc 12.2.0

Fedora 39 (ARM)
	Kernel: Depends on container host
	Compiler: gcc 13.2.1

Debian 12 (arm)
	Kernel: Container Host Kernel
	Compiler: gcc 12.2.0

Fedora 37 (ARM)
	Kernel: Depends on container host
	Compiler: gcc 12.3.1

Debian 11 (Buster) (ARM)
	Kernel: Container Host Kernel
	Compiler: gcc 10.2.1

Fedora 38 (ARM)
	Kernel: Depends on container host
	Compiler: gcc 13.2.1

To view detailed results, visit:
https://lab.dpdk.org/results/dashboard/patchsets/29881/

UNH-IOL DPDK Community Lab

To manage your email subscriptions, visit: 
https://lab.dpdk.org/results/dashboard/preferences/subscriptions/