From mboxrd@z Thu Jan  1 00:00:00 1970
Return-Path: <test-report-bounces@dpdk.org>
Received: from mails.dpdk.org (mails.dpdk.org [217.70.189.124])
	by inbox.dpdk.org (Postfix) with ESMTP id 73E6543F32
	for <public@inbox.dpdk.org>; Tue, 30 Apr 2024 21:32:02 +0200 (CEST)
Received: from mails.dpdk.org (localhost [127.0.0.1])
	by mails.dpdk.org (Postfix) with ESMTP id 7019740262;
	Tue, 30 Apr 2024 21:32:02 +0200 (CEST)
Received: from mail-vs1-f97.google.com (mail-vs1-f97.google.com
 [209.85.217.97]) by mails.dpdk.org (Postfix) with ESMTP id 5E7E84025C
 for <test-report@dpdk.org>; Tue, 30 Apr 2024 21:32:01 +0200 (CEST)
Received: by mail-vs1-f97.google.com with SMTP id
 ada2fe7eead31-479ffac091dso1727967137.2
 for <test-report@dpdk.org>; Tue, 30 Apr 2024 12:32:01 -0700 (PDT)
DKIM-Signature: v=1; a=rsa-sha256; c=relaxed/relaxed;
 d=iol.unh.edu; s=unh-iol; t=1714505521; x=1715110321; darn=dpdk.org;
 h=references:in-reply-to:cc:to:from:subject:message-id:date:from:to
 :cc:subject:date:message-id:reply-to;
 bh=jjG5p+JBNns0kDIJzkE6spcY3gWndde4kLrWF+0BYUg=;
 b=Cznkvb8GT9t5NVr30jKgi80vNa1PQYFA2AByTFo8YM81UKe5DxajHdPd0BIk0W7DJf
 Z57j1vLVxNjfMPEHxRPkPVNM52+Ihj/Z1jZG6kL+qCI4b+OGkgSMezuNKgjm2uTAVO1v
 Prh9hmtpUUDMGBtu5+uGdi5PrsMHvF8byZA/s=
X-Google-DKIM-Signature: v=1; a=rsa-sha256; c=relaxed/relaxed;
 d=1e100.net; s=20230601; t=1714505521; x=1715110321;
 h=references:in-reply-to:cc:to:from:subject:message-id:date
 :x-gm-message-state:from:to:cc:subject:date:message-id:reply-to;
 bh=jjG5p+JBNns0kDIJzkE6spcY3gWndde4kLrWF+0BYUg=;
 b=R/SE8rRyCvr6mdDTYB2aoLLacgEODKIp36x2ufl7cFgPbFsLQR3ZIF0CCPHLfMfzfX
 /qwFlPdSRvwHCE3iZzakZggVUFJ0jnle42zPdRstMwP0FIaaGBhfkf2r28fjmeUge3QF
 qOmKPpp6lyxVQanSZ1rqlrJcb5lhKC8iUgnil8iwyxL7e8BeZqDzLpMBQM5oPWdaJKls
 OdRheYKe8hDGr0y9P8ibd6lp8Es38iZM4V1LWXV0JKnzX8OJBTy6caJ3fU3/XQEkdHJ9
 k0L9fAKbWR0kkgpOfmW+UOm3Odf5uWOu3HGsqUTZZjQ6xFup2rKjKj3gAUwu64GdB7dq
 lLVg==
X-Gm-Message-State: AOJu0Yzdvl2aak+khIMRFah2NQKT6KplM4Uez2KJxINht+PaoDgPPWJp
 nSTQWbZLQ8ZY1waXtOZzqjKMhpI11ZS2L8x4QB7ji2kHvBGSJ5qegIznC+Q5V7GMGH/XAs9tXua
 ODpb2hJQv7LL1P8FCHMlyX+Oq1cozFyYKSe7k/0xnb/gD3fNGodv/9hvo
X-Google-Smtp-Source: AGHT+IHOOWJ56FJG8D8k1BlGZVHyPv/ldAKw6P8OEC0+qs0BpZs8YHEW2OiVUcYmjHtUZORmvkCC2q471YTK
X-Received: by 2002:a67:ee59:0:b0:47a:40f0:d343 with SMTP id
 g25-20020a67ee59000000b0047a40f0d343mr764489vsp.32.1714505518439; 
 Tue, 30 Apr 2024 12:31:58 -0700 (PDT)
Received: from postal.iol.unh.edu (postal.iol.unh.edu.
 [2606:4100:3880:1234::84]) by smtp-relay.gmail.com with ESMTPS id
 e15-20020a0561020dcf00b0047c2ff28637sm890716vst.5.2024.04.30.12.31.58
 (version=TLS1_2 cipher=ECDHE-ECDSA-AES128-GCM-SHA256 bits=128/128);
 Tue, 30 Apr 2024 12:31:58 -0700 (PDT)
X-Relaying-Domain: iol.unh.edu
Date: Tue, 30 Apr 2024 12:31:58 -0700 (PDT)
Message-ID: <6631472e.050a0220.3624e.f48dSMTPIN_ADDED_MISSING@mx.google.com>
Received: from [172.21.0.6] (unknown [172.18.0.240])
 by postal.iol.unh.edu (Postfix) with ESMTP id C25BE604D420;
 Tue, 30 Apr 2024 15:31:56 -0400 (EDT)
Subject: |SUCCESS| pw139745-139746 [PATCH] [v5,2/2] dts: Change hugepage 'amo
From: dpdklab@iol.unh.edu
To: Test Report <test-report@dpdk.org>
Cc: dpdk-test-reports@iol.unh.edu
In-Reply-To: <20240430184533.29247-3-npratte@iol.unh.edu>
References: <20240430184533.29247-3-npratte@iol.unh.edu>
Content-Type: text/plain
X-BeenThere: test-report@dpdk.org
X-Mailman-Version: 2.1.29
Precedence: list
List-Id: automatic DPDK test reports <test-report.dpdk.org>
List-Unsubscribe: <https://mails.dpdk.org/options/test-report>,
 <mailto:test-report-request@dpdk.org?subject=unsubscribe>
List-Archive: <http://mails.dpdk.org/archives/test-report/>
List-Post: <mailto:test-report@dpdk.org>
List-Help: <mailto:test-report-request@dpdk.org?subject=help>
List-Subscribe: <https://mails.dpdk.org/listinfo/test-report>,
 <mailto:test-report-request@dpdk.org?subject=subscribe>
Errors-To: test-report-bounces@dpdk.org

Test-Label: iol-compile-amd64-testing
Test-Status: SUCCESS
http://dpdk.org/patch/139746

_Testing PASS_

Submitter: Nicholas Pratte <npratte@iol.unh.edu>
Date: Tuesday, April 30 2024 18:45:33 
DPDK git baseline: Repo:dpdk
  Branch: master
  CommitID:7e06c0de1952d3109a5b0c4779d7e7d8059c9d78

139745-139746 --> testing pass

Test environment and result as below:

+---------------------+-------------------+--------------------+----------------------+
|     Environment     | dpdk_msvc_compile | dpdk_meson_compile | dpdk_mingw64_compile |
+=====================+===================+====================+======================+
| Windows Server 2022 | PASS              | PASS               | PASS                 |
+---------------------+-------------------+--------------------+----------------------+
| FreeBSD 13.3        | SKIPPED           | PASS               | SKIPPED              |
+---------------------+-------------------+--------------------+----------------------+
| Windows Server 2019 | SKIPPED           | PASS               | PASS                 |
+---------------------+-------------------+--------------------+----------------------+
| Debian Bullseye     | SKIPPED           | PASS               | SKIPPED              |
+---------------------+-------------------+--------------------+----------------------+
| CentOS Stream 8     | SKIPPED           | PASS               | SKIPPED              |
+---------------------+-------------------+--------------------+----------------------+
| Ubuntu 22.04        | SKIPPED           | PASS               | SKIPPED              |
+---------------------+-------------------+--------------------+----------------------+


Windows Server 2022
	Kernel: 10.0.20348.2031
	Compiler: clang 15.0.7, gcc 8.1.0 (MinGW), and MSVC VS 17.9

FreeBSD 13.3
	Kernel: 13.3-RELEASE-p1
	Compiler: clang 17.0.6

Windows Server 2019
	Kernel: 10.0.17763
	Compiler: clang 14.0 and gcc 8.1.0 (MinGW)

Debian Bullseye
	Kernel: 5.4.0-167-generic
	Compiler: gcc 10.2.1-6

CentOS Stream 8
	Kernel: 5.4.0-167-generic
	Compiler: gcc 8.5.0 20210514

Ubuntu 22.04
	Kernel: 5.4.0-167-generic
	Compiler: gcc 11.4.0

To view detailed results, visit:
https://lab.dpdk.org/results/dashboard/patchsets/29881/

UNH-IOL DPDK Community Lab

To manage your email subscriptions, visit: 
https://lab.dpdk.org/results/dashboard/preferences/subscriptions/