From mboxrd@z Thu Jan  1 00:00:00 1970
Return-Path: <test-report-bounces@dpdk.org>
Received: from mails.dpdk.org (mails.dpdk.org [217.70.189.124])
	by inbox.dpdk.org (Postfix) with ESMTP id 1336C43F32
	for <public@inbox.dpdk.org>; Tue, 30 Apr 2024 21:39:43 +0200 (CEST)
Received: from mails.dpdk.org (localhost [127.0.0.1])
	by mails.dpdk.org (Postfix) with ESMTP id 0E1FB40262;
	Tue, 30 Apr 2024 21:39:43 +0200 (CEST)
Received: from mail-pl1-f228.google.com (mail-pl1-f228.google.com
 [209.85.214.228])
 by mails.dpdk.org (Postfix) with ESMTP id 976DE4025C
 for <test-report@dpdk.org>; Tue, 30 Apr 2024 21:39:42 +0200 (CEST)
Received: by mail-pl1-f228.google.com with SMTP id
 d9443c01a7336-1e651a9f3ffso31436335ad.1
 for <test-report@dpdk.org>; Tue, 30 Apr 2024 12:39:42 -0700 (PDT)
DKIM-Signature: v=1; a=rsa-sha256; c=relaxed/relaxed;
 d=iol.unh.edu; s=unh-iol; t=1714505982; x=1715110782; darn=dpdk.org;
 h=references:in-reply-to:cc:to:from:subject:message-id:date:from:to
 :cc:subject:date:message-id:reply-to;
 bh=VExIXBK5y6sedwBHDLPZkuYsgAiabYG4MQkpXxrPhcg=;
 b=XB7XaYxFOWaUnVZOuSSccQRcCxgvn7D6vlwjrHunuIMVWm3rqp3jnA20+iY0L7VMdb
 u3s/shYBdbE8MD6v9Z2Fe4xnQOBxcHmvWQBx3qAUlnnnl2j/jn4qm06ASpHW+PkJT0bo
 Q/UnYVWaTOKvnpGaMBdjnPWVG8AjULhcRL4wY=
X-Google-DKIM-Signature: v=1; a=rsa-sha256; c=relaxed/relaxed;
 d=1e100.net; s=20230601; t=1714505982; x=1715110782;
 h=references:in-reply-to:cc:to:from:subject:message-id:date
 :x-gm-message-state:from:to:cc:subject:date:message-id:reply-to;
 bh=VExIXBK5y6sedwBHDLPZkuYsgAiabYG4MQkpXxrPhcg=;
 b=JhXkEKXOSDYxl7UphtYqsEvBHjAw+IAseyRuzIybT6iXgIDi5qrttEnBdBw4bzSQOQ
 djOcYjUu5pRzltzKZiaActbn7RR7EyBd4SzZubyLJWdnNdKATNjMmZqbgncCbiUMTwkU
 6+wAoiIkog4L3UdggbjHN5+qJ79dYBkB+/lb7h/tx8uwg1sWG8ykuKCgiEWHnrmTdc2C
 68pZMzhh9K6oRZjMBjB6lbgUZrq82vY+1QmX6XKRRq6fYbW+Ss7akQxWU+rX3GNHgJID
 CYGKIfmv34wm/Tu3PixYn8WmrBeeWXO3gOt26Ty2YxN7/4gTmZ46EuAbPQOUI+d30Uuu
 tLOg==
X-Gm-Message-State: AOJu0YyEGBftu+SMrL+esBoYW4MnpNJyhc5/qwf16jwz5wEmy6NMQXe4
 lf690oLKKFlDarrMxQmW3Sz5SJAiy1jllSasCPvPk9qE/wHOLf3O0NgTdoKMwRSDq+3NvSHGdqE
 4OIgBHqkA+Qy+mY/DPxWnOvNEhOxIBLVtxXKmT14L/qttOjZzFsWKfeXu
X-Google-Smtp-Source: AGHT+IHmRNZB0qlKJj1ZrBrRF+W5E9kP/oD8jQPnDFRCOdT8oqv7suxySJkOzPPioLQbF9L5Qw+frtinXVgZ
X-Received: by 2002:a17:902:ee44:b0:1e9:9fdb:567d with SMTP id
 4-20020a170902ee4400b001e99fdb567dmr327137plo.68.1714505981554; 
 Tue, 30 Apr 2024 12:39:41 -0700 (PDT)
Received: from postal.iol.unh.edu (postal.iol.unh.edu.
 [2606:4100:3880:1234::84]) by smtp-relay.gmail.com with ESMTPS id
 lh15-20020a170903290f00b001e5a2f0b604sm852327plb.122.2024.04.30.12.39.41
 (version=TLS1_2 cipher=ECDHE-ECDSA-AES128-GCM-SHA256 bits=128/128);
 Tue, 30 Apr 2024 12:39:41 -0700 (PDT)
X-Relaying-Domain: iol.unh.edu
Date: Tue, 30 Apr 2024 12:39:41 -0700 (PDT)
Message-ID: <663148fd.170a0220.54bf7.5a4eSMTPIN_ADDED_MISSING@mx.google.com>
Received: from [172.21.0.7] (unknown [172.18.0.240])
 by postal.iol.unh.edu (Postfix) with ESMTP id 9CE1F604D420;
 Tue, 30 Apr 2024 15:39:40 -0400 (EDT)
Subject: |SUCCESS| pw139745-139746 [PATCH] [v5,2/2] dts: Change hugepage 'amo
From: dpdklab@iol.unh.edu
To: Test Report <test-report@dpdk.org>
Cc: Nicholas Pratte <npratte@iol.unh.edu>
In-Reply-To: <20240430184533.29247-3-npratte@iol.unh.edu>
References: <20240430184533.29247-3-npratte@iol.unh.edu>
Content-Type: text/plain
X-BeenThere: test-report@dpdk.org
X-Mailman-Version: 2.1.29
Precedence: list
List-Id: automatic DPDK test reports <test-report.dpdk.org>
List-Unsubscribe: <https://mails.dpdk.org/options/test-report>,
 <mailto:test-report-request@dpdk.org?subject=unsubscribe>
List-Archive: <http://mails.dpdk.org/archives/test-report/>
List-Post: <mailto:test-report@dpdk.org>
List-Help: <mailto:test-report-request@dpdk.org?subject=help>
List-Subscribe: <https://mails.dpdk.org/listinfo/test-report>,
 <mailto:test-report-request@dpdk.org?subject=subscribe>
Errors-To: test-report-bounces@dpdk.org

Test-Label: iol-abi-testing
Test-Status: SUCCESS
http://dpdk.org/patch/139746

_Testing PASS_

Submitter: Nicholas Pratte <npratte@iol.unh.edu>
Date: Tuesday, April 30 2024 18:45:33 
DPDK git baseline: Repo:dpdk
  Branch: master
  CommitID:7e06c0de1952d3109a5b0c4779d7e7d8059c9d78

139745-139746 --> testing pass

Test environment and result as below:

+-----------------+----------+
|   Environment   | abi_test |
+=================+==========+
| Debian 12       | PASS     |
+-----------------+----------+
| Fedora 38       | PASS     |
+-----------------+----------+
| Debian Bullseye | PASS     |
+-----------------+----------+


Debian 12
	Kernel: Container Host Kernel
	Compiler: gcc 10.2.1

Fedora 38
	Kernel: Depends on container host
	Compiler: clang 16.0.6

Debian Bullseye
	Kernel: 5.4.0-167-generic
	Compiler: gcc 10.2.1-6

To view detailed results, visit:
https://lab.dpdk.org/results/dashboard/patchsets/29881/

UNH-IOL DPDK Community Lab

To manage your email subscriptions, visit: 
https://lab.dpdk.org/results/dashboard/preferences/subscriptions/