From mboxrd@z Thu Jan  1 00:00:00 1970
Return-Path: <test-report-bounces@dpdk.org>
Received: from mails.dpdk.org (mails.dpdk.org [217.70.189.124])
	by inbox.dpdk.org (Postfix) with ESMTP id 76ADB43F56
	for <public@inbox.dpdk.org>; Tue, 30 Apr 2024 22:12:15 +0200 (CEST)
Received: from mails.dpdk.org (localhost [127.0.0.1])
	by mails.dpdk.org (Postfix) with ESMTP id 7376F40262;
	Tue, 30 Apr 2024 22:12:15 +0200 (CEST)
Received: from mail-il1-f228.google.com (mail-il1-f228.google.com
 [209.85.166.228])
 by mails.dpdk.org (Postfix) with ESMTP id 465214025C
 for <test-report@dpdk.org>; Tue, 30 Apr 2024 22:12:14 +0200 (CEST)
Received: by mail-il1-f228.google.com with SMTP id
 e9e14a558f8ab-36c5b808a70so2645885ab.3
 for <test-report@dpdk.org>; Tue, 30 Apr 2024 13:12:14 -0700 (PDT)
DKIM-Signature: v=1; a=rsa-sha256; c=relaxed/relaxed;
 d=iol.unh.edu; s=unh-iol; t=1714507933; x=1715112733; darn=dpdk.org;
 h=references:in-reply-to:cc:to:from:subject:message-id:date:from:to
 :cc:subject:date:message-id:reply-to;
 bh=h1PlByt9Fj4elU7P7/ymyuEB0ObBDIKxdJ6Jt5ALmVI=;
 b=T9lpgHFp73TN2S2W2suodPvIWFPIJkJFAdNceR4wGh1seDKeyMjsfCSKEoJoBvcu/y
 kXLcfxwMfS5TqcrgzqTmAqeyTVNtZVdx4myoMjqmma3gflhCH4QghW0nR33pZDKH4ydg
 5Fc0/s73fzEnONmlVDKQiBXn37jZlPmqYxZTY=
X-Google-DKIM-Signature: v=1; a=rsa-sha256; c=relaxed/relaxed;
 d=1e100.net; s=20230601; t=1714507933; x=1715112733;
 h=references:in-reply-to:cc:to:from:subject:message-id:date
 :x-gm-message-state:from:to:cc:subject:date:message-id:reply-to;
 bh=h1PlByt9Fj4elU7P7/ymyuEB0ObBDIKxdJ6Jt5ALmVI=;
 b=YQS0zntS2Y7s7bqd1to16cT1WhoY9hbA+ikd1aQY5kw2czbpTn7g/4SiQ8UEYDVmiN
 v1tmAFBMKpCkgpXdH5yazywNrguKkOKDqF0E8/gwctHIidfzM2tfx60jz8Hb6oCWTBnq
 jI3ElMxa/LFmVRVulhjJCjCo9iKsgHlS/Mv0WB5P/uZQZRGFALbdZrZX6sGTIx31YhVv
 FAsyBMwYeXQr67yijp2/y0E7ulIl3tJyvETYKFGR19bno8gq2/ytgaPlLKhzQIudsAJk
 MPnIgcEnieftnUWVNvzKlfHm7g/TVlDnGhfy1CY8OaL6pU82NaF4/wD2CLnZa94wOXox
 pxig==
X-Gm-Message-State: AOJu0YyBeSB+SWo22fyzPsBmd82/zZDfCZ70GYMR4FaTuePcFxHD6NGy
 KbwJIxokDmpsylyFbJq9B5LdqeDjFhfuRWj2oLSmHOI7RGzfY+qiJ+jAjEfl7lepcWGCtOpBAdf
 zvtk1YnEkQIIuLYFRxXcgn+dYXzlQ69w79BMkHnVpeRBxfLuBbFGz58sK
X-Google-Smtp-Source: AGHT+IE54At0BnLMsPEBzbZOhV5J8aTzaTFccDrV6oezX+xf1cQcLFvtKNKaH2+gr3u3IjJXnZP/onr7mOQ5
X-Received: by 2002:a05:6e02:1c87:b0:36c:c6c:dc31 with SMTP id
 w7-20020a056e021c8700b0036c0c6cdc31mr868482ill.29.1714507933009; 
 Tue, 30 Apr 2024 13:12:13 -0700 (PDT)
Received: from postal.iol.unh.edu (postal.iol.unh.edu.
 [2606:4100:3880:1234::84]) by smtp-relay.gmail.com with ESMTPS id
 w1-20020a056638138100b00487f8a1df26sm168130jad.12.2024.04.30.13.12.12
 (version=TLS1_2 cipher=ECDHE-ECDSA-AES128-GCM-SHA256 bits=128/128);
 Tue, 30 Apr 2024 13:12:12 -0700 (PDT)
X-Relaying-Domain: iol.unh.edu
Date: Tue, 30 Apr 2024 13:12:12 -0700 (PDT)
Message-ID: <6631509c.050a0220.e01bf.71ccSMTPIN_ADDED_MISSING@mx.google.com>
Received: from [172.21.0.6] (unknown [172.18.0.240])
 by postal.iol.unh.edu (Postfix) with ESMTP id 9C393604D420;
 Tue, 30 Apr 2024 16:12:12 -0400 (EDT)
Subject: |SUCCESS| pw139745-139746 [PATCH] [v5,2/2] dts: Change hugepage 'amo
From: dpdklab@iol.unh.edu
To: Test Report <test-report@dpdk.org>
Cc: dpdk-test-reports@iol.unh.edu
In-Reply-To: <20240430184533.29247-3-npratte@iol.unh.edu>
References: <20240430184533.29247-3-npratte@iol.unh.edu>
Content-Type: text/plain
X-BeenThere: test-report@dpdk.org
X-Mailman-Version: 2.1.29
Precedence: list
List-Id: automatic DPDK test reports <test-report.dpdk.org>
List-Unsubscribe: <https://mails.dpdk.org/options/test-report>,
 <mailto:test-report-request@dpdk.org?subject=unsubscribe>
List-Archive: <http://mails.dpdk.org/archives/test-report/>
List-Post: <mailto:test-report@dpdk.org>
List-Help: <mailto:test-report-request@dpdk.org?subject=help>
List-Subscribe: <https://mails.dpdk.org/listinfo/test-report>,
 <mailto:test-report-request@dpdk.org?subject=subscribe>
Errors-To: test-report-bounces@dpdk.org

Test-Label: iol-unit-arm64-testing
Test-Status: SUCCESS
http://dpdk.org/patch/139746

_Testing PASS_

Submitter: Nicholas Pratte <npratte@iol.unh.edu>
Date: Tuesday, April 30 2024 18:45:33 
DPDK git baseline: Repo:dpdk
  Branch: master
  CommitID:7e06c0de1952d3109a5b0c4779d7e7d8059c9d78

139745-139746 --> testing pass

Test environment and result as below:

+-----------------------------+----------------+---------------------------+------------------------------+
|         Environment         | dpdk_unit_test | cryptodev_sw_zuc_autotest | cryptodev_sw_snow3g_autotest |
+=============================+================+===========================+==============================+
| Debian 12 (arm)             | PASS           | PASS                      | PASS                         |
+-----------------------------+----------------+---------------------------+------------------------------+
| Debian 11 (Buster) (ARM)    | PASS           | SKIPPED                   | SKIPPED                      |
+-----------------------------+----------------+---------------------------+------------------------------+
| CentOS Stream 9 (ARM)       | PASS           | SKIPPED                   | SKIPPED                      |
+-----------------------------+----------------+---------------------------+------------------------------+
| Fedora 39 (ARM)             | PASS           | SKIPPED                   | SKIPPED                      |
+-----------------------------+----------------+---------------------------+------------------------------+
| Fedora 37 (ARM)             | PASS           | SKIPPED                   | SKIPPED                      |
+-----------------------------+----------------+---------------------------+------------------------------+
| Ubuntu 20.04 (ARM)          | PASS           | SKIPPED                   | SKIPPED                      |
+-----------------------------+----------------+---------------------------+------------------------------+
| Fedora 38 (ARM)             | PASS           | SKIPPED                   | SKIPPED                      |
+-----------------------------+----------------+---------------------------+------------------------------+
| 32-bit Ubuntu 20.04.4 (ARM) | PASS           | SKIPPED                   | SKIPPED                      |
+-----------------------------+----------------+---------------------------+------------------------------+
| Fedora 39 (ARM Clang)       | PASS           | SKIPPED                   | SKIPPED                      |
+-----------------------------+----------------+---------------------------+------------------------------+


Debian 12 (arm)
	Kernel: Container Host Kernel
	Compiler: gcc 12.2.0

Debian 11 (Buster) (ARM)
	Kernel: Container Host Kernel
	Compiler: gcc 10.2.1

CentOS Stream 9 (ARM)
	Kernel: Container Host Kernel
	Compiler: gcc 11.4.1

Fedora 39 (ARM)
	Kernel: Depends on container host
	Compiler: gcc 13.2.1

Fedora 37 (ARM)
	Kernel: Depends on container host
	Compiler: gcc 12.3.1

Ubuntu 20.04 (ARM)
	Kernel: Container Host Kernel
	Compiler: gcc 9.4.0

Fedora 38 (ARM)
	Kernel: Depends on container host
	Compiler: gcc 13.2.1

32-bit Ubuntu 20.04.4 (ARM)
	Kernel: 5.4.0-155-generic aarch64
	Compiler: gcc 9.4

Fedora 39 (ARM Clang)
	Kernel: Depends on container host
	Compiler: clang 17.0.6

To view detailed results, visit:
https://lab.dpdk.org/results/dashboard/patchsets/29881/

UNH-IOL DPDK Community Lab

To manage your email subscriptions, visit: 
https://lab.dpdk.org/results/dashboard/preferences/subscriptions/