From mboxrd@z Thu Jan  1 00:00:00 1970
Return-Path: <test-report-bounces@dpdk.org>
Received: from mails.dpdk.org (mails.dpdk.org [217.70.189.124])
	by inbox.dpdk.org (Postfix) with ESMTP id BAF7743F56
	for <public@inbox.dpdk.org>; Tue, 30 Apr 2024 22:15:08 +0200 (CEST)
Received: from mails.dpdk.org (localhost [127.0.0.1])
	by mails.dpdk.org (Postfix) with ESMTP id B7328402BA;
	Tue, 30 Apr 2024 22:15:08 +0200 (CEST)
Received: from mail-il1-f227.google.com (mail-il1-f227.google.com
 [209.85.166.227])
 by mails.dpdk.org (Postfix) with ESMTP id D1AD44025C
 for <test-report@dpdk.org>; Tue, 30 Apr 2024 22:15:06 +0200 (CEST)
Received: by mail-il1-f227.google.com with SMTP id
 e9e14a558f8ab-36c60c6967dso1769215ab.2
 for <test-report@dpdk.org>; Tue, 30 Apr 2024 13:15:06 -0700 (PDT)
DKIM-Signature: v=1; a=rsa-sha256; c=relaxed/relaxed;
 d=iol.unh.edu; s=unh-iol; t=1714508106; x=1715112906; darn=dpdk.org;
 h=references:in-reply-to:cc:to:from:subject:message-id:date:from:to
 :cc:subject:date:message-id:reply-to;
 bh=BYO0cUF5lrkigj2pB+F8XlFaJRkHxQLiknLCTmrtiQY=;
 b=P9T1KyknCjhetQIilUzf/P3OKCLCpw9outR0kM10T9QwDFSu57GA0w+AAbOLXLSH7Z
 +XPfmeaEXRomgw/FcOyZeLvPfC07Kf3R8migdEUs4ctfm8BGr2XGisj1wy2BQD0PFxDA
 NIM72rujZL6Dal1/XSp/BFHHUzSCSB3NDUfb8=
X-Google-DKIM-Signature: v=1; a=rsa-sha256; c=relaxed/relaxed;
 d=1e100.net; s=20230601; t=1714508106; x=1715112906;
 h=references:in-reply-to:cc:to:from:subject:message-id:date
 :x-gm-message-state:from:to:cc:subject:date:message-id:reply-to;
 bh=BYO0cUF5lrkigj2pB+F8XlFaJRkHxQLiknLCTmrtiQY=;
 b=BGPtRojlVIORQhJwUif0QoPqI9JGmpvJyTgeeZM34qLkQTYQs/AnjG3Qba+vmYwW96
 z7IiOKZZkGERWiuzuRKtti/6MZb7Rfgv/fG1YCNkHV594uiUvODCheXCEbaD09QH3E35
 txlClZiO+QlN7hzFXjWdQR4iy7ipRjzUlT8QkcmbU6fZmWNaMnNCM1SKqrmYL+KKqLvt
 +rQ/RHjQmPTpx9tqERg/IqbVHtbecdFFW381PFBiIk77akftmkJDD6zGZfy2zMija7M2
 8jsaRLR9vYglVJSEiW78lD7NcLhlXQYJPkq9AQBz60D2PKIXc3mtwU2X14EQrE3F+Ums
 AhBQ==
X-Gm-Message-State: AOJu0YxgzgpNhUo3pno7qF6VhYBQYWMplnnn0H4iG7IUWC444iQUM3ND
 L6Frg14TmXmRn1RCUCJ9qFRYWxnj28HybCzTLKJ3AzzNuCvlxpMkG/wpRI9K7yOLUpPrtVOJmG8
 CdnngVWn0eg83XDjt86txpBwrcfLnz4T0WEPBo4V7BbJVu9QGFNoGOqeS
X-Google-Smtp-Source: AGHT+IHH7C/ac8bRclkBfQqOiVNX981tD2vPMBVRsMjSjHvrevlcGdDQ9f8deQx44A8rtcCZowk/PH2Z927s
X-Received: by 2002:a05:6e02:1541:b0:36c:4ff5:c178 with SMTP id
 j1-20020a056e02154100b0036c4ff5c178mr879923ilu.12.1714508106224; 
 Tue, 30 Apr 2024 13:15:06 -0700 (PDT)
Received: from postal.iol.unh.edu (postal.iol.unh.edu.
 [2606:4100:3880:1234::84]) by smtp-relay.gmail.com with ESMTPS id
 k31-20020a056638371f00b00482ee61facfsm2244685jav.17.2024.04.30.13.15.06
 (version=TLS1_2 cipher=ECDHE-ECDSA-AES128-GCM-SHA256 bits=128/128);
 Tue, 30 Apr 2024 13:15:06 -0700 (PDT)
X-Relaying-Domain: iol.unh.edu
Date: Tue, 30 Apr 2024 13:15:06 -0700 (PDT)
Message-ID: <6631514a.050a0220.91d92.ab31SMTPIN_ADDED_MISSING@mx.google.com>
Received: from [172.21.0.8] (unknown [172.18.0.240])
 by postal.iol.unh.edu (Postfix) with ESMTP id D788E604D420;
 Tue, 30 Apr 2024 16:15:05 -0400 (EDT)
Subject: |SUCCESS| pw139741-139744 [PATCH] [v9,4/4] hash: add SVE support for
From: dpdklab@iol.unh.edu
To: Test Report <test-report@dpdk.org>
Cc: dpdk-test-reports@iol.unh.edu
In-Reply-To: <20240430162743.1525484-5-yoan.picchi@arm.com>
References: <20240430162743.1525484-5-yoan.picchi@arm.com>
Content-Type: text/plain
X-BeenThere: test-report@dpdk.org
X-Mailman-Version: 2.1.29
Precedence: list
List-Id: automatic DPDK test reports <test-report.dpdk.org>
List-Unsubscribe: <https://mails.dpdk.org/options/test-report>,
 <mailto:test-report-request@dpdk.org?subject=unsubscribe>
List-Archive: <http://mails.dpdk.org/archives/test-report/>
List-Post: <mailto:test-report@dpdk.org>
List-Help: <mailto:test-report-request@dpdk.org?subject=help>
List-Subscribe: <https://mails.dpdk.org/listinfo/test-report>,
 <mailto:test-report-request@dpdk.org?subject=subscribe>
Errors-To: test-report-bounces@dpdk.org

Test-Label: iol-compile-amd64-testing
Test-Status: SUCCESS
http://dpdk.org/patch/139744

_Testing PASS_

Submitter: Yoan Picchi <yoan.picchi@arm.com>
Date: Tuesday, April 30 2024 16:27:43 
DPDK git baseline: Repo:dpdk
  Branch: master
  CommitID:7e06c0de1952d3109a5b0c4779d7e7d8059c9d78

139741-139744 --> testing pass

Test environment and result as below:

+---------------------+--------------------+----------------------+-------------------+
|     Environment     | dpdk_meson_compile | dpdk_mingw64_compile | dpdk_msvc_compile |
+=====================+====================+======================+===================+
| FreeBSD 13.3        | PASS               | SKIPPED              | SKIPPED           |
+---------------------+--------------------+----------------------+-------------------+
| Windows Server 2019 | PASS               | PASS                 | SKIPPED           |
+---------------------+--------------------+----------------------+-------------------+
| Windows Server 2022 | PASS               | PASS                 | PASS              |
+---------------------+--------------------+----------------------+-------------------+


FreeBSD 13.3
	Kernel: 13.3-RELEASE-p1
	Compiler: clang 17.0.6

Windows Server 2019
	Kernel: 10.0.17763
	Compiler: clang 14.0 and gcc 8.1.0 (MinGW)

Windows Server 2022
	Kernel: 10.0.20348.2031
	Compiler: clang 15.0.7, gcc 8.1.0 (MinGW), and MSVC VS 17.9

To view detailed results, visit:
https://lab.dpdk.org/results/dashboard/patchsets/29880/

UNH-IOL DPDK Community Lab

To manage your email subscriptions, visit: 
https://lab.dpdk.org/results/dashboard/preferences/subscriptions/