From mboxrd@z Thu Jan  1 00:00:00 1970
Return-Path: <test-report-bounces@dpdk.org>
Received: from mails.dpdk.org (mails.dpdk.org [217.70.189.124])
	by inbox.dpdk.org (Postfix) with ESMTP id 6661F43F56
	for <public@inbox.dpdk.org>; Tue, 30 Apr 2024 22:19:14 +0200 (CEST)
Received: from mails.dpdk.org (localhost [127.0.0.1])
	by mails.dpdk.org (Postfix) with ESMTP id 6167A40262;
	Tue, 30 Apr 2024 22:19:14 +0200 (CEST)
Received: from mail-oa1-f99.google.com (mail-oa1-f99.google.com
 [209.85.160.99]) by mails.dpdk.org (Postfix) with ESMTP id 463294025C
 for <test-report@dpdk.org>; Tue, 30 Apr 2024 22:18:53 +0200 (CEST)
Received: by mail-oa1-f99.google.com with SMTP id
 586e51a60fabf-238e171b118so2684713fac.3
 for <test-report@dpdk.org>; Tue, 30 Apr 2024 13:18:53 -0700 (PDT)
DKIM-Signature: v=1; a=rsa-sha256; c=relaxed/relaxed;
 d=iol.unh.edu; s=unh-iol; t=1714508332; x=1715113132; darn=dpdk.org;
 h=references:in-reply-to:cc:to:from:subject:message-id:date:from:to
 :cc:subject:date:message-id:reply-to;
 bh=nvIeoR+mjUZVzUmUBmNKVQN1TI9h+4UQu8i0ib3a3wE=;
 b=gp1UijiYUBWBj9jVbOUcgSyoIzOdv4f1ACHKKjW7Ijhe9ktGEjhCuBoGaeLaZwSafd
 YZesb7hrZ77rLn+eiVaqHGnWckONOEHLgDvDwydlQkDItuWaHoP+BdWzFCUD6ZvZl+ra
 5VmqgGEUVvfOGa7HU/V1xkU9Vjk5Cz5YEIVqM=
X-Google-DKIM-Signature: v=1; a=rsa-sha256; c=relaxed/relaxed;
 d=1e100.net; s=20230601; t=1714508332; x=1715113132;
 h=references:in-reply-to:cc:to:from:subject:message-id:date
 :x-gm-message-state:from:to:cc:subject:date:message-id:reply-to;
 bh=nvIeoR+mjUZVzUmUBmNKVQN1TI9h+4UQu8i0ib3a3wE=;
 b=QHYWrZe/wyBhtCfaxtihUEgMyo0tr9qg7p/Pc2WuMF0oaqkMAeq57wDtNL6vbAgdOv
 JOCrS1hg4iB27arzfQYCtWRpO/F/Hgfau/MExoyypFfz5QJdMV3q2omz1czj6jqWZPKj
 mt+WcMP9me4XSHsSkDNkTTD/a2noQqsojWIxvGmJvh1N71m5s8Y9lopaR7MDCXL7TXyL
 ZUrDAlZCohCMcBH7BThmeZ4YwuqLSSMPpSxIVVa5IbBxd8clgdNEgXlsCgk+xOqic3VJ
 H+9y8ZThVHC58/uipUxVgPaoGlvSH3ds4u7DZpelYf/C2L0egfB6asqEjKusjk7e+cJh
 ijjw==
X-Gm-Message-State: AOJu0YyU81szshAW0Sj2bMaoYNDTt77idLwv5I0AmHedu0gLXoMAOTSi
 QLlMbcPuIcrGbzB3BNyibu3c3774Dpv3rzGckKtREiFh6lJTNNjr8LVU7S6MxmGxCr++4oiSm2b
 fkgU/Rf//liGkXhOfuzOuNWqGXsiv1F1DgBKhgI4t
X-Google-Smtp-Source: AGHT+IFWY4/urTzHckS3jtKnt5U4pcb+dIIDVZGuNpADoYCUqaHyBRAdKRLD1aWEVatmse80vnKbm+u2/Kjs
X-Received: by 2002:a05:6870:8a10:b0:22e:c1ff:303c with SMTP id
 p16-20020a0568708a1000b0022ec1ff303cmr637230oaq.37.1714508332673; 
 Tue, 30 Apr 2024 13:18:52 -0700 (PDT)
Received: from postal.iol.unh.edu (postal.iol.unh.edu. [132.177.123.84])
 by smtp-relay.gmail.com with ESMTPS id
 br5-20020a056871b40500b0021e7c9d798bsm631652oac.5.2024.04.30.13.18.52
 (version=TLS1_2 cipher=ECDHE-ECDSA-AES128-GCM-SHA256 bits=128/128);
 Tue, 30 Apr 2024 13:18:52 -0700 (PDT)
X-Relaying-Domain: iol.unh.edu
Date: Tue, 30 Apr 2024 13:18:52 -0700 (PDT)
Message-ID: <6631522c.050a0220.e3db1.8f89SMTPIN_ADDED_MISSING@mx.google.com>
Received: from [172.21.0.6] (unknown [172.18.0.240])
 by postal.iol.unh.edu (Postfix) with ESMTP id 27230604D420;
 Tue, 30 Apr 2024 16:18:52 -0400 (EDT)
Subject: |SUCCESS| pw139741-139744 [PATCH] [v9,4/4] hash: add SVE support for
From: dpdklab@iol.unh.edu
To: Test Report <test-report@dpdk.org>
Cc: dpdk-test-reports@iol.unh.edu
In-Reply-To: <20240430162743.1525484-5-yoan.picchi@arm.com>
References: <20240430162743.1525484-5-yoan.picchi@arm.com>
Content-Type: text/plain
X-BeenThere: test-report@dpdk.org
X-Mailman-Version: 2.1.29
Precedence: list
List-Id: automatic DPDK test reports <test-report.dpdk.org>
List-Unsubscribe: <https://mails.dpdk.org/options/test-report>,
 <mailto:test-report-request@dpdk.org?subject=unsubscribe>
List-Archive: <http://mails.dpdk.org/archives/test-report/>
List-Post: <mailto:test-report@dpdk.org>
List-Help: <mailto:test-report-request@dpdk.org?subject=help>
List-Subscribe: <https://mails.dpdk.org/listinfo/test-report>,
 <mailto:test-report-request@dpdk.org?subject=subscribe>
Errors-To: test-report-bounces@dpdk.org

Test-Label: iol-compile-arm64-testing
Test-Status: SUCCESS
http://dpdk.org/patch/139744

_Testing PASS_

Submitter: Yoan Picchi <yoan.picchi@arm.com>
Date: Tuesday, April 30 2024 16:27:43 
DPDK git baseline: Repo:dpdk
  Branch: master
  CommitID:7e06c0de1952d3109a5b0c4779d7e7d8059c9d78

139741-139744 --> testing pass

Test environment and result as below:

+--------------------------+--------------------+
|       Environment        | dpdk_meson_compile |
+==========================+====================+
| Ubuntu 20.04 ARM SVE     | PASS               |
+--------------------------+--------------------+
| Debian 12 with MUSDK     | PASS               |
+--------------------------+--------------------+
| Fedora 37 (ARM)          | PASS               |
+--------------------------+--------------------+
| Fedora 38 (ARM)          | PASS               |
+--------------------------+--------------------+
| CentOS Stream 9 (ARM)    | PASS               |
+--------------------------+--------------------+
| Debian 11 (Buster) (ARM) | PASS               |
+--------------------------+--------------------+
| Ubuntu 20.04 (ARM)       | PASS               |
+--------------------------+--------------------+
| Fedora 39 (ARM)          | PASS               |
+--------------------------+--------------------+
| Debian 12 (arm)          | PASS               |
+--------------------------+--------------------+


Ubuntu 20.04 ARM SVE
	Kernel: 5.4.0-167-generic
	Compiler: gcc (Ubuntu 10.5.0-1ubuntu1~20.04) 10.5.0

Debian 12 with MUSDK
	Kernel: Container Host Kernel
	Compiler: gcc 12.2.0

Fedora 37 (ARM)
	Kernel: Depends on container host
	Compiler: gcc 12.3.1

Fedora 38 (ARM)
	Kernel: Depends on container host
	Compiler: gcc 13.2.1

CentOS Stream 9 (ARM)
	Kernel: Container Host Kernel
	Compiler: gcc 11.4.1

Debian 11 (Buster) (ARM)
	Kernel: Container Host Kernel
	Compiler: gcc 10.2.1

Ubuntu 20.04 (ARM)
	Kernel: Container Host Kernel
	Compiler: gcc 9.4.0

Fedora 39 (ARM)
	Kernel: Depends on container host
	Compiler: gcc 13.2.1

Debian 12 (arm)
	Kernel: Container Host Kernel
	Compiler: gcc 12.2.0

To view detailed results, visit:
https://lab.dpdk.org/results/dashboard/patchsets/29880/

UNH-IOL DPDK Community Lab

To manage your email subscriptions, visit: 
https://lab.dpdk.org/results/dashboard/preferences/subscriptions/