From mboxrd@z Thu Jan  1 00:00:00 1970
Return-Path: <test-report-bounces@dpdk.org>
Received: from mails.dpdk.org (mails.dpdk.org [217.70.189.124])
	by inbox.dpdk.org (Postfix) with ESMTP id 9166943F56
	for <public@inbox.dpdk.org>; Tue, 30 Apr 2024 22:33:11 +0200 (CEST)
Received: from mails.dpdk.org (localhost [127.0.0.1])
	by mails.dpdk.org (Postfix) with ESMTP id 8D91F40262;
	Tue, 30 Apr 2024 22:33:11 +0200 (CEST)
Received: from mail-il1-f225.google.com (mail-il1-f225.google.com
 [209.85.166.225])
 by mails.dpdk.org (Postfix) with ESMTP id A74264025C
 for <test-report@dpdk.org>; Tue, 30 Apr 2024 22:33:10 +0200 (CEST)
Received: by mail-il1-f225.google.com with SMTP id
 e9e14a558f8ab-369e3c29aedso24905655ab.1
 for <test-report@dpdk.org>; Tue, 30 Apr 2024 13:33:10 -0700 (PDT)
DKIM-Signature: v=1; a=rsa-sha256; c=relaxed/relaxed;
 d=iol.unh.edu; s=unh-iol; t=1714509190; x=1715113990; darn=dpdk.org;
 h=references:in-reply-to:cc:to:from:subject:message-id:date:from:to
 :cc:subject:date:message-id:reply-to;
 bh=5kNy5Xj699IHhkI3EmlDF4wa3TkuMuOHyFYN6VQe05M=;
 b=d8RoVTCI/9GV6p2z+iZ+7mPRMcKmjPIFxdB7tHH6SvjxrIf66Hr0hsdUVpm7CPWQlE
 RWB/vq0oh96kNUlwb2UN0LyGwanX/Ksd75Ig8A5eCH9tyv8MuC1rdqYwAZRI8JC8dKqS
 Pt9mG1zJN/nb6RbB/r4r+AhuUl2rJc8G/thYk=
X-Google-DKIM-Signature: v=1; a=rsa-sha256; c=relaxed/relaxed;
 d=1e100.net; s=20230601; t=1714509190; x=1715113990;
 h=references:in-reply-to:cc:to:from:subject:message-id:date
 :x-gm-message-state:from:to:cc:subject:date:message-id:reply-to;
 bh=5kNy5Xj699IHhkI3EmlDF4wa3TkuMuOHyFYN6VQe05M=;
 b=A1IA+oDBF8I23AWJ7CjxWyfGvgJzrfdivu6IuamYbystBBsKywlSNb4cPQvvRnVtVz
 v13+HxH5eCBvgpaiJnHC9JhSjhMC5TNXHmtWgxeumQ/hgLJbnhtORREPuPoiREO4i/Hg
 GNA+we6NtJGkLmZX8MULJtEKYTtwwgoTLUsnz6+8VQCZKSIYUYU3+fmXNytWZhWzCjPw
 Ux441Cd564qxuu3ddrikoryN61DiZWabWrZJFwwPfBojOtiK6KjYsLOx9LT2I8wEbLYy
 CgOmOyOKAnWEz1/+XdqU4oBLsbsTijrL+shN6HSdaZzKwBYxzLzaz9oJh1s481eLKY9B
 bhdA==
X-Gm-Message-State: AOJu0YzGzDjAMcsjE7hq9jvE3/yR36t/6sg0WTF6mPWtoMI67R1cxCIq
 +JhyjIZr+UfpNGvCGFk+S8cyp+MG4Ou62byPEI22NWcSkU9dIktQEbc+APPo69n7fkqq+h4YG9i
 fxHJUC2O4QH3m3kFOlqMUkTQgUvFLl42tozEFmyclSds6xAFG+xXMuKz3
X-Google-Smtp-Source: AGHT+IF61/93DmD9KTUxjVC3+pZIyZGyd5ctt4IahiBfBXmg3rccRKOj8w/h6b3r/vCBvb9QXl03NHtH2BwL
X-Received: by 2002:a92:c26d:0:b0:36c:f20:91b0 with SMTP id
 h13-20020a92c26d000000b0036c0f2091b0mr991509ild.11.1714509190098; 
 Tue, 30 Apr 2024 13:33:10 -0700 (PDT)
Received: from postal.iol.unh.edu (postal.iol.unh.edu.
 [2606:4100:3880:1234::84]) by smtp-relay.gmail.com with ESMTPS id
 q13-20020a056e0220ed00b003698dbf5d94sm1579074ilv.5.2024.04.30.13.33.09
 (version=TLS1_2 cipher=ECDHE-ECDSA-AES128-GCM-SHA256 bits=128/128);
 Tue, 30 Apr 2024 13:33:10 -0700 (PDT)
X-Relaying-Domain: iol.unh.edu
Date: Tue, 30 Apr 2024 13:33:10 -0700 (PDT)
Message-ID: <66315586.050a0220.a32de.88e3SMTPIN_ADDED_MISSING@mx.google.com>
Received: from [172.21.0.6] (unknown [172.18.0.240])
 by postal.iol.unh.edu (Postfix) with ESMTP id 8BEBE604D420;
 Tue, 30 Apr 2024 16:33:09 -0400 (EDT)
Subject: |SUCCESS| pw139741-139744 [PATCH] [v9,4/4] hash: add SVE support for
From: dpdklab@iol.unh.edu
To: Test Report <test-report@dpdk.org>
Cc: dpdk-test-reports@iol.unh.edu
In-Reply-To: <20240430162743.1525484-5-yoan.picchi@arm.com>
References: <20240430162743.1525484-5-yoan.picchi@arm.com>
Content-Type: text/plain
X-BeenThere: test-report@dpdk.org
X-Mailman-Version: 2.1.29
Precedence: list
List-Id: automatic DPDK test reports <test-report.dpdk.org>
List-Unsubscribe: <https://mails.dpdk.org/options/test-report>,
 <mailto:test-report-request@dpdk.org?subject=unsubscribe>
List-Archive: <http://mails.dpdk.org/archives/test-report/>
List-Post: <mailto:test-report@dpdk.org>
List-Help: <mailto:test-report-request@dpdk.org?subject=help>
List-Subscribe: <https://mails.dpdk.org/listinfo/test-report>,
 <mailto:test-report-request@dpdk.org?subject=subscribe>
Errors-To: test-report-bounces@dpdk.org

Test-Label: iol-abi-testing
Test-Status: SUCCESS
http://dpdk.org/patch/139744

_Testing PASS_

Submitter: Yoan Picchi <yoan.picchi@arm.com>
Date: Tuesday, April 30 2024 16:27:43 
DPDK git baseline: Repo:dpdk
  Branch: master
  CommitID:7e06c0de1952d3109a5b0c4779d7e7d8059c9d78

139741-139744 --> testing pass

Test environment and result as below:

+-----------------+----------+
|   Environment   | abi_test |
+=================+==========+
| Fedora 38       | PASS     |
+-----------------+----------+
| CentOS Stream 9 | PASS     |
+-----------------+----------+
| CentOS Stream 8 | PASS     |
+-----------------+----------+
| Fedora 37       | PASS     |
+-----------------+----------+
| Debian Bullseye | PASS     |
+-----------------+----------+
| Fedora 39       | PASS     |
+-----------------+----------+


Fedora 38
	Kernel: Depends on container host
	Compiler: clang 16.0.6

CentOS Stream 9
	Kernel: 5.4.0-167-generic
	Compiler: gcc 11.4.1 20230605

CentOS Stream 8
	Kernel: 5.4.0-167-generic
	Compiler: gcc 8.5.0 20210514

Fedora 37
	Kernel: Depends on container host system
	Compiler: gcc 12.3.1

Debian Bullseye
	Kernel: 5.4.0-167-generic
	Compiler: gcc 10.2.1-6

Fedora 39
	Kernel: Depends on container host
	Compiler: clang 17.0.6

To view detailed results, visit:
https://lab.dpdk.org/results/dashboard/patchsets/29880/

UNH-IOL DPDK Community Lab

To manage your email subscriptions, visit: 
https://lab.dpdk.org/results/dashboard/preferences/subscriptions/