From mboxrd@z Thu Jan  1 00:00:00 1970
Return-Path: <test-report-bounces@dpdk.org>
Received: from mails.dpdk.org (mails.dpdk.org [217.70.189.124])
	by inbox.dpdk.org (Postfix) with ESMTP id 445F643F56
	for <public@inbox.dpdk.org>; Tue, 30 Apr 2024 22:40:09 +0200 (CEST)
Received: from mails.dpdk.org (localhost [127.0.0.1])
	by mails.dpdk.org (Postfix) with ESMTP id 3ECF740262;
	Tue, 30 Apr 2024 22:40:09 +0200 (CEST)
Received: from mail-yw1-f228.google.com (mail-yw1-f228.google.com
 [209.85.128.228])
 by mails.dpdk.org (Postfix) with ESMTP id BB0A54025C
 for <test-report@dpdk.org>; Tue, 30 Apr 2024 22:40:06 +0200 (CEST)
Received: by mail-yw1-f228.google.com with SMTP id
 00721157ae682-61b92a83216so70514577b3.2
 for <test-report@dpdk.org>; Tue, 30 Apr 2024 13:40:06 -0700 (PDT)
DKIM-Signature: v=1; a=rsa-sha256; c=relaxed/relaxed;
 d=iol.unh.edu; s=unh-iol; t=1714509606; x=1715114406; darn=dpdk.org;
 h=references:in-reply-to:cc:to:from:subject:message-id:date:from:to
 :cc:subject:date:message-id:reply-to;
 bh=nqAvmHSU+h0mNUXonyxhfNFWBDCVPQ49korAGES6tJ0=;
 b=MmiH8GLinb0GGD8WpFvnazX3Z8sQ5DdV9SThCo93mjeUkIiEiT1VCNjcx9x+Gqufza
 fHhNjmLnssxyxl1cP1oHl+rfkMa/Q8m6Dr2kwpMBAWZKos4AEJbyJBjaaz2IwarBfuYb
 67ZF6tEyQ8y2QqMeRqr5gDfYS+UFmCbb1mWKA=
X-Google-DKIM-Signature: v=1; a=rsa-sha256; c=relaxed/relaxed;
 d=1e100.net; s=20230601; t=1714509606; x=1715114406;
 h=references:in-reply-to:cc:to:from:subject:message-id:date
 :x-gm-message-state:from:to:cc:subject:date:message-id:reply-to;
 bh=nqAvmHSU+h0mNUXonyxhfNFWBDCVPQ49korAGES6tJ0=;
 b=RsE4D13nTk+FQDtbDwcPbVEDXbjRX+CRfL0tJCC9MTzR1fT3LQ/Wpn8Pb3haPr07Hy
 6glhqOfO5dK7iH76iqfchO9qlw3oDAqyuIfFYTxda1cmMOIRAeBo9QOtNkf0cxnvcclJ
 /ZIKTNmPcfvTG1a3rOxYNEWtDY24hj39Y3B61/StwYRxYeKzYtdd8GPdbJyE7sRxkhND
 ZB9lx/xFGMCXFWb2Ucd3+zImFHSSRJFc/WR+QH8Fz3wXCN/GYAKyaXSWNMG8THdNENru
 isSEmU2Q3W+zsnIPTmIxgdzHXea8A8rkIHbXi5xmMTWptoJ9kwow0gsTiPiZUWpMVq4X
 8/cw==
X-Gm-Message-State: AOJu0YyVWjqWNy10NH04VBzgKujZyAJScCTGTmSFqcimhk5o8VWTttEl
 MsD1AiPM8bM59m9hisfm6/a6jmSwk3oPO6piTiTGy8d0JHD+sxNMzm223t1lKZol9rOeVKKBEI6
 dhWiAos82Hz5HUsR3Royxcf4Sfmmfkpc0W1Qq6vBN
X-Google-Smtp-Source: AGHT+IE30EFNkIaSPqY5vV8KyRRMiRTxMxzwaj7G2Pbt4ZO3tfWHgbcjZQCJjESQ19/70SMlIcSeng3eX7Av
X-Received: by 2002:a05:690c:6102:b0:60c:c31c:4f71 with SMTP id
 hi2-20020a05690c610200b0060cc31c4f71mr756469ywb.42.1714509606195; 
 Tue, 30 Apr 2024 13:40:06 -0700 (PDT)
Received: from postal.iol.unh.edu (postal.iol.unh.edu. [132.177.123.84])
 by smtp-relay.gmail.com with ESMTPS id
 z1-20020a818901000000b0060aa4f76b47sm2271046ywf.44.2024.04.30.13.40.06
 (version=TLS1_2 cipher=ECDHE-ECDSA-AES128-GCM-SHA256 bits=128/128);
 Tue, 30 Apr 2024 13:40:06 -0700 (PDT)
X-Relaying-Domain: iol.unh.edu
Date: Tue, 30 Apr 2024 13:40:06 -0700 (PDT)
Message-ID: <66315726.810a0220.1eb78.0752SMTPIN_ADDED_MISSING@mx.google.com>
Received: from [172.21.0.6] (unknown [172.18.0.240])
 by postal.iol.unh.edu (Postfix) with ESMTP id C75F5604D420;
 Tue, 30 Apr 2024 16:40:05 -0400 (EDT)
Subject: |SUCCESS| pw139745-139746 [PATCH] [v5,2/2] dts: Change hugepage 'amo
From: dpdklab@iol.unh.edu
To: Test Report <test-report@dpdk.org>
Cc: dpdk-test-reports@iol.unh.edu
In-Reply-To: <20240430184533.29247-3-npratte@iol.unh.edu>
References: <20240430184533.29247-3-npratte@iol.unh.edu>
Content-Type: text/plain
X-BeenThere: test-report@dpdk.org
X-Mailman-Version: 2.1.29
Precedence: list
List-Id: automatic DPDK test reports <test-report.dpdk.org>
List-Unsubscribe: <https://mails.dpdk.org/options/test-report>,
 <mailto:test-report-request@dpdk.org?subject=unsubscribe>
List-Archive: <http://mails.dpdk.org/archives/test-report/>
List-Post: <mailto:test-report@dpdk.org>
List-Help: <mailto:test-report-request@dpdk.org?subject=help>
List-Subscribe: <https://mails.dpdk.org/listinfo/test-report>,
 <mailto:test-report-request@dpdk.org?subject=subscribe>
Errors-To: test-report-bounces@dpdk.org

Test-Label: iol-unit-arm64-testing
Test-Status: SUCCESS
http://dpdk.org/patch/139746

_Testing PASS_

Submitter: Nicholas Pratte <npratte@iol.unh.edu>
Date: Tuesday, April 30 2024 18:45:33 
DPDK git baseline: Repo:dpdk
  Branch: master
  CommitID:7e06c0de1952d3109a5b0c4779d7e7d8059c9d78

139745-139746 --> testing pass

Test environment and result as below:

+-----------------------------+----------------+---------------------------+------------------------------+--------------+
|         Environment         | dpdk_unit_test | cryptodev_sw_zuc_autotest | cryptodev_sw_snow3g_autotest | lpm_autotest |
+=============================+================+===========================+==============================+==============+
| Debian 12 (arm)             | PASS           | PASS                      | PASS                         | SKIPPED      |
+-----------------------------+----------------+---------------------------+------------------------------+--------------+
| Debian 11 (Buster) (ARM)    | PASS           | SKIPPED                   | SKIPPED                      | SKIPPED      |
+-----------------------------+----------------+---------------------------+------------------------------+--------------+
| CentOS Stream 9 (ARM)       | PASS           | SKIPPED                   | SKIPPED                      | SKIPPED      |
+-----------------------------+----------------+---------------------------+------------------------------+--------------+
| Fedora 39 (ARM)             | PASS           | SKIPPED                   | SKIPPED                      | SKIPPED      |
+-----------------------------+----------------+---------------------------+------------------------------+--------------+
| Fedora 37 (ARM)             | PASS           | SKIPPED                   | SKIPPED                      | SKIPPED      |
+-----------------------------+----------------+---------------------------+------------------------------+--------------+
| Ubuntu 20.04 (ARM)          | PASS           | SKIPPED                   | SKIPPED                      | SKIPPED      |
+-----------------------------+----------------+---------------------------+------------------------------+--------------+
| Fedora 38 (ARM)             | PASS           | SKIPPED                   | SKIPPED                      | SKIPPED      |
+-----------------------------+----------------+---------------------------+------------------------------+--------------+
| 32-bit Ubuntu 20.04.4 (ARM) | PASS           | SKIPPED                   | SKIPPED                      | SKIPPED      |
+-----------------------------+----------------+---------------------------+------------------------------+--------------+
| Fedora 39 (ARM Clang)       | PASS           | SKIPPED                   | SKIPPED                      | SKIPPED      |
+-----------------------------+----------------+---------------------------+------------------------------+--------------+
| Fedora 38 (ARM Clang)       | PASS           | SKIPPED                   | SKIPPED                      | SKIPPED      |
+-----------------------------+----------------+---------------------------+------------------------------+--------------+
| Ubuntu 20.04 ARM SVE        | SKIPPED        | SKIPPED                   | SKIPPED                      | PASS         |
+-----------------------------+----------------+---------------------------+------------------------------+--------------+


Debian 12 (arm)
	Kernel: Container Host Kernel
	Compiler: gcc 12.2.0

Debian 11 (Buster) (ARM)
	Kernel: Container Host Kernel
	Compiler: gcc 10.2.1

CentOS Stream 9 (ARM)
	Kernel: Container Host Kernel
	Compiler: gcc 11.4.1

Fedora 39 (ARM)
	Kernel: Depends on container host
	Compiler: gcc 13.2.1

Fedora 37 (ARM)
	Kernel: Depends on container host
	Compiler: gcc 12.3.1

Ubuntu 20.04 (ARM)
	Kernel: Container Host Kernel
	Compiler: gcc 9.4.0

Fedora 38 (ARM)
	Kernel: Depends on container host
	Compiler: gcc 13.2.1

32-bit Ubuntu 20.04.4 (ARM)
	Kernel: 5.4.0-155-generic aarch64
	Compiler: gcc 9.4

Fedora 39 (ARM Clang)
	Kernel: Depends on container host
	Compiler: clang 17.0.6

Fedora 38 (ARM Clang)
	Kernel: Depends on container host
	Compiler: clang 16.0.6

Ubuntu 20.04 ARM SVE
	Kernel: 5.4.0-167-generic
	Compiler: gcc (Ubuntu 10.5.0-1ubuntu1~20.04) 10.5.0

To view detailed results, visit:
https://lab.dpdk.org/results/dashboard/patchsets/29881/

UNH-IOL DPDK Community Lab

To manage your email subscriptions, visit: 
https://lab.dpdk.org/results/dashboard/preferences/subscriptions/