From mboxrd@z Thu Jan  1 00:00:00 1970
Return-Path: <test-report-bounces@dpdk.org>
Received: from mails.dpdk.org (mails.dpdk.org [217.70.189.124])
	by inbox.dpdk.org (Postfix) with ESMTP id 0087543F56
	for <public@inbox.dpdk.org>; Tue, 30 Apr 2024 23:03:10 +0200 (CEST)
Received: from mails.dpdk.org (localhost [127.0.0.1])
	by mails.dpdk.org (Postfix) with ESMTP id EFF6C40262;
	Tue, 30 Apr 2024 23:03:10 +0200 (CEST)
Received: from mail-pf1-f227.google.com (mail-pf1-f227.google.com
 [209.85.210.227])
 by mails.dpdk.org (Postfix) with ESMTP id 0AE9E4025C
 for <test-report@dpdk.org>; Tue, 30 Apr 2024 23:03:09 +0200 (CEST)
Received: by mail-pf1-f227.google.com with SMTP id
 d2e1a72fcca58-6f074520c8cso5945115b3a.0
 for <test-report@dpdk.org>; Tue, 30 Apr 2024 14:03:08 -0700 (PDT)
DKIM-Signature: v=1; a=rsa-sha256; c=relaxed/relaxed;
 d=iol.unh.edu; s=unh-iol; t=1714510988; x=1715115788; darn=dpdk.org;
 h=references:in-reply-to:cc:to:from:subject:message-id:date:from:to
 :cc:subject:date:message-id:reply-to;
 bh=jKrM+PYz9SvnUg/4CWig3SEUyG6KWCq6/Amgmztv6g0=;
 b=dwLdvnS14DBqrnJN9PgoCWvtxeORYljLH6dVCcvXbrSTasuMLS8jDywTE8MXEou7Rx
 WhmnAkmw8YLY6kRZO1QLntxxAoKAkJvHo2glAylsOER0Zkq9Pjjx+uVoOtd21vpe60Mt
 hOUvSDF1vYlGFm06CAkIjXVBXaantPNkuUpww=
X-Google-DKIM-Signature: v=1; a=rsa-sha256; c=relaxed/relaxed;
 d=1e100.net; s=20230601; t=1714510988; x=1715115788;
 h=references:in-reply-to:cc:to:from:subject:message-id:date
 :x-gm-message-state:from:to:cc:subject:date:message-id:reply-to;
 bh=jKrM+PYz9SvnUg/4CWig3SEUyG6KWCq6/Amgmztv6g0=;
 b=JwfXxqltN4xDbmnLje2/v3DuYwZTPCk2GZWfQYazC47Kekbsz7z0zYsdPV2Blubvxx
 sKpZOeYu62SbKBFqv/I9ShsMFgGJFubeh+lDf4wyUalhEVe2MsLpS90z7x8rnctweLXC
 BT4OnwqN/NwNEu3FCptsSWaQ40vecxbF/UHV5sm0f3WmBi6Qb+WHP/YcY8f0c+YjtSJV
 HfIZNXSALXg3GXFcUJxQUY3T+Iz5Z8n4jogJMEeM9CXV6x5G+EauyUqDF7+vjTz9kUDn
 2mzp9sRS6np/GuHyOOkd8hA7gF99V/jeYmiCGxKQacH28oeWXVhGzC3JX2mj6WBuCh1y
 ZTKg==
X-Gm-Message-State: AOJu0Yy8mf5Of5ZQ3UI1wShYWiY98ufHyBuB1bhcHCGhLhWHmXXvfnEd
 YPP9r3LfSRyyJY0bhVIvarive0EK0YCtn5FuXl36M1gn7aK4s2cE7pxBGOOQJKbRM/fM2jW/zkx
 Yu47MKXXjD91dFmpt1gHQPLH5BS64xxBL5xGB/aFdNpihHdC1S3I0uxV3
X-Google-Smtp-Source: AGHT+IEYL1EhBGtlDvNPAorYIVXDhwHBWKTvvqKV+Zzr2d4wfwrExSflmy7ysfxaL1XsM/ddowDA1143N34G
X-Received: by 2002:a05:6a20:2447:b0:1ae:3f36:28cf with SMTP id
 t7-20020a056a20244700b001ae3f3628cfmr1270466pzc.56.1714510988119; 
 Tue, 30 Apr 2024 14:03:08 -0700 (PDT)
Received: from postal.iol.unh.edu (postal.iol.unh.edu.
 [2606:4100:3880:1234::84]) by smtp-relay.gmail.com with ESMTPS id
 jw38-20020a056a0092a600b006f41798fe20sm146373pfb.3.2024.04.30.14.03.08
 (version=TLS1_2 cipher=ECDHE-ECDSA-AES128-GCM-SHA256 bits=128/128);
 Tue, 30 Apr 2024 14:03:08 -0700 (PDT)
X-Relaying-Domain: iol.unh.edu
Date: Tue, 30 Apr 2024 14:03:08 -0700 (PDT)
Message-ID: <66315c8c.050a0220.84597.545aSMTPIN_ADDED_MISSING@mx.google.com>
Received: from [172.21.0.6] (unknown [172.18.0.240])
 by postal.iol.unh.edu (Postfix) with ESMTP id 4109F604D420;
 Tue, 30 Apr 2024 17:03:07 -0400 (EDT)
Subject: |SUCCESS| pw139741-139744 [PATCH] [v9,4/4] hash: add SVE support for
From: dpdklab@iol.unh.edu
To: Test Report <test-report@dpdk.org>
Cc: dpdk-test-reports@iol.unh.edu
In-Reply-To: <20240430162743.1525484-5-yoan.picchi@arm.com>
References: <20240430162743.1525484-5-yoan.picchi@arm.com>
Content-Type: text/plain
X-BeenThere: test-report@dpdk.org
X-Mailman-Version: 2.1.29
Precedence: list
List-Id: automatic DPDK test reports <test-report.dpdk.org>
List-Unsubscribe: <https://mails.dpdk.org/options/test-report>,
 <mailto:test-report-request@dpdk.org?subject=unsubscribe>
List-Archive: <http://mails.dpdk.org/archives/test-report/>
List-Post: <mailto:test-report@dpdk.org>
List-Help: <mailto:test-report-request@dpdk.org?subject=help>
List-Subscribe: <https://mails.dpdk.org/listinfo/test-report>,
 <mailto:test-report-request@dpdk.org?subject=subscribe>
Errors-To: test-report-bounces@dpdk.org

Test-Label: iol-unit-amd64-testing
Test-Status: SUCCESS
http://dpdk.org/patch/139744

_Testing PASS_

Submitter: Yoan Picchi <yoan.picchi@arm.com>
Date: Tuesday, April 30 2024 16:27:43 
DPDK git baseline: Repo:dpdk
  Branch: master
  CommitID:7e06c0de1952d3109a5b0c4779d7e7d8059c9d78

139741-139744 --> testing pass

Test environment and result as below:

+---------------------+----------------+
|     Environment     | dpdk_unit_test |
+=====================+================+
| Windows Server 2019 | PASS           |
+---------------------+----------------+
| Windows Server 2022 | PASS           |
+---------------------+----------------+
| Debian 12           | PASS           |
+---------------------+----------------+
| CentOS Stream 8     | PASS           |
+---------------------+----------------+
| Fedora 37           | PASS           |
+---------------------+----------------+
| CentOS Stream 9     | PASS           |
+---------------------+----------------+
| Debian Bullseye     | PASS           |
+---------------------+----------------+
| Fedora 38           | PASS           |
+---------------------+----------------+


Windows Server 2019
	Kernel: 10.0.17763
	Compiler: clang 14.0 and gcc 8.1.0 (MinGW)

Windows Server 2022
	Kernel: 10.0.20348.2031
	Compiler: clang 15.0.7, gcc 8.1.0 (MinGW), and MSVC VS 17.9

Debian 12
	Kernel: Container Host Kernel
	Compiler: gcc 10.2.1

CentOS Stream 8
	Kernel: 5.4.0-167-generic
	Compiler: gcc 8.5.0 20210514

Fedora 37
	Kernel: Depends on container host system
	Compiler: gcc 12.3.1

CentOS Stream 9
	Kernel: 5.4.0-167-generic
	Compiler: gcc 11.4.1 20230605

Debian Bullseye
	Kernel: 5.4.0-167-generic
	Compiler: gcc 10.2.1-6

Fedora 38
	Kernel: Depends on container host
	Compiler: gcc 13.2.1

To view detailed results, visit:
https://lab.dpdk.org/results/dashboard/patchsets/29880/

UNH-IOL DPDK Community Lab

To manage your email subscriptions, visit: 
https://lab.dpdk.org/results/dashboard/preferences/subscriptions/