From mboxrd@z Thu Jan  1 00:00:00 1970
Return-Path: <test-report-bounces@dpdk.org>
Received: from mails.dpdk.org (mails.dpdk.org [217.70.189.124])
	by inbox.dpdk.org (Postfix) with ESMTP id AC94143F56
	for <public@inbox.dpdk.org>; Tue, 30 Apr 2024 23:10:58 +0200 (CEST)
Received: from mails.dpdk.org (localhost [127.0.0.1])
	by mails.dpdk.org (Postfix) with ESMTP id A878640262;
	Tue, 30 Apr 2024 23:10:58 +0200 (CEST)
Received: from mail-oa1-f99.google.com (mail-oa1-f99.google.com
 [209.85.160.99]) by mails.dpdk.org (Postfix) with ESMTP id EDCCC4025C
 for <test-report@dpdk.org>; Tue, 30 Apr 2024 23:10:56 +0200 (CEST)
Received: by mail-oa1-f99.google.com with SMTP id
 586e51a60fabf-23d4a716ee7so372414fac.2
 for <test-report@dpdk.org>; Tue, 30 Apr 2024 14:10:56 -0700 (PDT)
DKIM-Signature: v=1; a=rsa-sha256; c=relaxed/relaxed;
 d=iol.unh.edu; s=unh-iol; t=1714511456; x=1715116256; darn=dpdk.org;
 h=references:in-reply-to:cc:to:from:subject:message-id:date:from:to
 :cc:subject:date:message-id:reply-to;
 bh=+Y4x3jVpjcgRJ/B6rZ6AIjSek/VJOcjyJ/mZhWKjhTA=;
 b=IaejtpnfMW5FJMv7ypCgySTB8GOqiRpHoLNzDLw3Moj9FaRf7NlyWHyf5i9wx2YFZg
 fJ9qRyuLBzFmiAIzXqgjJ7PfVYRa4ENUTSUd1JGydYnc95yQVOde0G2kz6xj/v8fJfrK
 P/X0IqW4xqNtDW3XHgwIIgGTkGP62F9oK3yWs=
X-Google-DKIM-Signature: v=1; a=rsa-sha256; c=relaxed/relaxed;
 d=1e100.net; s=20230601; t=1714511456; x=1715116256;
 h=references:in-reply-to:cc:to:from:subject:message-id:date
 :x-gm-message-state:from:to:cc:subject:date:message-id:reply-to;
 bh=+Y4x3jVpjcgRJ/B6rZ6AIjSek/VJOcjyJ/mZhWKjhTA=;
 b=DT04Qpl4iFue5g40mrMhyGgtQvwEV7S718etR3S4Yc0c2tavZTJPfg5cCvXQ/KMvn2
 7+pdLhjdbYdtwgIqrPkLkIFZyYohZXwNNrKFikizESuxv0sf3biMrZayjwTu51Oxangu
 pJsU2jaN4ZVQmHvI5BzsJoOnZKed8PL0gv1glgDtWXrQFDR4d7XdxNxPgKJhYkhLFvHf
 Q02JyvwiLF6apYyMSnRoFqi9og5u6u9p1cxFfeg6RcElG5T0ZuNZPRdTQJin0G7B8Sh0
 FTnj2IR2vR/W9OAXCDUZDnQDzHFa0QDqJvTJ9tadWxqjCSzq1mnP1AJdfs8jRtykfRcD
 h8+g==
X-Gm-Message-State: AOJu0YzVoSL7DeL/8jo4bMALg8ggalfWj+DeQKPn6uov07HmvAlDy7Mj
 bYMuMFJh2xuyvcBhF1cJ6puHtKBN6j8JhJEgoxHgp1evvHPFGgSYvSP3Ii6xxlvCjl57JWYcI7m
 ao+t0w6PxVnTqc0BQFfz6PRRxLMFKVjRlWB3UQ6H9
X-Google-Smtp-Source: AGHT+IEcvWSfijMMI8Ee6pOnaBKY3G6QdXlkxvlr/rH7qQkTHB9Z4XtCFQg3y7qVE7NVYLt5sg3ZlSdgT3Qc
X-Received: by 2002:a05:6870:a111:b0:23d:2ac9:1207 with SMTP id
 m17-20020a056870a11100b0023d2ac91207mr862375oae.28.1714511456147; 
 Tue, 30 Apr 2024 14:10:56 -0700 (PDT)
Received: from postal.iol.unh.edu (postal.iol.unh.edu. [132.177.123.84])
 by smtp-relay.gmail.com with ESMTPS id
 v24-20020a056870e29800b0023347ebe252sm674940oad.49.2024.04.30.14.10.56
 (version=TLS1_2 cipher=ECDHE-ECDSA-AES128-GCM-SHA256 bits=128/128);
 Tue, 30 Apr 2024 14:10:56 -0700 (PDT)
X-Relaying-Domain: iol.unh.edu
Date: Tue, 30 Apr 2024 14:10:56 -0700 (PDT)
Message-ID: <66315e60.050a0220.661b2.dbf3SMTPIN_ADDED_MISSING@mx.google.com>
Received: from [172.17.0.3] (unknown [172.18.0.217])
 by postal.iol.unh.edu (Postfix) with ESMTP id 9A966604D420;
 Tue, 30 Apr 2024 17:10:55 -0400 (EDT)
Subject: |SUCCESS| pw139741-139744 [PATCH] [v9,4/4] hash: add SVE support for
From: dpdklab@iol.unh.edu
To: Test Report <test-report@dpdk.org>
Cc: dpdk-test-reports@iol.unh.edu
In-Reply-To: <20240430162743.1525484-5-yoan.picchi@arm.com>
References: <20240430162743.1525484-5-yoan.picchi@arm.com>
Content-Type: text/plain
X-BeenThere: test-report@dpdk.org
X-Mailman-Version: 2.1.29
Precedence: list
List-Id: automatic DPDK test reports <test-report.dpdk.org>
List-Unsubscribe: <https://mails.dpdk.org/options/test-report>,
 <mailto:test-report-request@dpdk.org?subject=unsubscribe>
List-Archive: <http://mails.dpdk.org/archives/test-report/>
List-Post: <mailto:test-report@dpdk.org>
List-Help: <mailto:test-report-request@dpdk.org?subject=help>
List-Subscribe: <https://mails.dpdk.org/listinfo/test-report>,
 <mailto:test-report-request@dpdk.org?subject=subscribe>
Errors-To: test-report-bounces@dpdk.org

Test-Label: iol-unit-amd64-testing
Test-Status: SUCCESS
http://dpdk.org/patch/139744

_Testing PASS_

Submitter: Yoan Picchi <yoan.picchi@arm.com>
Date: Tuesday, April 30 2024 16:27:43 
DPDK git baseline: Repo:dpdk
  Branch: master
  CommitID:7e06c0de1952d3109a5b0c4779d7e7d8059c9d78

139741-139744 --> testing pass

Test environment and result as below:

+---------------------+----------------+
|     Environment     | dpdk_unit_test |
+=====================+================+
| Windows Server 2019 | PASS           |
+---------------------+----------------+
| Windows Server 2022 | PASS           |
+---------------------+----------------+
| Debian 12           | PASS           |
+---------------------+----------------+
| CentOS Stream 8     | PASS           |
+---------------------+----------------+
| Fedora 37           | PASS           |
+---------------------+----------------+
| CentOS Stream 9     | PASS           |
+---------------------+----------------+
| Debian Bullseye     | PASS           |
+---------------------+----------------+
| Fedora 38           | PASS           |
+---------------------+----------------+
| openSUSE Leap 15    | PASS           |
+---------------------+----------------+


Windows Server 2019
	Kernel: 10.0.17763
	Compiler: clang 14.0 and gcc 8.1.0 (MinGW)

Windows Server 2022
	Kernel: 10.0.20348.2031
	Compiler: clang 15.0.7, gcc 8.1.0 (MinGW), and MSVC VS 17.9

Debian 12
	Kernel: Container Host Kernel
	Compiler: gcc 10.2.1

CentOS Stream 8
	Kernel: 5.4.0-167-generic
	Compiler: gcc 8.5.0 20210514

Fedora 37
	Kernel: Depends on container host system
	Compiler: gcc 12.3.1

CentOS Stream 9
	Kernel: 5.4.0-167-generic
	Compiler: gcc 11.4.1 20230605

Debian Bullseye
	Kernel: 5.4.0-167-generic
	Compiler: gcc 10.2.1-6

Fedora 38
	Kernel: Depends on container host
	Compiler: gcc 13.2.1

openSUSE Leap 15
	Kernel: 5.4.0-167-generic
	Compiler: gcc 7.5.0

To view detailed results, visit:
https://lab.dpdk.org/results/dashboard/patchsets/29880/

UNH-IOL DPDK Community Lab

To manage your email subscriptions, visit: 
https://lab.dpdk.org/results/dashboard/preferences/subscriptions/