From mboxrd@z Thu Jan  1 00:00:00 1970
Return-Path: <test-report-bounces@dpdk.org>
Received: from mails.dpdk.org (mails.dpdk.org [217.70.189.124])
	by inbox.dpdk.org (Postfix) with ESMTP id 7D89943F56
	for <public@inbox.dpdk.org>; Tue, 30 Apr 2024 23:15:31 +0200 (CEST)
Received: from mails.dpdk.org (localhost [127.0.0.1])
	by mails.dpdk.org (Postfix) with ESMTP id 6CFD240262;
	Tue, 30 Apr 2024 23:15:31 +0200 (CEST)
Received: from mail-qk1-f227.google.com (mail-qk1-f227.google.com
 [209.85.222.227])
 by mails.dpdk.org (Postfix) with ESMTP id 1534D4025C
 for <test-report@dpdk.org>; Tue, 30 Apr 2024 23:15:30 +0200 (CEST)
Received: by mail-qk1-f227.google.com with SMTP id
 af79cd13be357-78f0440656eso392103385a.1
 for <test-report@dpdk.org>; Tue, 30 Apr 2024 14:15:30 -0700 (PDT)
DKIM-Signature: v=1; a=rsa-sha256; c=relaxed/relaxed;
 d=iol.unh.edu; s=unh-iol; t=1714511729; x=1715116529; darn=dpdk.org;
 h=references:in-reply-to:cc:to:from:subject:message-id:date:from:to
 :cc:subject:date:message-id:reply-to;
 bh=thLCphlA8zWZvBAeRbdgJt/o4Oa9GGt8ulqDjKY2224=;
 b=NoVRGdHWD2Nc+TndLYStT6kHmUU/SQ2A4FDH0pqv0D/hAo6RReCmgW83L2vUosr05+
 EK5XAwrvtsgvhbTbjvrzm9Jy44KL+WEaHaalIZINwAge11y8fkYd8H4e1zZfZG8yfZHY
 BEZwdJjyebd2ncFzJB8hOzIfKjYLwgWaOZ+LI=
X-Google-DKIM-Signature: v=1; a=rsa-sha256; c=relaxed/relaxed;
 d=1e100.net; s=20230601; t=1714511729; x=1715116529;
 h=references:in-reply-to:cc:to:from:subject:message-id:date
 :x-gm-message-state:from:to:cc:subject:date:message-id:reply-to;
 bh=thLCphlA8zWZvBAeRbdgJt/o4Oa9GGt8ulqDjKY2224=;
 b=xJE5Qr02t/WXf/Pu0dUpISjICDU+gFa8WBCOa3kx/Ehv0qmBcBZxDg1Zd120j2lR0K
 wpSFus4L+TQuazxH+VB9TzZfnK3DimCTETV2xeXY2lhUfi3ukIhxr/v8kggoX5XAE6HV
 fpTBIIjFPHBRya+iP1KUFdab7m17dYwq3KKcXOLrGtxROMdHUqKf2rN3ISGtqvDT/Wzk
 FdGn2UZBvlmV/Gt3Np37GqdZLWUye4YiI/4APUyeQyLA1gHmfg0v9RWL7piVuZJjACu8
 m4icPaadq0trw98UmY9n68MGQanQlc7htV9i4c3KS2olE+YlgZ1VXUkDf8hSP91dQh2c
 NUyw==
X-Gm-Message-State: AOJu0YzroESWqpObz1+1z6inECzsGDjfpsCInXXaGG8XTmZIodkhp067
 FxHVG/1melBW/EWVJ7tdo6i3cGHW5q/jypboFcbjURFfq+fMjIidbNK2b7Dts8+x5sjdYAXtbty
 o5PmYUge9/68RrSqY3ezBghLBpIO8mlPLK2rSS+tA4oK8wqd6t0TahsnV
X-Google-Smtp-Source: AGHT+IHgxfiRsb/8GRycxHSjoXTGtEIQyFnP7Ko+g6ut0tNMdCugkibQr5Lsyj2c7/K/+jLa6XScgJs8FvCI
X-Received: by 2002:a05:6214:5006:b0:6a0:a4db:b146 with SMTP id
 jo6-20020a056214500600b006a0a4dbb146mr716052qvb.60.1714511729507; 
 Tue, 30 Apr 2024 14:15:29 -0700 (PDT)
Received: from postal.iol.unh.edu (postal.iol.unh.edu.
 [2606:4100:3880:1234::84]) by smtp-relay.gmail.com with ESMTPS id
 u14-20020a0cc48e000000b006a0cd681eabsm543136qvi.37.2024.04.30.14.15.29
 (version=TLS1_2 cipher=ECDHE-ECDSA-AES128-GCM-SHA256 bits=128/128);
 Tue, 30 Apr 2024 14:15:29 -0700 (PDT)
X-Relaying-Domain: iol.unh.edu
Date: Tue, 30 Apr 2024 14:15:29 -0700 (PDT)
Message-ID: <66315f71.0c0a0220.f7b47.456aSMTPIN_ADDED_MISSING@mx.google.com>
Received: from [172.17.0.3] (unknown [172.18.0.217])
 by postal.iol.unh.edu (Postfix) with ESMTP id 32C2F604D420;
 Tue, 30 Apr 2024 17:15:29 -0400 (EDT)
Subject: |SUCCESS| pw139741-139744 [PATCH] [v9,4/4] hash: add SVE support for
From: dpdklab@iol.unh.edu
To: Test Report <test-report@dpdk.org>
Cc: dpdk-test-reports@iol.unh.edu
In-Reply-To: <20240430162743.1525484-5-yoan.picchi@arm.com>
References: <20240430162743.1525484-5-yoan.picchi@arm.com>
Content-Type: text/plain
X-BeenThere: test-report@dpdk.org
X-Mailman-Version: 2.1.29
Precedence: list
List-Id: automatic DPDK test reports <test-report.dpdk.org>
List-Unsubscribe: <https://mails.dpdk.org/options/test-report>,
 <mailto:test-report-request@dpdk.org?subject=unsubscribe>
List-Archive: <http://mails.dpdk.org/archives/test-report/>
List-Post: <mailto:test-report@dpdk.org>
List-Help: <mailto:test-report-request@dpdk.org?subject=help>
List-Subscribe: <https://mails.dpdk.org/listinfo/test-report>,
 <mailto:test-report-request@dpdk.org?subject=subscribe>
Errors-To: test-report-bounces@dpdk.org

Test-Label: iol-unit-amd64-testing
Test-Status: SUCCESS
http://dpdk.org/patch/139744

_Testing PASS_

Submitter: Yoan Picchi <yoan.picchi@arm.com>
Date: Tuesday, April 30 2024 16:27:43 
DPDK git baseline: Repo:dpdk
  Branch: master
  CommitID:7e06c0de1952d3109a5b0c4779d7e7d8059c9d78

139741-139744 --> testing pass

Test environment and result as below:

+---------------------+----------------+
|     Environment     | dpdk_unit_test |
+=====================+================+
| Windows Server 2019 | PASS           |
+---------------------+----------------+
| Windows Server 2022 | PASS           |
+---------------------+----------------+
| Debian 12           | PASS           |
+---------------------+----------------+
| CentOS Stream 8     | PASS           |
+---------------------+----------------+
| Fedora 37           | PASS           |
+---------------------+----------------+
| CentOS Stream 9     | PASS           |
+---------------------+----------------+
| Debian Bullseye     | PASS           |
+---------------------+----------------+
| Fedora 38           | PASS           |
+---------------------+----------------+
| openSUSE Leap 15    | PASS           |
+---------------------+----------------+
| Ubuntu 20.04        | PASS           |
+---------------------+----------------+
| RHEL8               | PASS           |
+---------------------+----------------+
| Fedora 39           | PASS           |
+---------------------+----------------+


Windows Server 2019
	Kernel: 10.0.17763
	Compiler: clang 14.0 and gcc 8.1.0 (MinGW)

Windows Server 2022
	Kernel: 10.0.20348.2031
	Compiler: clang 15.0.7, gcc 8.1.0 (MinGW), and MSVC VS 17.9

Debian 12
	Kernel: Container Host Kernel
	Compiler: gcc 10.2.1

CentOS Stream 8
	Kernel: 5.4.0-167-generic
	Compiler: gcc 8.5.0 20210514

Fedora 37
	Kernel: Depends on container host system
	Compiler: gcc 12.3.1

CentOS Stream 9
	Kernel: 5.4.0-167-generic
	Compiler: gcc 11.4.1 20230605

Debian Bullseye
	Kernel: 5.4.0-167-generic
	Compiler: gcc 10.2.1-6

Fedora 38
	Kernel: Depends on container host
	Compiler: gcc 13.2.1

openSUSE Leap 15
	Kernel: 5.4.0-167-generic
	Compiler: gcc 7.5.0

Ubuntu 20.04
	Kernel: 5.4.0-167-generic
	Compiler: gcc 9.4.0-1ubuntu1~20.04.1

RHEL8
	Kernel: 5.4.0-167-generic
	Compiler: gcc 8.5.0 20210514 (Red Hat 8.5.0-20)

Fedora 39
	Kernel: Depends on container host
	Compiler: clang 17.0.6

To view detailed results, visit:
https://lab.dpdk.org/results/dashboard/patchsets/29880/

UNH-IOL DPDK Community Lab

To manage your email subscriptions, visit: 
https://lab.dpdk.org/results/dashboard/preferences/subscriptions/