From mboxrd@z Thu Jan  1 00:00:00 1970
Return-Path: <test-report-bounces@dpdk.org>
Received: from mails.dpdk.org (mails.dpdk.org [217.70.189.124])
	by inbox.dpdk.org (Postfix) with ESMTP id 5D5FB43F56
	for <public@inbox.dpdk.org>; Tue, 30 Apr 2024 23:48:00 +0200 (CEST)
Received: from mails.dpdk.org (localhost [127.0.0.1])
	by mails.dpdk.org (Postfix) with ESMTP id 588AD40262;
	Tue, 30 Apr 2024 23:48:00 +0200 (CEST)
Received: from mail-oi1-f225.google.com (mail-oi1-f225.google.com
 [209.85.167.225])
 by mails.dpdk.org (Postfix) with ESMTP id 1C8AD4025C
 for <test-report@dpdk.org>; Tue, 30 Apr 2024 23:47:59 +0200 (CEST)
Received: by mail-oi1-f225.google.com with SMTP id
 5614622812f47-3c8641b41e7so1606533b6e.3
 for <test-report@dpdk.org>; Tue, 30 Apr 2024 14:47:59 -0700 (PDT)
DKIM-Signature: v=1; a=rsa-sha256; c=relaxed/relaxed;
 d=iol.unh.edu; s=unh-iol; t=1714513678; x=1715118478; darn=dpdk.org;
 h=references:in-reply-to:cc:to:from:subject:message-id:date:from:to
 :cc:subject:date:message-id:reply-to;
 bh=Xx7fR7Xmq21kT5DWIYuEI+iGMLVga0VUrPjUjsO1mew=;
 b=gN/dCWgVPRgaNN2jJc1CbU3sVDM7Wt5CYmwVAq60dZpL9L/yWQ2LqOG6+4wIUZ3bel
 SL79AJdFc+tbt/ogtyG1yCDKkLmnz5cpdD/dHBOHrM8q+c4Nqe50D+2Lt/kVFEl0eWUY
 Ij9rbkfEWkriFuUf5Q1nnGPPJXSuIUi0r/Rcc=
X-Google-DKIM-Signature: v=1; a=rsa-sha256; c=relaxed/relaxed;
 d=1e100.net; s=20230601; t=1714513678; x=1715118478;
 h=references:in-reply-to:cc:to:from:subject:message-id:date
 :x-gm-message-state:from:to:cc:subject:date:message-id:reply-to;
 bh=Xx7fR7Xmq21kT5DWIYuEI+iGMLVga0VUrPjUjsO1mew=;
 b=DdlzkhGh+Dy7GW2A3ns+w/BJgv90vjp0/GKTIhXmg+gFWDFXkDtUVbKkUXnIJ4rrzb
 5nHvZZLS7q23uptG+O5x4EMJqsf1/dhIP47i3l1E0hiO6yBGUv4SrOu2X26L+231wDGB
 tC2YP2fvUMGVfFRZhkBKRIde2WrHBmWpScXwS+fRtfwfk/C7nXw9+ix46YNm12yN1hov
 pyBvRXDHoj5F75AD47on6R3HbPej+SNAOLobQuYSHFdSdKlRZhAnsy5hb/j1rgzAirNy
 pkwKOEW/QozPgjYPOI1myMxAAi+wA9dXA6Hkca5zA3K31Z7I0mKnOXr1H+5vP19a8R60
 n9lg==
X-Gm-Message-State: AOJu0Yxs27csIaTnvNhGGfenv6qGjWB/aomQiTs5lz2w2cVuDTkkf+mh
 9UaYbCNhjVBMcIjrCtKjzbJla6k+75zWCtjUAUJRN6k4fJmZYwTsw09lIaWQsGdVB/8xjKGSodY
 TxLYqigjt1L0CJGPc+8pUkj9LWkOyGcCMi+CM/2DL5wJQ+X+5JkGBs5N0
X-Google-Smtp-Source: AGHT+IHV7n2JiAMcl225QN6bIzHlavzTiC2fPpUkES+kr/IE5RIj7ZHqQDcfXYKUF1d/4k3hyW/IaIlhbPAu
X-Received: by 2002:a05:6808:624e:b0:3c7:85e:ea36 with SMTP id
 dt14-20020a056808624e00b003c7085eea36mr1028129oib.15.1714513678471; 
 Tue, 30 Apr 2024 14:47:58 -0700 (PDT)
Received: from postal.iol.unh.edu (postal.iol.unh.edu.
 [2606:4100:3880:1234::84]) by smtp-relay.gmail.com with ESMTPS id
 p17-20020a05621415d100b006a0cb035458sm619168qvz.50.2024.04.30.14.47.58
 (version=TLS1_2 cipher=ECDHE-ECDSA-AES128-GCM-SHA256 bits=128/128);
 Tue, 30 Apr 2024 14:47:58 -0700 (PDT)
X-Relaying-Domain: iol.unh.edu
Date: Tue, 30 Apr 2024 14:47:58 -0700 (PDT)
Message-ID: <6631670e.050a0220.d2de3.8190SMTPIN_ADDED_MISSING@mx.google.com>
Received: from [172.21.0.7] (unknown [172.18.0.240])
 by postal.iol.unh.edu (Postfix) with ESMTP id 35E1B604D420;
 Tue, 30 Apr 2024 17:47:58 -0400 (EDT)
Subject: |SUCCESS| pw139757 [PATCH] maintainers: update for eal
From: dpdklab@iol.unh.edu
To: Test Report <test-report@dpdk.org>
Cc: dpdk-test-reports@iol.unh.edu
In-Reply-To: <1714510339-10416-1-git-send-email-roretzla@linux.microsoft.com>
References: <1714510339-10416-1-git-send-email-roretzla@linux.microsoft.com>
Content-Type: text/plain
X-BeenThere: test-report@dpdk.org
X-Mailman-Version: 2.1.29
Precedence: list
List-Id: automatic DPDK test reports <test-report.dpdk.org>
List-Unsubscribe: <https://mails.dpdk.org/options/test-report>,
 <mailto:test-report-request@dpdk.org?subject=unsubscribe>
List-Archive: <http://mails.dpdk.org/archives/test-report/>
List-Post: <mailto:test-report@dpdk.org>
List-Help: <mailto:test-report-request@dpdk.org?subject=help>
List-Subscribe: <https://mails.dpdk.org/listinfo/test-report>,
 <mailto:test-report-request@dpdk.org?subject=subscribe>
Errors-To: test-report-bounces@dpdk.org

Test-Label: iol-compile-amd64-testing
Test-Status: SUCCESS
http://dpdk.org/patch/139757

_Testing PASS_

Submitter: Tyler Retzlaff <roretzla@linux.microsoft.com>
Date: Tuesday, April 30 2024 20:52:19 
DPDK git baseline: Repo:dpdk
  Branch: master
  CommitID:7e06c0de1952d3109a5b0c4779d7e7d8059c9d78

139757 --> testing pass

Test environment and result as below:

+---------------------+--------------------+----------------------+-------------------+
|     Environment     | dpdk_meson_compile | dpdk_mingw64_compile | dpdk_msvc_compile |
+=====================+====================+======================+===================+
| CentOS Stream 8     | PASS               | SKIPPED              | SKIPPED           |
+---------------------+--------------------+----------------------+-------------------+
| FreeBSD 13.3        | PASS               | SKIPPED              | SKIPPED           |
+---------------------+--------------------+----------------------+-------------------+
| Debian 12           | PASS               | SKIPPED              | SKIPPED           |
+---------------------+--------------------+----------------------+-------------------+
| Windows Server 2022 | PASS               | PASS                 | PASS              |
+---------------------+--------------------+----------------------+-------------------+
| Windows Server 2019 | PASS               | PASS                 | SKIPPED           |
+---------------------+--------------------+----------------------+-------------------+
| Fedora 38           | PASS               | SKIPPED              | SKIPPED           |
+---------------------+--------------------+----------------------+-------------------+
| Ubuntu 20.04        | PASS               | SKIPPED              | SKIPPED           |
+---------------------+--------------------+----------------------+-------------------+
| CentOS Stream 9     | PASS               | SKIPPED              | SKIPPED           |
+---------------------+--------------------+----------------------+-------------------+
| Fedora 39           | PASS               | SKIPPED              | SKIPPED           |
+---------------------+--------------------+----------------------+-------------------+
| RHEL8               | PASS               | SKIPPED              | SKIPPED           |
+---------------------+--------------------+----------------------+-------------------+
| Debian Bullseye     | PASS               | SKIPPED              | SKIPPED           |
+---------------------+--------------------+----------------------+-------------------+
| Ubuntu 22.04        | PASS               | SKIPPED              | SKIPPED           |
+---------------------+--------------------+----------------------+-------------------+


CentOS Stream 8
	Kernel: 5.4.0-167-generic
	Compiler: gcc 8.5.0 20210514

FreeBSD 13.3
	Kernel: 13.3-RELEASE-p1
	Compiler: clang 17.0.6

Debian 12
	Kernel: Container Host Kernel
	Compiler: gcc 10.2.1

Windows Server 2022
	Kernel: 10.0.20348.2031
	Compiler: clang 15.0.7, gcc 8.1.0 (MinGW), and MSVC VS 17.9

Windows Server 2019
	Kernel: 10.0.17763
	Compiler: clang 14.0 and gcc 8.1.0 (MinGW)

Fedora 38
	Kernel: Depends on container host
	Compiler: gcc 13.2.1

Ubuntu 20.04
	Kernel: 5.4.0-167-generic
	Compiler: gcc 9.4.0-1ubuntu1~20.04.1

CentOS Stream 9
	Kernel: 5.4.0-167-generic
	Compiler: gcc 11.4.1 20230605

Fedora 39
	Kernel: Depends on container host
	Compiler: gcc 13.2.1

RHEL8
	Kernel: 5.4.0-167-generic
	Compiler: gcc 8.5.0 20210514 (Red Hat 8.5.0-20)

Debian Bullseye
	Kernel: 5.4.0-167-generic
	Compiler: gcc 10.2.1-6

Ubuntu 22.04
	Kernel: 5.4.0-167-generic
	Compiler: gcc 11.4.0

To view detailed results, visit:
https://lab.dpdk.org/results/dashboard/patchsets/29884/

UNH-IOL DPDK Community Lab

To manage your email subscriptions, visit: 
https://lab.dpdk.org/results/dashboard/preferences/subscriptions/