From mboxrd@z Thu Jan  1 00:00:00 1970
Return-Path: <test-report-bounces@dpdk.org>
Received: from mails.dpdk.org (mails.dpdk.org [217.70.189.124])
	by inbox.dpdk.org (Postfix) with ESMTP id 2601A43F57
	for <public@inbox.dpdk.org>; Wed,  1 May 2024 00:01:38 +0200 (CEST)
Received: from mails.dpdk.org (localhost [127.0.0.1])
	by mails.dpdk.org (Postfix) with ESMTP id 1ED3F402BC;
	Wed,  1 May 2024 00:01:38 +0200 (CEST)
Received: from mail-oi1-f227.google.com (mail-oi1-f227.google.com
 [209.85.167.227])
 by mails.dpdk.org (Postfix) with ESMTP id 696B0402A7
 for <test-report@dpdk.org>; Wed,  1 May 2024 00:01:36 +0200 (CEST)
Received: by mail-oi1-f227.google.com with SMTP id
 5614622812f47-3c6f6c5bc37so3130026b6e.1
 for <test-report@dpdk.org>; Tue, 30 Apr 2024 15:01:36 -0700 (PDT)
DKIM-Signature: v=1; a=rsa-sha256; c=relaxed/relaxed;
 d=iol.unh.edu; s=unh-iol; t=1714514496; x=1715119296; darn=dpdk.org;
 h=references:in-reply-to:cc:to:from:subject:message-id:date:from:to
 :cc:subject:date:message-id:reply-to;
 bh=AUjffTKfMhvXIdHiBO4anJKxiPoUNvnIp2wx9oO6O8Q=;
 b=e5IjNxlQrx0agUfMna7871qnWkq0v33QWe8mPtoK9cLDriybTZGbaH4tMHYiRadCye
 EiGPcA/LNOlhESGk0JoJhV5aXNLXiTdTeJpKFirRjYukykh+v56y2hMLsaEpa9W3BVdP
 a4xVVZxujPA2dXcE2HAoUBf723inHtRRLfXXc=
X-Google-DKIM-Signature: v=1; a=rsa-sha256; c=relaxed/relaxed;
 d=1e100.net; s=20230601; t=1714514496; x=1715119296;
 h=references:in-reply-to:cc:to:from:subject:message-id:date
 :x-gm-message-state:from:to:cc:subject:date:message-id:reply-to;
 bh=AUjffTKfMhvXIdHiBO4anJKxiPoUNvnIp2wx9oO6O8Q=;
 b=j+qmJAK5mv3liDUiwMuk/zDgR5kQuhhH179B11jYU/kRFE8jyKsChBmY0nfslA5eoM
 qlo4ga8x1WQh6vhkP32IjO0nKtgj/cRLO1wrTLNqXxQGaMqyUJTPxIfaUHV1JECA4S+5
 NLPBCqqMlFsn2lLE4o6B6GCPTy4rDMMuxdX89H/hteRSZOenPXKkiJTC+QXfZrMnr3Ni
 weDtN/lWBtkBLuPQ1e75plLtLEMl9BbBtBWOTKVm0W8rlDBAlZenHZCKpq3wPyMKn2a6
 n32ocffprACkTClnobToiFWevFBEvqGDdO2QmeWtSajFTLzAeJq0Ljerk7iP0/H1NEZH
 v1tA==
X-Gm-Message-State: AOJu0Yxh61PRyXJ71MoFvT9z4vqPJH0wftH8AYC+rla3tmc1G/BKCIRM
 3LR+KGMR9bX8znSd/SSjf03BZT6stSIv0Bn6tRtcPw3B+EfkT6f6bHVWFgh7JC2XG0KDsKxBPpa
 vaPK1ovbFBtONZkmjEhKx8wdmkHR12B6gwpKhWMM5
X-Google-Smtp-Source: AGHT+IH1nmRNlGe8Bm0BApbd6k+9cR6XrqvUI+wZsiJzZzHZ+zQ7SDNY8NqrHKYDaht6rt4KM3DcSOIdnEzS
X-Received: by 2002:aca:2b1a:0:b0:3c8:2a60:fc3f with SMTP id
 i26-20020aca2b1a000000b003c82a60fc3fmr952849oik.25.1714514495780; 
 Tue, 30 Apr 2024 15:01:35 -0700 (PDT)
Received: from postal.iol.unh.edu (postal.iol.unh.edu. [132.177.123.84])
 by smtp-relay.gmail.com with ESMTPS id
 s5-20020a0cf785000000b006a0f02dcbb0sm6451qvn.33.2024.04.30.15.01.35
 (version=TLS1_2 cipher=ECDHE-ECDSA-AES128-GCM-SHA256 bits=128/128);
 Tue, 30 Apr 2024 15:01:35 -0700 (PDT)
X-Relaying-Domain: iol.unh.edu
Date: Tue, 30 Apr 2024 15:01:35 -0700 (PDT)
Message-ID: <66316a3f.0c0a0220.99229.061aSMTPIN_ADDED_MISSING@mx.google.com>
Received: from [172.21.0.8] (unknown [172.18.0.240])
 by postal.iol.unh.edu (Postfix) with ESMTP id 6D84A604D420;
 Tue, 30 Apr 2024 18:01:35 -0400 (EDT)
Subject: |SUCCESS| pw139757 [PATCH] maintainers: update for eal
From: dpdklab@iol.unh.edu
To: Test Report <test-report@dpdk.org>
Cc: dpdk-test-reports@iol.unh.edu
In-Reply-To: <1714510339-10416-1-git-send-email-roretzla@linux.microsoft.com>
References: <1714510339-10416-1-git-send-email-roretzla@linux.microsoft.com>
Content-Type: text/plain
X-BeenThere: test-report@dpdk.org
X-Mailman-Version: 2.1.29
Precedence: list
List-Id: automatic DPDK test reports <test-report.dpdk.org>
List-Unsubscribe: <https://mails.dpdk.org/options/test-report>,
 <mailto:test-report-request@dpdk.org?subject=unsubscribe>
List-Archive: <http://mails.dpdk.org/archives/test-report/>
List-Post: <mailto:test-report@dpdk.org>
List-Help: <mailto:test-report-request@dpdk.org?subject=help>
List-Subscribe: <https://mails.dpdk.org/listinfo/test-report>,
 <mailto:test-report-request@dpdk.org?subject=subscribe>
Errors-To: test-report-bounces@dpdk.org

Test-Label: iol-compile-arm64-testing
Test-Status: SUCCESS
http://dpdk.org/patch/139757

_Testing PASS_

Submitter: Tyler Retzlaff <roretzla@linux.microsoft.com>
Date: Tuesday, April 30 2024 20:52:19 
DPDK git baseline: Repo:dpdk
  Branch: master
  CommitID:7e06c0de1952d3109a5b0c4779d7e7d8059c9d78

139757 --> testing pass

Test environment and result as below:

+----------------------------------------+--------------------+
|              Environment               | dpdk_meson_compile |
+========================================+====================+
| Ubuntu 20.04 ARM SVE                   | PASS               |
+----------------------------------------+--------------------+
| Debian 12 with MUSDK                   | PASS               |
+----------------------------------------+--------------------+
| Fedora 38 (ARM)                        | PASS               |
+----------------------------------------+--------------------+
| Fedora 39 (ARM)                        | PASS               |
+----------------------------------------+--------------------+
| Fedora 37 (ARM)                        | PASS               |
+----------------------------------------+--------------------+
| CentOS Stream 9 (ARM)                  | PASS               |
+----------------------------------------+--------------------+
| Ubuntu 20.04 (ARM)                     | PASS               |
+----------------------------------------+--------------------+
| Debian 12 (arm)                        | PASS               |
+----------------------------------------+--------------------+
| Debian 11 (Buster) (ARM)               | PASS               |
+----------------------------------------+--------------------+
| Ubuntu 20.04 ARM GCC Cross Compile     | PASS               |
+----------------------------------------+--------------------+
| Ubuntu 20.04 aarch32 GCC Cross Compile | PASS               |
+----------------------------------------+--------------------+


Ubuntu 20.04 ARM SVE
	Kernel: 5.4.0-167-generic
	Compiler: gcc (Ubuntu 10.5.0-1ubuntu1~20.04) 10.5.0

Debian 12 with MUSDK
	Kernel: Container Host Kernel
	Compiler: gcc 12.2.0

Fedora 38 (ARM)
	Kernel: Depends on container host
	Compiler: gcc 13.2.1

Fedora 39 (ARM)
	Kernel: Depends on container host
	Compiler: gcc 13.2.1

Fedora 37 (ARM)
	Kernel: Depends on container host
	Compiler: gcc 12.3.1

CentOS Stream 9 (ARM)
	Kernel: Container Host Kernel
	Compiler: gcc 11.4.1

Ubuntu 20.04 (ARM)
	Kernel: Container Host Kernel
	Compiler: gcc 9.4.0

Debian 12 (arm)
	Kernel: Container Host Kernel
	Compiler: gcc 12.2.0

Debian 11 (Buster) (ARM)
	Kernel: Container Host Kernel
	Compiler: gcc 10.2.1

Ubuntu 20.04 ARM GCC Cross Compile
	Kernel: 5.4.0-167-generic
	Compiler: aarch64-linux-gnu-gcc (Ubuntu 9.4.0-1ubuntu1~20.04.2) 9.4.0

Ubuntu 20.04 aarch32 GCC Cross Compile
	Kernel: 5.4.0-167-generic
	Compiler: gcc 9.4.0

To view detailed results, visit:
https://lab.dpdk.org/results/dashboard/patchsets/29884/

UNH-IOL DPDK Community Lab

To manage your email subscriptions, visit: 
https://lab.dpdk.org/results/dashboard/preferences/subscriptions/