From mboxrd@z Thu Jan  1 00:00:00 1970
Return-Path: <test-report-bounces@dpdk.org>
Received: from mails.dpdk.org (mails.dpdk.org [217.70.189.124])
	by inbox.dpdk.org (Postfix) with ESMTP id CC92843F57
	for <public@inbox.dpdk.org>; Wed,  1 May 2024 00:28:26 +0200 (CEST)
Received: from mails.dpdk.org (localhost [127.0.0.1])
	by mails.dpdk.org (Postfix) with ESMTP id C73B7402A8;
	Wed,  1 May 2024 00:28:26 +0200 (CEST)
Received: from mail-oi1-f227.google.com (mail-oi1-f227.google.com
 [209.85.167.227])
 by mails.dpdk.org (Postfix) with ESMTP id A95A7402A7
 for <test-report@dpdk.org>; Wed,  1 May 2024 00:28:24 +0200 (CEST)
Received: by mail-oi1-f227.google.com with SMTP id
 5614622812f47-3c74abe247bso3309315b6e.3
 for <test-report@dpdk.org>; Tue, 30 Apr 2024 15:28:24 -0700 (PDT)
DKIM-Signature: v=1; a=rsa-sha256; c=relaxed/relaxed;
 d=iol.unh.edu; s=unh-iol; t=1714516104; x=1715120904; darn=dpdk.org;
 h=references:in-reply-to:cc:to:from:subject:message-id:date:from:to
 :cc:subject:date:message-id:reply-to;
 bh=wHcY2m35iLoUnoU2dNxmAqymfFoDPtVoYWeCCbsDStw=;
 b=DUOTjD6q5+tcBPt4Qg5cdasjJSz/Uz6pZLE+DzSpk+XaMqPOeS+lib0CLZU7/MBlIP
 8V0ne4gXXwru2D1XzCeEVWNmUFNxl6SVLX7W0RggWuzR1sPeIZ5Sp/jC9aT94JvU/u0M
 3DBvppAx6r3a+FfXQFJ7xpbj1803L1yLUeeto=
X-Google-DKIM-Signature: v=1; a=rsa-sha256; c=relaxed/relaxed;
 d=1e100.net; s=20230601; t=1714516104; x=1715120904;
 h=references:in-reply-to:cc:to:from:subject:message-id:date
 :x-gm-message-state:from:to:cc:subject:date:message-id:reply-to;
 bh=wHcY2m35iLoUnoU2dNxmAqymfFoDPtVoYWeCCbsDStw=;
 b=HW/naUyejDk2AqccejA+8Kt43LB4xqOnak6Pp01lk0uXbStzpL6cX3jpekHNRcPonr
 +Oo/2D6aVkkz1ywfGdAy+FzCtMoFohTmlGmnmEB9aJcQ0bZ2Z01lgnoVaMwZVJF3rtRd
 ypJU8yJSWTiSzHlhOlwRTg7Uvon6PDKa1heCefOcaojPyiOhQWUji316j+vulieB1raq
 vEfm5dHC6LKn3qvpx1tYfp9X+vmmTqB4ItAqDTkhzA0R13sJ+2oHrcCvqGRf6Tw0F2XY
 HLzqxqBFjtQs9uHTi6Isr7FjQ2tsL6ZuZYtdqxcbDTdHm/c8b3qik9/5Ui+ObFZPhQ/G
 /PpQ==
X-Gm-Message-State: AOJu0YxR7zVE+t4I3XRe2gzPT4ORHSTL3Sguyijl84OSd715+LarzK+b
 cBNnmqqTeGRAP5PCZTn9NGouKJRoe3ZXj8w756aSh8MPawdp72F9ei+zOrTuusUmbNryz6+K3Nx
 7cNpi2nSZgEghz4ayqG1k5u/gXrrb707MhX9omiKQ
X-Google-Smtp-Source: AGHT+IGEx1uHYSBZ1Ird+DbgkxwRZ/dpiFfCL5UUrAneTYJ5wKuZ9MwYCa0gdi0bN86ahOjpVHKr2lEsUKoS
X-Received: by 2002:aca:240e:0:b0:3c8:5493:d8d1 with SMTP id
 n14-20020aca240e000000b003c85493d8d1mr882684oic.50.1714516104041; 
 Tue, 30 Apr 2024 15:28:24 -0700 (PDT)
Received: from postal.iol.unh.edu (postal.iol.unh.edu. [132.177.123.84])
 by smtp-relay.gmail.com with ESMTPS id
 c1-20020a0ce641000000b006a0caef6dd1sm174094qvn.72.2024.04.30.15.28.23
 (version=TLS1_2 cipher=ECDHE-ECDSA-AES128-GCM-SHA256 bits=128/128);
 Tue, 30 Apr 2024 15:28:24 -0700 (PDT)
X-Relaying-Domain: iol.unh.edu
Date: Tue, 30 Apr 2024 15:28:24 -0700 (PDT)
Message-ID: <66317088.0c0a0220.2796b.7267SMTPIN_ADDED_MISSING@mx.google.com>
Received: from [172.21.0.6] (unknown [172.18.0.240])
 by postal.iol.unh.edu (Postfix) with ESMTP id 9DA65604D420;
 Tue, 30 Apr 2024 18:28:23 -0400 (EDT)
Subject: |SUCCESS| pw139757 [PATCH] maintainers: update for eal
From: dpdklab@iol.unh.edu
To: Test Report <test-report@dpdk.org>
Cc: dpdk-test-reports@iol.unh.edu
In-Reply-To: <1714510339-10416-1-git-send-email-roretzla@linux.microsoft.com>
References: <1714510339-10416-1-git-send-email-roretzla@linux.microsoft.com>
Content-Type: text/plain
X-BeenThere: test-report@dpdk.org
X-Mailman-Version: 2.1.29
Precedence: list
List-Id: automatic DPDK test reports <test-report.dpdk.org>
List-Unsubscribe: <https://mails.dpdk.org/options/test-report>,
 <mailto:test-report-request@dpdk.org?subject=unsubscribe>
List-Archive: <http://mails.dpdk.org/archives/test-report/>
List-Post: <mailto:test-report@dpdk.org>
List-Help: <mailto:test-report-request@dpdk.org?subject=help>
List-Subscribe: <https://mails.dpdk.org/listinfo/test-report>,
 <mailto:test-report-request@dpdk.org?subject=subscribe>
Errors-To: test-report-bounces@dpdk.org

Test-Label: iol-unit-arm64-testing
Test-Status: SUCCESS
http://dpdk.org/patch/139757

_Testing PASS_

Submitter: Tyler Retzlaff <roretzla@linux.microsoft.com>
Date: Tuesday, April 30 2024 20:52:19 
DPDK git baseline: Repo:dpdk
  Branch: master
  CommitID:7e06c0de1952d3109a5b0c4779d7e7d8059c9d78

139757 --> testing pass

Test environment and result as below:

+--------------------------+----------------+---------------------------+------------------------------+--------------+
|       Environment        | dpdk_unit_test | cryptodev_sw_zuc_autotest | cryptodev_sw_snow3g_autotest | lpm_autotest |
+==========================+================+===========================+==============================+==============+
| Debian 11 (Buster) (ARM) | PASS           | SKIPPED                   | SKIPPED                      | SKIPPED      |
+--------------------------+----------------+---------------------------+------------------------------+--------------+
| CentOS Stream 9 (ARM)    | PASS           | SKIPPED                   | SKIPPED                      | SKIPPED      |
+--------------------------+----------------+---------------------------+------------------------------+--------------+
| Debian 12 (arm)          | PASS           | PASS                      | PASS                         | SKIPPED      |
+--------------------------+----------------+---------------------------+------------------------------+--------------+
| Fedora 37 (ARM)          | PASS           | SKIPPED                   | SKIPPED                      | SKIPPED      |
+--------------------------+----------------+---------------------------+------------------------------+--------------+
| Fedora 38 (ARM)          | PASS           | SKIPPED                   | SKIPPED                      | SKIPPED      |
+--------------------------+----------------+---------------------------+------------------------------+--------------+
| Fedora 39 (ARM)          | PASS           | SKIPPED                   | SKIPPED                      | SKIPPED      |
+--------------------------+----------------+---------------------------+------------------------------+--------------+
| Ubuntu 20.04 (ARM)       | PASS           | SKIPPED                   | SKIPPED                      | SKIPPED      |
+--------------------------+----------------+---------------------------+------------------------------+--------------+
| Fedora 38 (ARM Clang)    | PASS           | SKIPPED                   | SKIPPED                      | SKIPPED      |
+--------------------------+----------------+---------------------------+------------------------------+--------------+
| Fedora 39 (ARM Clang)    | PASS           | SKIPPED                   | SKIPPED                      | SKIPPED      |
+--------------------------+----------------+---------------------------+------------------------------+--------------+
| Ubuntu 20.04 ARM SVE     | SKIPPED        | SKIPPED                   | SKIPPED                      | PASS         |
+--------------------------+----------------+---------------------------+------------------------------+--------------+


Debian 11 (Buster) (ARM)
	Kernel: Container Host Kernel
	Compiler: gcc 10.2.1

CentOS Stream 9 (ARM)
	Kernel: Container Host Kernel
	Compiler: gcc 11.4.1

Debian 12 (arm)
	Kernel: Container Host Kernel
	Compiler: gcc 12.2.0

Fedora 37 (ARM)
	Kernel: Depends on container host
	Compiler: gcc 12.3.1

Fedora 38 (ARM)
	Kernel: Depends on container host
	Compiler: gcc 13.2.1

Fedora 39 (ARM)
	Kernel: Depends on container host
	Compiler: gcc 13.2.1

Ubuntu 20.04 (ARM)
	Kernel: Container Host Kernel
	Compiler: gcc 9.4.0

Fedora 38 (ARM Clang)
	Kernel: Depends on container host
	Compiler: clang 16.0.6

Fedora 39 (ARM Clang)
	Kernel: Depends on container host
	Compiler: clang 17.0.6

Ubuntu 20.04 ARM SVE
	Kernel: 5.4.0-167-generic
	Compiler: gcc (Ubuntu 10.5.0-1ubuntu1~20.04) 10.5.0

To view detailed results, visit:
https://lab.dpdk.org/results/dashboard/patchsets/29884/

UNH-IOL DPDK Community Lab

To manage your email subscriptions, visit: 
https://lab.dpdk.org/results/dashboard/preferences/subscriptions/