From mboxrd@z Thu Jan  1 00:00:00 1970
Return-Path: <test-report-bounces@dpdk.org>
Received: from mails.dpdk.org (mails.dpdk.org [217.70.189.124])
	by inbox.dpdk.org (Postfix) with ESMTP id D80BF43F57
	for <public@inbox.dpdk.org>; Wed,  1 May 2024 00:33:12 +0200 (CEST)
Received: from mails.dpdk.org (localhost [127.0.0.1])
	by mails.dpdk.org (Postfix) with ESMTP id D3DF1402A8;
	Wed,  1 May 2024 00:33:12 +0200 (CEST)
Received: from mail-vk1-f225.google.com (mail-vk1-f225.google.com
 [209.85.221.225])
 by mails.dpdk.org (Postfix) with ESMTP id 7EF81402A7
 for <test-report@dpdk.org>; Wed,  1 May 2024 00:33:12 +0200 (CEST)
Received: by mail-vk1-f225.google.com with SMTP id
 71dfb90a1353d-4dcceac3ae1so2272596e0c.2
 for <test-report@dpdk.org>; Tue, 30 Apr 2024 15:33:12 -0700 (PDT)
DKIM-Signature: v=1; a=rsa-sha256; c=relaxed/relaxed;
 d=iol.unh.edu; s=unh-iol; t=1714516392; x=1715121192; darn=dpdk.org;
 h=references:in-reply-to:cc:to:from:subject:message-id:date:from:to
 :cc:subject:date:message-id:reply-to;
 bh=Ei8t5t/SVfbrSep0gJASV8w4jmBsC10PVbJKOfg5qgU=;
 b=Cjk3NPY2EfGxh6h5GAt8NzuE9R2lxo9BfeQ+MiVkS+VmYEmwIJwIOojF3UPsfQ/x3A
 qclDvlMwdUp2KRbKAIrV//U8I4JTc1rsj1HnONhxFA9hUdYNajaD4gOgRd6Qrvn4PqL4
 NWfJ19zz6z6W4OEsqaIBgk8Y9F7tmhzRrURkM=
X-Google-DKIM-Signature: v=1; a=rsa-sha256; c=relaxed/relaxed;
 d=1e100.net; s=20230601; t=1714516392; x=1715121192;
 h=references:in-reply-to:cc:to:from:subject:message-id:date
 :x-gm-message-state:from:to:cc:subject:date:message-id:reply-to;
 bh=Ei8t5t/SVfbrSep0gJASV8w4jmBsC10PVbJKOfg5qgU=;
 b=A9vtzzdiHjXxgjq+ZhcDjYJK9oPfQAqxfKS0+bCXy49BWsfUBf5L7bOkpsdtZ1SSPa
 aPX3J6MEwDyNzN6VEvheQTp8mAflShOJ3NGh7mIFxbzKMmOcaqap0/fXUJU3PcUoc8Hh
 N7J22pPFMlP/yUMWCt0bVznyhnz5siosMq0xtXX0JAsvlT8cJElNNI6xySN7PnRiiSHJ
 oo26UUZYhLvqkwHMRX0wq0YkKLu95IIt6oMT4m6IX9yuXN63aZfDvRaetsTD9lUkelLi
 rbURHamJvbMdpjfNuMSRILHwS41ivApw+MLSvF68BKO+TnSU6LtVRtja53UofFnfKqPk
 fFqA==
X-Gm-Message-State: AOJu0Yy8SYcUAIC/ChAlxhnvoajwVozwS831E/N24ip9i21aXHdYqfQY
 Ykkz9nrkdIVXqQ/gncFlcmvFVi8rIIvrNUtce9sYy2JDlTTUtLdbK2PvZIUMV5ccGiaqp3YWomb
 FRuNZhT3+IQgQvYQixfoAgkFnBIo4jd1oLXG7By699woHYPpg8xIBprTE
X-Google-Smtp-Source: AGHT+IG8V8VhTQOy0/hfIvn+5NeRDcx0eDVJ7JuPbUBy+VutKcj57cAW2ZxMqAm89i2QXvY2OWqnaCBq4Dkc
X-Received: by 2002:a05:6122:c9f:b0:4dc:d7b2:7602 with SMTP id
 ba31-20020a0561220c9f00b004dcd7b27602mr1198218vkb.1.1714516391218; 
 Tue, 30 Apr 2024 15:33:11 -0700 (PDT)
Received: from postal.iol.unh.edu (postal.iol.unh.edu.
 [2606:4100:3880:1234::84]) by smtp-relay.gmail.com with ESMTPS id
 de32-20020a05612245a000b004dec8acbaa6sm1051957vkb.6.2024.04.30.15.33.11
 (version=TLS1_2 cipher=ECDHE-ECDSA-AES128-GCM-SHA256 bits=128/128);
 Tue, 30 Apr 2024 15:33:11 -0700 (PDT)
X-Relaying-Domain: iol.unh.edu
Date: Tue, 30 Apr 2024 15:33:11 -0700 (PDT)
Message-ID: <663171a7.050a0220.37eb.c5ddSMTPIN_ADDED_MISSING@mx.google.com>
Received: from [172.21.0.6] (unknown [172.18.0.240])
 by postal.iol.unh.edu (Postfix) with ESMTP id DA48F604D420;
 Tue, 30 Apr 2024 18:33:10 -0400 (EDT)
Subject: |SUCCESS| pw139757 [PATCH] maintainers: update for eal
From: dpdklab@iol.unh.edu
To: Test Report <test-report@dpdk.org>
Cc: dpdk-test-reports@iol.unh.edu
In-Reply-To: <1714510339-10416-1-git-send-email-roretzla@linux.microsoft.com>
References: <1714510339-10416-1-git-send-email-roretzla@linux.microsoft.com>
Content-Type: text/plain
X-BeenThere: test-report@dpdk.org
X-Mailman-Version: 2.1.29
Precedence: list
List-Id: automatic DPDK test reports <test-report.dpdk.org>
List-Unsubscribe: <https://mails.dpdk.org/options/test-report>,
 <mailto:test-report-request@dpdk.org?subject=unsubscribe>
List-Archive: <http://mails.dpdk.org/archives/test-report/>
List-Post: <mailto:test-report@dpdk.org>
List-Help: <mailto:test-report-request@dpdk.org?subject=help>
List-Subscribe: <https://mails.dpdk.org/listinfo/test-report>,
 <mailto:test-report-request@dpdk.org?subject=subscribe>
Errors-To: test-report-bounces@dpdk.org

Test-Label: iol-unit-amd64-testing
Test-Status: SUCCESS
http://dpdk.org/patch/139757

_Testing PASS_

Submitter: Tyler Retzlaff <roretzla@linux.microsoft.com>
Date: Tuesday, April 30 2024 20:52:19 
DPDK git baseline: Repo:dpdk
  Branch: master
  CommitID:7e06c0de1952d3109a5b0c4779d7e7d8059c9d78

139757 --> testing pass

Test environment and result as below:

+---------------------+----------------+
|     Environment     | dpdk_unit_test |
+=====================+================+
| Windows Server 2019 | PASS           |
+---------------------+----------------+
| Debian Bullseye     | PASS           |
+---------------------+----------------+
| CentOS Stream 9     | PASS           |
+---------------------+----------------+
| Debian 12           | PASS           |
+---------------------+----------------+
| Fedora 38           | PASS           |
+---------------------+----------------+
| Fedora 39           | PASS           |
+---------------------+----------------+
| CentOS Stream 8     | PASS           |
+---------------------+----------------+
| Fedora 37           | PASS           |
+---------------------+----------------+
| RHEL8               | PASS           |
+---------------------+----------------+
| Ubuntu 20.04        | PASS           |
+---------------------+----------------+
| openSUSE Leap 15    | PASS           |
+---------------------+----------------+
| Windows Server 2022 | PASS           |
+---------------------+----------------+
| Ubuntu 22.04        | PASS           |
+---------------------+----------------+


Windows Server 2019
	Kernel: 10.0.17763
	Compiler: clang 14.0 and gcc 8.1.0 (MinGW)

Debian Bullseye
	Kernel: 5.4.0-167-generic
	Compiler: gcc 10.2.1-6

CentOS Stream 9
	Kernel: 5.4.0-167-generic
	Compiler: gcc 11.4.1 20230605

Debian 12
	Kernel: Container Host Kernel
	Compiler: gcc 10.2.1

Fedora 38
	Kernel: Depends on container host
	Compiler: gcc 13.2.1

Fedora 39
	Kernel: Depends on container host
	Compiler: gcc 13.2.1

CentOS Stream 8
	Kernel: 5.4.0-167-generic
	Compiler: gcc 8.5.0 20210514

Fedora 37
	Kernel: Depends on container host system
	Compiler: gcc 12.3.1

RHEL8
	Kernel: 5.4.0-167-generic
	Compiler: gcc 8.5.0 20210514 (Red Hat 8.5.0-20)

Ubuntu 20.04
	Kernel: 5.4.0-167-generic
	Compiler: gcc 9.4.0-1ubuntu1~20.04.1

openSUSE Leap 15
	Kernel: 5.4.0-167-generic
	Compiler: gcc 7.5.0

Windows Server 2022
	Kernel: 10.0.20348.2031
	Compiler: clang 15.0.7, gcc 8.1.0 (MinGW), and MSVC VS 17.9

Ubuntu 22.04
	Kernel: 5.4.0-167-generic
	Compiler: gcc 11.4.0

To view detailed results, visit:
https://lab.dpdk.org/results/dashboard/patchsets/29884/

UNH-IOL DPDK Community Lab

To manage your email subscriptions, visit: 
https://lab.dpdk.org/results/dashboard/preferences/subscriptions/