From mboxrd@z Thu Jan  1 00:00:00 1970
Return-Path: <test-report-bounces@dpdk.org>
Received: from mails.dpdk.org (mails.dpdk.org [217.70.189.124])
	by inbox.dpdk.org (Postfix) with ESMTP id 115E243F57
	for <public@inbox.dpdk.org>; Wed,  1 May 2024 00:33:24 +0200 (CEST)
Received: from mails.dpdk.org (localhost [127.0.0.1])
	by mails.dpdk.org (Postfix) with ESMTP id 05F8C402A8;
	Wed,  1 May 2024 00:33:24 +0200 (CEST)
Received: from mail-pl1-f225.google.com (mail-pl1-f225.google.com
 [209.85.214.225])
 by mails.dpdk.org (Postfix) with ESMTP id 6ED75402A7
 for <test-report@dpdk.org>; Wed,  1 May 2024 00:33:23 +0200 (CEST)
Received: by mail-pl1-f225.google.com with SMTP id
 d9443c01a7336-1eac92f7c74so50724865ad.3
 for <test-report@dpdk.org>; Tue, 30 Apr 2024 15:33:23 -0700 (PDT)
DKIM-Signature: v=1; a=rsa-sha256; c=relaxed/relaxed;
 d=iol.unh.edu; s=unh-iol; t=1714516402; x=1715121202; darn=dpdk.org;
 h=references:in-reply-to:cc:to:from:subject:message-id:date:from:to
 :cc:subject:date:message-id:reply-to;
 bh=X7BxDTtovKJTvk2ny433fuGKgSmkoXWcMrJB+fL9A/0=;
 b=Gm2w18RZr4trDlJv7ap7jfaEZjtLIK8O9RSDHpCWlMA1rs2m7enwWU9Yxvhmt7SGeo
 elgPREQwxNywjzy+HzY5riNb77oZ1TkKcSmzqPP+5Mm4D120IOai+lZoZ1n1ReF3z9P7
 walwT3FfqxP/7qlMsvFn5avljvRGe+UuYQx6Q=
X-Google-DKIM-Signature: v=1; a=rsa-sha256; c=relaxed/relaxed;
 d=1e100.net; s=20230601; t=1714516402; x=1715121202;
 h=references:in-reply-to:cc:to:from:subject:message-id:date
 :x-gm-message-state:from:to:cc:subject:date:message-id:reply-to;
 bh=X7BxDTtovKJTvk2ny433fuGKgSmkoXWcMrJB+fL9A/0=;
 b=UfW+cbhEbHSSEuRz9uj3pfJRLrqCiPjZm619KhwuniqFbTklCcTuDnVgs1faq3114R
 jDrQioOi6aEfF7tVWZ3cGgqpR9OIM7fBV0K/uFya7DoCTtCo48AEUg3JuGYhVNsozUbI
 KHO/R+D9ShffJ4zjuU+MbhUX6RghZ47jZiy6l78y5HyMSTxQTti6RUh18fLZOqELy38v
 qbtWvqDtFpfyrFDeL7repOiP7wYmi9xEWOzpWFXOg4gZeryYP9t0u8/Pf1Fap3gd2BNw
 HIRRpbIPwZn6Whf0DyiFxu68/h8ZURl1ZTeJLn75F2pSajhok5c4kGwWr2/zhFLq9ZsE
 iUgg==
X-Gm-Message-State: AOJu0Yy8q0AjrgzYefFDd2Ag/FmLD3o9ktjDgLpdKHEIPWQhuDUur1F/
 vEIpyySTc4WpfVRxR+EOL7fKL9m+tt3n+xaXvnYAXMpBkK4aLOT+/bSMFnYsF30lnsTNVDGY8hC
 bdjkbegv4xkjSM9ywgnjj5LDwc/k/G9qp/8hWSAaE
X-Google-Smtp-Source: AGHT+IEx8vS9ElKSbdkeNGL0Z+WbFgL/6m9FQ5SRstMCwgiQSKkQlJbo4S5AJKETz/m/TBj30MyKEauKVjNQ
X-Received: by 2002:a17:903:32c9:b0:1e9:cf94:5bea with SMTP id
 i9-20020a17090332c900b001e9cf945beamr914323plr.35.1714516402680; 
 Tue, 30 Apr 2024 15:33:22 -0700 (PDT)
Received: from postal.iol.unh.edu (postal.iol.unh.edu. [132.177.123.84])
 by smtp-relay.gmail.com with ESMTPS id
 d18-20020a170902b71200b001e5677b2623sm844038pls.148.2024.04.30.15.33.22
 (version=TLS1_2 cipher=ECDHE-ECDSA-AES128-GCM-SHA256 bits=128/128);
 Tue, 30 Apr 2024 15:33:22 -0700 (PDT)
X-Relaying-Domain: iol.unh.edu
Date: Tue, 30 Apr 2024 15:33:22 -0700 (PDT)
Message-ID: <663171b2.170a0220.90aa7.5408SMTPIN_ADDED_MISSING@mx.google.com>
Received: from [172.21.0.6] (unknown [172.18.0.240])
 by postal.iol.unh.edu (Postfix) with ESMTP id BDD86604D420;
 Tue, 30 Apr 2024 18:33:21 -0400 (EDT)
Subject: |SUCCESS| pw139748-139754 [PATCH] [v2,9/9] crypto/ionic: add stats s
From: dpdklab@iol.unh.edu
To: Test Report <test-report@dpdk.org>
Cc: dpdk-test-reports@iol.unh.edu
In-Reply-To: <20240430202144.49899-10-andrew.boyer@amd.com>
References: <20240430202144.49899-10-andrew.boyer@amd.com>
Content-Type: text/plain
X-BeenThere: test-report@dpdk.org
X-Mailman-Version: 2.1.29
Precedence: list
List-Id: automatic DPDK test reports <test-report.dpdk.org>
List-Unsubscribe: <https://mails.dpdk.org/options/test-report>,
 <mailto:test-report-request@dpdk.org?subject=unsubscribe>
List-Archive: <http://mails.dpdk.org/archives/test-report/>
List-Post: <mailto:test-report@dpdk.org>
List-Help: <mailto:test-report-request@dpdk.org?subject=help>
List-Subscribe: <https://mails.dpdk.org/listinfo/test-report>,
 <mailto:test-report-request@dpdk.org?subject=subscribe>
Errors-To: test-report-bounces@dpdk.org

Test-Label: iol-compile-arm64-testing
Test-Status: SUCCESS
http://dpdk.org/patch/139754

_Testing PASS_

Submitter: Andrew Boyer <Andrew.Boyer@amd.com>
Date: Tuesday, April 30 2024 20:21:44 
DPDK git baseline: Repo:dpdk
  Branch: master
  CommitID:7e06c0de1952d3109a5b0c4779d7e7d8059c9d78

139748-139754 --> testing pass

Test environment and result as below:

+--------------------------+--------------------+
|       Environment        | dpdk_meson_compile |
+==========================+====================+
| Ubuntu 20.04 ARM SVE     | PASS               |
+--------------------------+--------------------+
| Debian 12 with MUSDK     | PASS               |
+--------------------------+--------------------+
| Fedora 38 (ARM)          | PASS               |
+--------------------------+--------------------+
| Debian 11 (Buster) (ARM) | PASS               |
+--------------------------+--------------------+
| Debian 12 (arm)          | PASS               |
+--------------------------+--------------------+
| Fedora 39 (ARM)          | PASS               |
+--------------------------+--------------------+
| CentOS Stream 9 (ARM)    | PASS               |
+--------------------------+--------------------+
| Fedora 37 (ARM)          | PASS               |
+--------------------------+--------------------+


Ubuntu 20.04 ARM SVE
	Kernel: 5.4.0-167-generic
	Compiler: gcc (Ubuntu 10.5.0-1ubuntu1~20.04) 10.5.0

Debian 12 with MUSDK
	Kernel: Container Host Kernel
	Compiler: gcc 12.2.0

Fedora 38 (ARM)
	Kernel: Depends on container host
	Compiler: gcc 13.2.1

Debian 11 (Buster) (ARM)
	Kernel: Container Host Kernel
	Compiler: gcc 10.2.1

Debian 12 (arm)
	Kernel: Container Host Kernel
	Compiler: gcc 12.2.0

Fedora 39 (ARM)
	Kernel: Depends on container host
	Compiler: gcc 13.2.1

CentOS Stream 9 (ARM)
	Kernel: Container Host Kernel
	Compiler: gcc 11.4.1

Fedora 37 (ARM)
	Kernel: Depends on container host
	Compiler: gcc 12.3.1

To view detailed results, visit:
https://lab.dpdk.org/results/dashboard/patchsets/29883/

UNH-IOL DPDK Community Lab

To manage your email subscriptions, visit: 
https://lab.dpdk.org/results/dashboard/preferences/subscriptions/