From mboxrd@z Thu Jan  1 00:00:00 1970
Return-Path: <test-report-bounces@dpdk.org>
Received: from mails.dpdk.org (mails.dpdk.org [217.70.189.124])
	by inbox.dpdk.org (Postfix) with ESMTP id ABFF143F59
	for <public@inbox.dpdk.org>; Wed,  1 May 2024 00:36:15 +0200 (CEST)
Received: from mails.dpdk.org (localhost [127.0.0.1])
	by mails.dpdk.org (Postfix) with ESMTP id 9AA8B402A8;
	Wed,  1 May 2024 00:36:15 +0200 (CEST)
Received: from mail-yb1-f225.google.com (mail-yb1-f225.google.com
 [209.85.219.225])
 by mails.dpdk.org (Postfix) with ESMTP id B5C50402A7
 for <test-report@dpdk.org>; Wed,  1 May 2024 00:36:13 +0200 (CEST)
Received: by mail-yb1-f225.google.com with SMTP id
 3f1490d57ef6-de54b28c3b7so6943553276.1
 for <test-report@dpdk.org>; Tue, 30 Apr 2024 15:36:13 -0700 (PDT)
DKIM-Signature: v=1; a=rsa-sha256; c=relaxed/relaxed;
 d=iol.unh.edu; s=unh-iol; t=1714516573; x=1715121373; darn=dpdk.org;
 h=references:in-reply-to:cc:to:from:subject:message-id:date:from:to
 :cc:subject:date:message-id:reply-to;
 bh=BVT9QiwWWyoJ08CtMsMzHo8rkWhsUSSYaMtHS76sUZM=;
 b=EBPZgHL+ZyuEkSA+0wO//ZWs2iEjEU+8frkH7axTQ53r1n9T1UgqNbBb9LjGAyVraH
 Q1zbhl+lL7GuLrLJ0OHCwLl3BPt+fJlDFuvK5mIRJOGWpQPLWwtbiXupDGU1er0O1I8Z
 PeBS/Ffvc/+c377NMCfQ1zCfKu5HOzmAQZ+QI=
X-Google-DKIM-Signature: v=1; a=rsa-sha256; c=relaxed/relaxed;
 d=1e100.net; s=20230601; t=1714516573; x=1715121373;
 h=references:in-reply-to:cc:to:from:subject:message-id:date
 :x-gm-message-state:from:to:cc:subject:date:message-id:reply-to;
 bh=BVT9QiwWWyoJ08CtMsMzHo8rkWhsUSSYaMtHS76sUZM=;
 b=r5XguqHi5blfHmo9TGfbeSxfHZjg8khZ3fJ/8QjPURWAsx03doaAmdwZRvZJtANxqP
 UveKnwgM7ifMssVmd68cFfKG27D+SA3yCoFx4NU+UcjzIjbcbRBTrJJb2JGQDbYzxLsH
 1T4aQ8pogP74SLtRJHZZgvadgO+NTumxagt5bxM+hvLGj9U4v/etPG6nRaFJ4qRpPOdt
 kQ4yB6LjNqptsgWAyx/k5FBzbDTpB5GdIdp00cqUwSzd7fseM+ddeqOuQzwWp4RspI6n
 VP3d05633vkE705mBlzvPghBlWqxnFa1mwDX/MQhIt0R/PBYN82GCbIVyiRLV4u2Ov+P
 k8LQ==
X-Gm-Message-State: AOJu0YxAQCMFjhVdj4237pZOw3YVpGQxUGopczxqf2XK1WgAKmWK80N8
 d9e0cV3tPdCajYrIBtHYLp/oZYLqbs+M4Q3JRHxU/cMYnRWyPAoYbT6KqxMpcDi6x6WCUNk4e9J
 RCCDhiwmXTfuHxLq0uJFYWRIWOYh5CrfgPGfUNHxt
X-Google-Smtp-Source: AGHT+IFYI1fgeMHr+anthzynJ8Ac2HkE2JmYuxHlNhuKJHR0ZcmwVJbsIQ8RtIPGAjuuonhhaB5fi+3uzHlv
X-Received: by 2002:a25:a289:0:b0:de5:641d:af3e with SMTP id
 c9-20020a25a289000000b00de5641daf3emr906739ybi.56.1714516573188; 
 Tue, 30 Apr 2024 15:36:13 -0700 (PDT)
Received: from postal.iol.unh.edu (postal.iol.unh.edu. [132.177.123.84])
 by smtp-relay.gmail.com with ESMTPS id
 x11-20020a056902138b00b00dc21a65b93bsm1573656ybu.1.2024.04.30.15.36.13
 (version=TLS1_2 cipher=ECDHE-ECDSA-AES128-GCM-SHA256 bits=128/128);
 Tue, 30 Apr 2024 15:36:13 -0700 (PDT)
X-Relaying-Domain: iol.unh.edu
Date: Tue, 30 Apr 2024 15:36:13 -0700 (PDT)
Message-ID: <6631725d.050a0220.711c2.3e6cSMTPIN_ADDED_MISSING@mx.google.com>
Received: from [172.21.0.6] (unknown [172.18.0.240])
 by postal.iol.unh.edu (Postfix) with ESMTP id DCA25604D420;
 Tue, 30 Apr 2024 18:36:12 -0400 (EDT)
Subject: |SUCCESS| pw139748-139754 [PATCH] [v2,9/9] crypto/ionic: add stats s
From: dpdklab@iol.unh.edu
To: Test Report <test-report@dpdk.org>
Cc: dpdk-test-reports@iol.unh.edu
In-Reply-To: <20240430202144.49899-10-andrew.boyer@amd.com>
References: <20240430202144.49899-10-andrew.boyer@amd.com>
Content-Type: text/plain
X-BeenThere: test-report@dpdk.org
X-Mailman-Version: 2.1.29
Precedence: list
List-Id: automatic DPDK test reports <test-report.dpdk.org>
List-Unsubscribe: <https://mails.dpdk.org/options/test-report>,
 <mailto:test-report-request@dpdk.org?subject=unsubscribe>
List-Archive: <http://mails.dpdk.org/archives/test-report/>
List-Post: <mailto:test-report@dpdk.org>
List-Help: <mailto:test-report-request@dpdk.org?subject=help>
List-Subscribe: <https://mails.dpdk.org/listinfo/test-report>,
 <mailto:test-report-request@dpdk.org?subject=subscribe>
Errors-To: test-report-bounces@dpdk.org

Test-Label: iol-unit-arm64-testing
Test-Status: SUCCESS
http://dpdk.org/patch/139754

_Testing PASS_

Submitter: Andrew Boyer <Andrew.Boyer@amd.com>
Date: Tuesday, April 30 2024 20:21:44 
DPDK git baseline: Repo:dpdk
  Branch: master
  CommitID:7e06c0de1952d3109a5b0c4779d7e7d8059c9d78

139748-139754 --> testing pass

Test environment and result as below:

+--------------------------+----------------+
|       Environment        | dpdk_unit_test |
+==========================+================+
| CentOS Stream 9 (ARM)    | PASS           |
+--------------------------+----------------+
| Debian 12 (arm)          | PASS           |
+--------------------------+----------------+
| Debian 11 (Buster) (ARM) | PASS           |
+--------------------------+----------------+


CentOS Stream 9 (ARM)
	Kernel: Container Host Kernel
	Compiler: gcc 11.4.1

Debian 12 (arm)
	Kernel: Container Host Kernel
	Compiler: gcc 12.2.0

Debian 11 (Buster) (ARM)
	Kernel: Container Host Kernel
	Compiler: gcc 10.2.1

To view detailed results, visit:
https://lab.dpdk.org/results/dashboard/patchsets/29883/

UNH-IOL DPDK Community Lab

To manage your email subscriptions, visit: 
https://lab.dpdk.org/results/dashboard/preferences/subscriptions/