From mboxrd@z Thu Jan  1 00:00:00 1970
Return-Path: <test-report-bounces@dpdk.org>
Received: from mails.dpdk.org (mails.dpdk.org [217.70.189.124])
	by inbox.dpdk.org (Postfix) with ESMTP id 6F40843F57
	for <public@inbox.dpdk.org>; Wed,  1 May 2024 00:50:07 +0200 (CEST)
Received: from mails.dpdk.org (localhost [127.0.0.1])
	by mails.dpdk.org (Postfix) with ESMTP id 64B97402A8;
	Wed,  1 May 2024 00:50:07 +0200 (CEST)
Received: from mail-io1-f100.google.com (mail-io1-f100.google.com
 [209.85.166.100])
 by mails.dpdk.org (Postfix) with ESMTP id 7D089402A7
 for <test-report@dpdk.org>; Wed,  1 May 2024 00:50:05 +0200 (CEST)
Received: by mail-io1-f100.google.com with SMTP id
 ca18e2360f4ac-7dee0dfd57aso51303839f.1
 for <test-report@dpdk.org>; Tue, 30 Apr 2024 15:50:05 -0700 (PDT)
DKIM-Signature: v=1; a=rsa-sha256; c=relaxed/relaxed;
 d=iol.unh.edu; s=unh-iol; t=1714517405; x=1715122205; darn=dpdk.org;
 h=references:in-reply-to:cc:to:from:subject:message-id:date:from:to
 :cc:subject:date:message-id:reply-to;
 bh=T8v7lEQ+UVELpRbU9kIugq3nNfl7zn/CjFXSAqJWh+A=;
 b=Oh9nezvyUmUUybvYZH0xudUyGVmOyfowXH/tsbpliRl4wmZpYXVPva7rksLYQIYyL9
 xSxo99JHgxggwTTII98319NuYrfZyRVadlVeJtc2yN2Yw3AiQ8GsKKOHUOy0WSwMhv4w
 wK94Nffr+Hvl+SOYvQXrfUoXVWhyZwKbyii9A=
X-Google-DKIM-Signature: v=1; a=rsa-sha256; c=relaxed/relaxed;
 d=1e100.net; s=20230601; t=1714517405; x=1715122205;
 h=references:in-reply-to:cc:to:from:subject:message-id:date
 :x-gm-message-state:from:to:cc:subject:date:message-id:reply-to;
 bh=T8v7lEQ+UVELpRbU9kIugq3nNfl7zn/CjFXSAqJWh+A=;
 b=uMOpqqwam7dyojKglip3S36cvycUWvIhl4fL4EFkpabEP5b3pvOGD7cZ9pV79cM4n/
 m9t73usU9V8irlBQLBxJYDf8KdI4lZj++F0IKTf3RThReZVrrekpTbFEQI6YIWvrzMj6
 1IJgn6Z0uIqmiNhNiqN43roUqhovyQzKncZkyOkdHjRdzGEXf1+hbMY8WIEMwK7H3L2k
 R1i9dodrYT+JB2ufd2+mYXUkFYISEbjFf/6IIUe5DW01eIjOWc/DPLAqURLn1RpLyq57
 u4V7roAX3AwsOro+i8JTFREOCiY20dCzj2tD6wQa+HRfcw+0vKhJKmcppSxXPfc4WYa5
 /96w==
X-Gm-Message-State: AOJu0YyFEN4ieUZNR2LXQw55p/J2Z+n1hKvS6Lu3PvZ365px+j/BdOYy
 G43VaNFD2YzjfUVR/7egv7rmVtg31akcksGjQ3qGtoiaDbDV7a9u3n6UhHwSJxRs8rJ+SrJZD2M
 WND8pHbmdYVZm6tszLen+DWArGtNxDXQZPwcffxq8EQ739oyVsEJKShAJ
X-Google-Smtp-Source: AGHT+IFpr0alSTuPOvz8Rdi/oeSdaeTlQQD0HtNOGJiklYfTZmOuHkG12HAV6seuYv5knDdbHOqsCv8bwjdV
X-Received: by 2002:a5d:8986:0:b0:7de:a107:913c with SMTP id
 m6-20020a5d8986000000b007dea107913cmr1368573iol.13.1714517404891; 
 Tue, 30 Apr 2024 15:50:04 -0700 (PDT)
Received: from postal.iol.unh.edu (postal.iol.unh.edu.
 [2606:4100:3880:1234::84]) by smtp-relay.gmail.com with ESMTPS id
 fb5-20020a0566023f8500b007de97aaae21sm717064iob.16.2024.04.30.15.50.04
 (version=TLS1_2 cipher=ECDHE-ECDSA-AES128-GCM-SHA256 bits=128/128);
 Tue, 30 Apr 2024 15:50:04 -0700 (PDT)
X-Relaying-Domain: iol.unh.edu
Date: Tue, 30 Apr 2024 15:50:04 -0700 (PDT)
Message-ID: <6631759c.050a0220.edab4.d2ddSMTPIN_ADDED_MISSING@mx.google.com>
Received: from [172.21.0.7] (unknown [172.18.0.240])
 by postal.iol.unh.edu (Postfix) with ESMTP id 62490604D420;
 Tue, 30 Apr 2024 18:50:04 -0400 (EDT)
Subject: |SUCCESS| pw139748-139754 [PATCH] [v2,9/9] crypto/ionic: add stats s
From: dpdklab@iol.unh.edu
To: Test Report <test-report@dpdk.org>
Cc: dpdk-test-reports@iol.unh.edu
In-Reply-To: <20240430202144.49899-10-andrew.boyer@amd.com>
References: <20240430202144.49899-10-andrew.boyer@amd.com>
Content-Type: text/plain
X-BeenThere: test-report@dpdk.org
X-Mailman-Version: 2.1.29
Precedence: list
List-Id: automatic DPDK test reports <test-report.dpdk.org>
List-Unsubscribe: <https://mails.dpdk.org/options/test-report>,
 <mailto:test-report-request@dpdk.org?subject=unsubscribe>
List-Archive: <http://mails.dpdk.org/archives/test-report/>
List-Post: <mailto:test-report@dpdk.org>
List-Help: <mailto:test-report-request@dpdk.org?subject=help>
List-Subscribe: <https://mails.dpdk.org/listinfo/test-report>,
 <mailto:test-report-request@dpdk.org?subject=subscribe>
Errors-To: test-report-bounces@dpdk.org

Test-Label: iol-compile-arm64-testing
Test-Status: SUCCESS
http://dpdk.org/patch/139754

_Testing PASS_

Submitter: Andrew Boyer <Andrew.Boyer@amd.com>
Date: Tuesday, April 30 2024 20:21:44 
DPDK git baseline: Repo:dpdk
  Branch: master
  CommitID:7e06c0de1952d3109a5b0c4779d7e7d8059c9d78

139748-139754 --> testing pass

Test environment and result as below:

+--------------------------------------+--------------------+
|             Environment              | dpdk_meson_compile |
+======================================+====================+
| Ubuntu 20.04 ARM SVE                 | PASS               |
+--------------------------------------+--------------------+
| Debian 12 with MUSDK                 | PASS               |
+--------------------------------------+--------------------+
| Fedora 38 (ARM)                      | PASS               |
+--------------------------------------+--------------------+
| Debian 11 (Buster) (ARM)             | PASS               |
+--------------------------------------+--------------------+
| Debian 12 (arm)                      | PASS               |
+--------------------------------------+--------------------+
| Fedora 39 (ARM)                      | PASS               |
+--------------------------------------+--------------------+
| CentOS Stream 9 (ARM)                | PASS               |
+--------------------------------------+--------------------+
| Fedora 37 (ARM)                      | PASS               |
+--------------------------------------+--------------------+
| Ubuntu 20.04 ARM GCC Cross Compile   | PASS               |
+--------------------------------------+--------------------+
| Ubuntu 20.04 ARM Clang Cross Compile | PASS               |
+--------------------------------------+--------------------+
| Ubuntu 20.04 (ARM)                   | PASS               |
+--------------------------------------+--------------------+


Ubuntu 20.04 ARM SVE
	Kernel: 5.4.0-167-generic
	Compiler: gcc (Ubuntu 10.5.0-1ubuntu1~20.04) 10.5.0

Debian 12 with MUSDK
	Kernel: Container Host Kernel
	Compiler: gcc 12.2.0

Fedora 38 (ARM)
	Kernel: Depends on container host
	Compiler: gcc 13.2.1

Debian 11 (Buster) (ARM)
	Kernel: Container Host Kernel
	Compiler: gcc 10.2.1

Debian 12 (arm)
	Kernel: Container Host Kernel
	Compiler: gcc 12.2.0

Fedora 39 (ARM)
	Kernel: Depends on container host
	Compiler: gcc 13.2.1

CentOS Stream 9 (ARM)
	Kernel: Container Host Kernel
	Compiler: gcc 11.4.1

Fedora 37 (ARM)
	Kernel: Depends on container host
	Compiler: gcc 12.3.1

Ubuntu 20.04 ARM GCC Cross Compile
	Kernel: 5.4.0-167-generic
	Compiler: aarch64-linux-gnu-gcc (Ubuntu 9.4.0-1ubuntu1~20.04.2) 9.4.0

Ubuntu 20.04 ARM Clang Cross Compile
	Kernel: 5.4.0-72-generic
	Compiler: clang 10.0.0-4ubuntu1

Ubuntu 20.04 (ARM)
	Kernel: Container Host Kernel
	Compiler: gcc 9.4.0

To view detailed results, visit:
https://lab.dpdk.org/results/dashboard/patchsets/29883/

UNH-IOL DPDK Community Lab

To manage your email subscriptions, visit: 
https://lab.dpdk.org/results/dashboard/preferences/subscriptions/