From mboxrd@z Thu Jan  1 00:00:00 1970
Return-Path: <test-report-bounces@dpdk.org>
Received: from mails.dpdk.org (mails.dpdk.org [217.70.189.124])
	by inbox.dpdk.org (Postfix) with ESMTP id 2CF1243F57
	for <public@inbox.dpdk.org>; Wed,  1 May 2024 01:00:19 +0200 (CEST)
Received: from mails.dpdk.org (localhost [127.0.0.1])
	by mails.dpdk.org (Postfix) with ESMTP id 25B30402A8;
	Wed,  1 May 2024 01:00:19 +0200 (CEST)
Received: from mail-pg1-f225.google.com (mail-pg1-f225.google.com
 [209.85.215.225])
 by mails.dpdk.org (Postfix) with ESMTP id 6BE73402A7
 for <test-report@dpdk.org>; Wed,  1 May 2024 01:00:18 +0200 (CEST)
Received: by mail-pg1-f225.google.com with SMTP id
 41be03b00d2f7-5d8b519e438so4888535a12.1
 for <test-report@dpdk.org>; Tue, 30 Apr 2024 16:00:18 -0700 (PDT)
DKIM-Signature: v=1; a=rsa-sha256; c=relaxed/relaxed;
 d=iol.unh.edu; s=unh-iol; t=1714518017; x=1715122817; darn=dpdk.org;
 h=references:in-reply-to:cc:to:from:subject:message-id:date:from:to
 :cc:subject:date:message-id:reply-to;
 bh=/RMy3HeCUFkCkPxS4mBPRa2sZ4K/dkpdEUUONkmpm18=;
 b=aWHz+ThwhPmfhUIv8BjhGjQvo883u4+Bdk6nudcY/QyPexe64oW3sv9HIDgA7zzxsi
 0AnMUs6FWDRCw1GVymQJIZtIxUHsex2oP2XqovmjP3XrwgO+ZUFkUuomdbp8Fgna5bQR
 9gDurkEq89JprneGNhAOpvx1KeiGmADrIALhc=
X-Google-DKIM-Signature: v=1; a=rsa-sha256; c=relaxed/relaxed;
 d=1e100.net; s=20230601; t=1714518017; x=1715122817;
 h=references:in-reply-to:cc:to:from:subject:message-id:date
 :x-gm-message-state:from:to:cc:subject:date:message-id:reply-to;
 bh=/RMy3HeCUFkCkPxS4mBPRa2sZ4K/dkpdEUUONkmpm18=;
 b=abaE41cv2GG1fH1bRN0jmbtZaOy2xEtRmnaZy3FFjS95dUsgChEm/rv65yJhbmyltu
 mraKo/6mCOn0zG94Mn0FleCjDUe/OjBUr3X7PUX+bZBsREW8ZF4Ri2UTCW0l8zlvzhJt
 dbGAWJOTzhfJxuiIL2EWqus29WxiGExe5hE8+skE55k7avuSiq1lyC0Lnyjx+8XvqLae
 NIRFEq/DaG6OhZuM5EPXi3gJPxauylSl18RWEX1Dnjr3EIJeOhRCFfrqoy0/HfLtj375
 x5sgAY81zAyEmxO6WW/Ubjzo+T0Oe85eTUtbMXB76EM0QA7kHXCf29ax2HWXCA4PlhmL
 COgw==
X-Gm-Message-State: AOJu0YwQ78LQngmh8KbiN56Xvok6QoX+8dJ0uREK146WhgpPdEdXnq4Y
 Cn2OC5tpHLyFva6oDoMEzOwhc6wuV7RObWsgdxH7h+4o5FrKJBFI7dHgEkxpdXjM2ytTmLhtg9w
 otZaXmJmAGRV9xWsbqBh21bPUOl5G57wBlOpHHRSxiGLAVT5H30vBhw==
X-Google-Smtp-Source: AGHT+IFnDkt2Iq1YCdRIyA2baFm8UD0lpNbKsb62kX/U11wVRfh3mxno72j36FpYTgc7quFFaZvaDnhRhGQo
X-Received: by 2002:a17:90a:d0c2:b0:2b1:99fd:91f3 with SMTP id
 y2-20020a17090ad0c200b002b199fd91f3mr866478pjw.41.1714518016648; 
 Tue, 30 Apr 2024 16:00:16 -0700 (PDT)
Received: from postal.iol.unh.edu (postal.iol.unh.edu.
 [2606:4100:3880:1234::84]) by smtp-relay.gmail.com with ESMTPS id
 go19-20020a17090b03d300b002ae56a2b3c3sm14940pjb.15.2024.04.30.16.00.16
 (version=TLS1_2 cipher=ECDHE-ECDSA-AES128-GCM-SHA256 bits=128/128);
 Tue, 30 Apr 2024 16:00:16 -0700 (PDT)
X-Relaying-Domain: iol.unh.edu
Date: Tue, 30 Apr 2024 16:00:16 -0700 (PDT)
Message-ID: <66317800.170a0220.78e6b.0dcbSMTPIN_ADDED_MISSING@mx.google.com>
Received: from [172.21.0.6] (unknown [172.18.0.240])
 by postal.iol.unh.edu (Postfix) with ESMTP id C3AAB604D420;
 Tue, 30 Apr 2024 19:00:15 -0400 (EDT)
Subject: |SUCCESS| pw139748-139754 [PATCH] [v2,9/9] crypto/ionic: add stats s
From: dpdklab@iol.unh.edu
To: Test Report <test-report@dpdk.org>
Cc: dpdk-test-reports@iol.unh.edu
In-Reply-To: <20240430202144.49899-10-andrew.boyer@amd.com>
References: <20240430202144.49899-10-andrew.boyer@amd.com>
Content-Type: text/plain
X-BeenThere: test-report@dpdk.org
X-Mailman-Version: 2.1.29
Precedence: list
List-Id: automatic DPDK test reports <test-report.dpdk.org>
List-Unsubscribe: <https://mails.dpdk.org/options/test-report>,
 <mailto:test-report-request@dpdk.org?subject=unsubscribe>
List-Archive: <http://mails.dpdk.org/archives/test-report/>
List-Post: <mailto:test-report@dpdk.org>
List-Help: <mailto:test-report-request@dpdk.org?subject=help>
List-Subscribe: <https://mails.dpdk.org/listinfo/test-report>,
 <mailto:test-report-request@dpdk.org?subject=subscribe>
Errors-To: test-report-bounces@dpdk.org

Test-Label: iol-compile-amd64-testing
Test-Status: SUCCESS
http://dpdk.org/patch/139754

_Testing PASS_

Submitter: Andrew Boyer <Andrew.Boyer@amd.com>
Date: Tuesday, April 30 2024 20:21:44 
DPDK git baseline: Repo:dpdk
  Branch: master
  CommitID:7e06c0de1952d3109a5b0c4779d7e7d8059c9d78

139748-139754 --> testing pass

Test environment and result as below:

+---------------------+--------------------+----------------------+-------------------+
|     Environment     | dpdk_meson_compile | dpdk_mingw64_compile | dpdk_msvc_compile |
+=====================+====================+======================+===================+
| FreeBSD 13.3        | PASS               | SKIPPED              | SKIPPED           |
+---------------------+--------------------+----------------------+-------------------+
| Windows Server 2019 | PASS               | PASS                 | SKIPPED           |
+---------------------+--------------------+----------------------+-------------------+
| Windows Server 2022 | PASS               | PASS                 | PASS              |
+---------------------+--------------------+----------------------+-------------------+
| CentOS Stream 9     | PASS               | SKIPPED              | SKIPPED           |
+---------------------+--------------------+----------------------+-------------------+
| Debian Bullseye     | PASS               | SKIPPED              | SKIPPED           |
+---------------------+--------------------+----------------------+-------------------+
| Fedora 37           | PASS               | SKIPPED              | SKIPPED           |
+---------------------+--------------------+----------------------+-------------------+
| Debian 12           | PASS               | SKIPPED              | SKIPPED           |
+---------------------+--------------------+----------------------+-------------------+
| RHEL8               | PASS               | SKIPPED              | SKIPPED           |
+---------------------+--------------------+----------------------+-------------------+
| openSUSE Leap 15    | PASS               | SKIPPED              | SKIPPED           |
+---------------------+--------------------+----------------------+-------------------+
| Fedora 38           | PASS               | SKIPPED              | SKIPPED           |
+---------------------+--------------------+----------------------+-------------------+
| Ubuntu 22.04        | PASS               | SKIPPED              | SKIPPED           |
+---------------------+--------------------+----------------------+-------------------+
| Fedora 39           | PASS               | SKIPPED              | SKIPPED           |
+---------------------+--------------------+----------------------+-------------------+
| Ubuntu 20.04        | PASS               | SKIPPED              | SKIPPED           |
+---------------------+--------------------+----------------------+-------------------+
| CentOS Stream 8     | PASS               | SKIPPED              | SKIPPED           |
+---------------------+--------------------+----------------------+-------------------+


FreeBSD 13.3
	Kernel: 13.3-RELEASE-p1
	Compiler: clang 17.0.6

Windows Server 2019
	Kernel: 10.0.17763
	Compiler: clang 14.0 and gcc 8.1.0 (MinGW)

Windows Server 2022
	Kernel: 10.0.20348.2031
	Compiler: clang 15.0.7, gcc 8.1.0 (MinGW), and MSVC VS 17.9

CentOS Stream 9
	Kernel: 5.4.0-167-generic
	Compiler: gcc 11.4.1 20230605

Debian Bullseye
	Kernel: 5.4.0-167-generic
	Compiler: gcc 10.2.1-6

Fedora 37
	Kernel: Depends on container host system
	Compiler: gcc 12.3.1

Debian 12
	Kernel: Container Host Kernel
	Compiler: gcc 10.2.1

RHEL8
	Kernel: 5.4.0-167-generic
	Compiler: gcc 8.5.0 20210514 (Red Hat 8.5.0-20)

openSUSE Leap 15
	Kernel: 5.4.0-167-generic
	Compiler: gcc 7.5.0

Fedora 38
	Kernel: Depends on container host
	Compiler: gcc 13.2.1

Ubuntu 22.04
	Kernel: 5.4.0-167-generic
	Compiler: gcc 11.4.0

Fedora 39
	Kernel: Depends on container host
	Compiler: gcc 13.2.1

Ubuntu 20.04
	Kernel: 5.4.0-167-generic
	Compiler: gcc 9.4.0-1ubuntu1~20.04.1

CentOS Stream 8
	Kernel: 5.4.0-167-generic
	Compiler: gcc 8.5.0 20210514

To view detailed results, visit:
https://lab.dpdk.org/results/dashboard/patchsets/29883/

UNH-IOL DPDK Community Lab

To manage your email subscriptions, visit: 
https://lab.dpdk.org/results/dashboard/preferences/subscriptions/