From mboxrd@z Thu Jan  1 00:00:00 1970
Return-Path: <test-report-bounces@dpdk.org>
Received: from mails.dpdk.org (mails.dpdk.org [217.70.189.124])
	by inbox.dpdk.org (Postfix) with ESMTP id 51F4E43F57
	for <public@inbox.dpdk.org>; Wed,  1 May 2024 01:00:34 +0200 (CEST)
Received: from mails.dpdk.org (localhost [127.0.0.1])
	by mails.dpdk.org (Postfix) with ESMTP id 48639402A8;
	Wed,  1 May 2024 01:00:34 +0200 (CEST)
Received: from mail-qv1-f97.google.com (mail-qv1-f97.google.com
 [209.85.219.97]) by mails.dpdk.org (Postfix) with ESMTP id 1C7DB402A7
 for <test-report@dpdk.org>; Wed,  1 May 2024 01:00:33 +0200 (CEST)
Received: by mail-qv1-f97.google.com with SMTP id
 6a1803df08f44-69b514d3cf4so67761636d6.0
 for <test-report@dpdk.org>; Tue, 30 Apr 2024 16:00:33 -0700 (PDT)
DKIM-Signature: v=1; a=rsa-sha256; c=relaxed/relaxed;
 d=iol.unh.edu; s=unh-iol; t=1714518032; x=1715122832; darn=dpdk.org;
 h=references:in-reply-to:cc:to:from:subject:message-id:date:from:to
 :cc:subject:date:message-id:reply-to;
 bh=sCL321l5Vm3mOrM+J+5SmbSL7IbLwBQflBLsoJEM3RA=;
 b=Uy9HwBg/3cBBiUZ2+Uh/LpS9jFitcVOY6QZoI11A4UMUfrTuptGVvrMldeHUkj3Xac
 U8AmEqBINbu4Fj0iqpALXY10HNRKvvJTgAOdVYyBF7Jzp8a0xqKCf9GLX9hVOqtqs8+4
 Z857gzg7tFeOV4ew4uYeN0BGi71+8znmjp4V4=
X-Google-DKIM-Signature: v=1; a=rsa-sha256; c=relaxed/relaxed;
 d=1e100.net; s=20230601; t=1714518032; x=1715122832;
 h=references:in-reply-to:cc:to:from:subject:message-id:date
 :x-gm-message-state:from:to:cc:subject:date:message-id:reply-to;
 bh=sCL321l5Vm3mOrM+J+5SmbSL7IbLwBQflBLsoJEM3RA=;
 b=jjn4RFExqMRcAy0BmogURfVsvZsyDWdLrO8lQe6bKF/uscOpKSnNlfHLyj4vv12V/G
 weghHYMwnZn0aWwMuzh70tmnYwpgcP3fk3dspoih7KQ56UZbc3Cx4c2RovxxpjzinxtZ
 xHlnUkRo/eCCygVbuO7fOgS6lDpXP+p98N4Sr1RQqugbu9DURkzC9+Lszw1kd4hmPzws
 8lDFnmZgBIjqma6V4U9QdrtpByT732hkD6wzVWOgPeWb0CU6kM4JkxTc1Tqs2oypRr64
 UA2/u+6zEOozEF3PQy/oelKGPv9sEQxfL6PFQilS60xTekxnLlhAvIlvFVY8XTfaIa85
 41Bg==
X-Gm-Message-State: AOJu0Yxn44XYxFfxrCnHmMuNdGZYD7g6nLjgEpauzoafYaGyr67Ht9fm
 6ywOJpsarMx6ioudladOS9y7nwrmkSIbINQd+h7gmLEhodqtKG7N+5cjJ7UXeK4RgYWwzW1iMp2
 dnsQ+3uqNPR7UwSISydoOvvaH8No+diw1T1eWU97c4siJx1WofWD54PbO
X-Google-Smtp-Source: AGHT+IGu9iJN5tGWr4FW/rfr77kCd7XJouWU5TTJw5HGiYQGfFzy7P0Xd4BN+0/bWHvfOmvhv0RXxIcXszRG
X-Received: by 2002:a05:6214:194c:b0:6a0:cc66:3c74 with SMTP id
 q12-20020a056214194c00b006a0cc663c74mr852314qvk.18.1714518032550; 
 Tue, 30 Apr 2024 16:00:32 -0700 (PDT)
Received: from postal.iol.unh.edu (postal.iol.unh.edu.
 [2606:4100:3880:1234::84]) by smtp-relay.gmail.com with ESMTPS id
 e17-20020a056214111100b006a0d69e6f0asm422305qvs.31.2024.04.30.16.00.32
 (version=TLS1_2 cipher=ECDHE-ECDSA-AES128-GCM-SHA256 bits=128/128);
 Tue, 30 Apr 2024 16:00:32 -0700 (PDT)
X-Relaying-Domain: iol.unh.edu
Date: Tue, 30 Apr 2024 16:00:32 -0700 (PDT)
Message-ID: <66317810.050a0220.c624b.ea12SMTPIN_ADDED_MISSING@mx.google.com>
Received: from [172.21.0.7] (unknown [172.18.0.240])
 by postal.iol.unh.edu (Postfix) with ESMTP id 41B4F604D420;
 Tue, 30 Apr 2024 19:00:32 -0400 (EDT)
Subject: |SUCCESS| pw139748-139754 [PATCH] [v2,9/9] crypto/ionic: add stats s
From: dpdklab@iol.unh.edu
To: Test Report <test-report@dpdk.org>
Cc: dpdk-test-reports@iol.unh.edu
In-Reply-To: <20240430202144.49899-10-andrew.boyer@amd.com>
References: <20240430202144.49899-10-andrew.boyer@amd.com>
Content-Type: text/plain
X-BeenThere: test-report@dpdk.org
X-Mailman-Version: 2.1.29
Precedence: list
List-Id: automatic DPDK test reports <test-report.dpdk.org>
List-Unsubscribe: <https://mails.dpdk.org/options/test-report>,
 <mailto:test-report-request@dpdk.org?subject=unsubscribe>
List-Archive: <http://mails.dpdk.org/archives/test-report/>
List-Post: <mailto:test-report@dpdk.org>
List-Help: <mailto:test-report-request@dpdk.org?subject=help>
List-Subscribe: <https://mails.dpdk.org/listinfo/test-report>,
 <mailto:test-report-request@dpdk.org?subject=subscribe>
Errors-To: test-report-bounces@dpdk.org

Test-Label: iol-unit-amd64-testing
Test-Status: SUCCESS
http://dpdk.org/patch/139754

_Testing PASS_

Submitter: Andrew Boyer <Andrew.Boyer@amd.com>
Date: Tuesday, April 30 2024 20:21:44 
DPDK git baseline: Repo:dpdk
  Branch: master
  CommitID:7e06c0de1952d3109a5b0c4779d7e7d8059c9d78

139748-139754 --> testing pass

Test environment and result as below:

+---------------------+----------------+
|     Environment     | dpdk_unit_test |
+=====================+================+
| Debian Bullseye     | PASS           |
+---------------------+----------------+
| Windows Server 2019 | PASS           |
+---------------------+----------------+
| Fedora 37           | PASS           |
+---------------------+----------------+
| CentOS Stream 8     | PASS           |
+---------------------+----------------+
| Debian 12           | PASS           |
+---------------------+----------------+
| CentOS Stream 9     | PASS           |
+---------------------+----------------+
| Fedora 38           | PASS           |
+---------------------+----------------+
| openSUSE Leap 15    | PASS           |
+---------------------+----------------+
| Fedora 39           | PASS           |
+---------------------+----------------+


Debian Bullseye
	Kernel: 5.4.0-167-generic
	Compiler: gcc 10.2.1-6

Windows Server 2019
	Kernel: 10.0.17763
	Compiler: clang 14.0 and gcc 8.1.0 (MinGW)

Fedora 37
	Kernel: Depends on container host system
	Compiler: gcc 12.3.1

CentOS Stream 8
	Kernel: 5.4.0-167-generic
	Compiler: gcc 8.5.0 20210514

Debian 12
	Kernel: Container Host Kernel
	Compiler: gcc 10.2.1

CentOS Stream 9
	Kernel: 5.4.0-167-generic
	Compiler: gcc 11.4.1 20230605

Fedora 38
	Kernel: Depends on container host
	Compiler: gcc 13.2.1

openSUSE Leap 15
	Kernel: 5.4.0-167-generic
	Compiler: gcc 7.5.0

Fedora 39
	Kernel: Depends on container host
	Compiler: clang 17.0.6

To view detailed results, visit:
https://lab.dpdk.org/results/dashboard/patchsets/29883/

UNH-IOL DPDK Community Lab

To manage your email subscriptions, visit: 
https://lab.dpdk.org/results/dashboard/preferences/subscriptions/