From mboxrd@z Thu Jan  1 00:00:00 1970
Return-Path: <test-report-bounces@dpdk.org>
Received: from mails.dpdk.org (mails.dpdk.org [217.70.189.124])
	by inbox.dpdk.org (Postfix) with ESMTP id B299843F57
	for <public@inbox.dpdk.org>; Wed,  1 May 2024 01:03:48 +0200 (CEST)
Received: from mails.dpdk.org (localhost [127.0.0.1])
	by mails.dpdk.org (Postfix) with ESMTP id ABE18402A8;
	Wed,  1 May 2024 01:03:48 +0200 (CEST)
Received: from mail-pl1-f225.google.com (mail-pl1-f225.google.com
 [209.85.214.225])
 by mails.dpdk.org (Postfix) with ESMTP id 670F0402A7
 for <test-report@dpdk.org>; Wed,  1 May 2024 01:03:47 +0200 (CEST)
Received: by mail-pl1-f225.google.com with SMTP id
 d9443c01a7336-1eb24e3a2d9so40168555ad.1
 for <test-report@dpdk.org>; Tue, 30 Apr 2024 16:03:47 -0700 (PDT)
DKIM-Signature: v=1; a=rsa-sha256; c=relaxed/relaxed;
 d=iol.unh.edu; s=unh-iol; t=1714518226; x=1715123026; darn=dpdk.org;
 h=references:in-reply-to:cc:to:from:subject:message-id:date:from:to
 :cc:subject:date:message-id:reply-to;
 bh=yAI/2JfbIq4AB0pCnulnfIgPR4idT5dxm+skBKmlYzM=;
 b=KAVo2Sl5MMjqVuetL0ihkWd+wUD7eA5cXGTRISYYDIE1LyksGqwRguaEZ+VAkn1r4D
 ycPt/Op95ywopmKm2/brof03yK6ya0rcdg344sW1/tmb8rOax9j3h47vO8QKBq+rVdmA
 5diiRhR/3KWEoC0EZCuQudMAG13M2HROtKOUQ=
X-Google-DKIM-Signature: v=1; a=rsa-sha256; c=relaxed/relaxed;
 d=1e100.net; s=20230601; t=1714518226; x=1715123026;
 h=references:in-reply-to:cc:to:from:subject:message-id:date
 :x-gm-message-state:from:to:cc:subject:date:message-id:reply-to;
 bh=yAI/2JfbIq4AB0pCnulnfIgPR4idT5dxm+skBKmlYzM=;
 b=d5prOYQ7PuJrcT15kBVjpiTtH97bhfzrUsKvAv0aGiqqK81TPKM7ABlUbx6BR5hccD
 knc4VHLYL1c7hxyp+fRd/d1GJFh8DtPJSzaZaMupUf8hdHzPrIKbOb1AA6rkmuzQIPPw
 6p8+a3fD6RallGPceQD/qBOwa79dmbrGsc0MBZ4QTe9KOPI6rORS752Ig48Kad+50QQw
 pBztloRLSP1U9m80bjY/OD5OUaMKWgUY09ld97tHyLQ3hg4Vzswqvh6pitL5ZZzGPRxg
 AzBTUyXK2YqO2/ioyqIUQEETnxRJdskEAct7vtvJtVb7djhOsX/lcQFE9ECKfdgFSJcd
 jJpg==
X-Gm-Message-State: AOJu0YwXksNl4iPVfVhWo5m/ieI+gV0C6pVIEU8eZa4rI2Wz7NFwOlPz
 0feNa0t8ZO1OgXnEL8E+3u2zV2npH7ucsA0ypNa7ZJU+Wf/iPDZpgHlAUnuR28qiJUFypHmai3G
 vox9IIT2CFA0vXrPOllwHdz0//pNcwmPYLxoR5DMQ
X-Google-Smtp-Source: AGHT+IHoyMNXLAuSNcVhBblJQHVZIiH9bgS2QAnoqOOfX6iOnN2mYE4Ywf1Tlj8ZhQIcvOi0pYVdhx1PEZVX
X-Received: by 2002:a17:902:ce87:b0:1eb:7285:d6fe with SMTP id
 f7-20020a170902ce8700b001eb7285d6femr1191367plg.23.1714518226590; 
 Tue, 30 Apr 2024 16:03:46 -0700 (PDT)
Received: from postal.iol.unh.edu (postal.iol.unh.edu. [132.177.123.84])
 by smtp-relay.gmail.com with ESMTPS id
 v15-20020a170903238f00b001e612d2f669sm830345plh.21.2024.04.30.16.03.46
 (version=TLS1_2 cipher=ECDHE-ECDSA-AES128-GCM-SHA256 bits=128/128);
 Tue, 30 Apr 2024 16:03:46 -0700 (PDT)
X-Relaying-Domain: iol.unh.edu
Date: Tue, 30 Apr 2024 16:03:46 -0700 (PDT)
Message-ID: <663178d2.170a0220.c8b7a.31ebSMTPIN_ADDED_MISSING@mx.google.com>
Received: from [172.21.0.6] (unknown [172.18.0.240])
 by postal.iol.unh.edu (Postfix) with ESMTP id B733E604D420;
 Tue, 30 Apr 2024 19:03:45 -0400 (EDT)
Subject: |SUCCESS| pw139748-139754 [PATCH] [v2,9/9] crypto/ionic: add stats s
From: dpdklab@iol.unh.edu
To: Test Report <test-report@dpdk.org>
Cc: dpdk-test-reports@iol.unh.edu
In-Reply-To: <20240430202144.49899-10-andrew.boyer@amd.com>
References: <20240430202144.49899-10-andrew.boyer@amd.com>
Content-Type: text/plain
X-BeenThere: test-report@dpdk.org
X-Mailman-Version: 2.1.29
Precedence: list
List-Id: automatic DPDK test reports <test-report.dpdk.org>
List-Unsubscribe: <https://mails.dpdk.org/options/test-report>,
 <mailto:test-report-request@dpdk.org?subject=unsubscribe>
List-Archive: <http://mails.dpdk.org/archives/test-report/>
List-Post: <mailto:test-report@dpdk.org>
List-Help: <mailto:test-report-request@dpdk.org?subject=help>
List-Subscribe: <https://mails.dpdk.org/listinfo/test-report>,
 <mailto:test-report-request@dpdk.org?subject=subscribe>
Errors-To: test-report-bounces@dpdk.org

Test-Label: iol-unit-arm64-testing
Test-Status: SUCCESS
http://dpdk.org/patch/139754

_Testing PASS_

Submitter: Andrew Boyer <Andrew.Boyer@amd.com>
Date: Tuesday, April 30 2024 20:21:44 
DPDK git baseline: Repo:dpdk
  Branch: master
  CommitID:7e06c0de1952d3109a5b0c4779d7e7d8059c9d78

139748-139754 --> testing pass

Test environment and result as below:

+--------------------------+----------------+---------------------------+------------------------------+
|       Environment        | dpdk_unit_test | cryptodev_sw_zuc_autotest | cryptodev_sw_snow3g_autotest |
+==========================+================+===========================+==============================+
| CentOS Stream 9 (ARM)    | PASS           | SKIPPED                   | SKIPPED                      |
+--------------------------+----------------+---------------------------+------------------------------+
| Debian 12 (arm)          | PASS           | PASS                      | PASS                         |
+--------------------------+----------------+---------------------------+------------------------------+
| Debian 11 (Buster) (ARM) | PASS           | SKIPPED                   | SKIPPED                      |
+--------------------------+----------------+---------------------------+------------------------------+
| Fedora 39 (ARM)          | PASS           | SKIPPED                   | SKIPPED                      |
+--------------------------+----------------+---------------------------+------------------------------+
| Fedora 38 (ARM)          | PASS           | SKIPPED                   | SKIPPED                      |
+--------------------------+----------------+---------------------------+------------------------------+
| Ubuntu 20.04 (ARM)       | PASS           | SKIPPED                   | SKIPPED                      |
+--------------------------+----------------+---------------------------+------------------------------+
| Fedora 38 (ARM Clang)    | PASS           | SKIPPED                   | SKIPPED                      |
+--------------------------+----------------+---------------------------+------------------------------+


CentOS Stream 9 (ARM)
	Kernel: Container Host Kernel
	Compiler: gcc 11.4.1

Debian 12 (arm)
	Kernel: Container Host Kernel
	Compiler: gcc 12.2.0

Debian 11 (Buster) (ARM)
	Kernel: Container Host Kernel
	Compiler: gcc 10.2.1

Fedora 39 (ARM)
	Kernel: Depends on container host
	Compiler: gcc 13.2.1

Fedora 38 (ARM)
	Kernel: Depends on container host
	Compiler: gcc 13.2.1

Ubuntu 20.04 (ARM)
	Kernel: Container Host Kernel
	Compiler: gcc 9.4.0

Fedora 38 (ARM Clang)
	Kernel: Depends on container host
	Compiler: clang 16.0.6

To view detailed results, visit:
https://lab.dpdk.org/results/dashboard/patchsets/29883/

UNH-IOL DPDK Community Lab

To manage your email subscriptions, visit: 
https://lab.dpdk.org/results/dashboard/preferences/subscriptions/