From mboxrd@z Thu Jan  1 00:00:00 1970
Return-Path: <test-report-bounces@dpdk.org>
Received: from mails.dpdk.org (mails.dpdk.org [217.70.189.124])
	by inbox.dpdk.org (Postfix) with ESMTP id 698C943F57
	for <public@inbox.dpdk.org>; Wed,  1 May 2024 01:04:47 +0200 (CEST)
Received: from mails.dpdk.org (localhost [127.0.0.1])
	by mails.dpdk.org (Postfix) with ESMTP id 61087402A8;
	Wed,  1 May 2024 01:04:47 +0200 (CEST)
Received: from mail-yw1-f228.google.com (mail-yw1-f228.google.com
 [209.85.128.228])
 by mails.dpdk.org (Postfix) with ESMTP id 07960402A7
 for <test-report@dpdk.org>; Wed,  1 May 2024 01:04:47 +0200 (CEST)
Received: by mail-yw1-f228.google.com with SMTP id
 00721157ae682-61bed738438so11862757b3.2
 for <test-report@dpdk.org>; Tue, 30 Apr 2024 16:04:46 -0700 (PDT)
DKIM-Signature: v=1; a=rsa-sha256; c=relaxed/relaxed;
 d=iol.unh.edu; s=unh-iol; t=1714518286; x=1715123086; darn=dpdk.org;
 h=references:in-reply-to:cc:to:from:subject:message-id:date:from:to
 :cc:subject:date:message-id:reply-to;
 bh=EBgoCf1weRXWydol/lzuHG4Vt7b1jo3WHjm9OwzwzoA=;
 b=KZJ3hLA9arKD9o6yw6ds0434wSjMJmAKSzxjcM7heSXGlML99N9yrXOMmkOVIZj51e
 thcGCjW1iWuyUMpZRH58rDARIcc3T0aN7BSUoDdPqjyObpKndLKIpHZ6DNqNevAdb1Gh
 NgQ2dwk5t6SxIUCVfU3ZnFKdJIyPbZh/Qls+8=
X-Google-DKIM-Signature: v=1; a=rsa-sha256; c=relaxed/relaxed;
 d=1e100.net; s=20230601; t=1714518286; x=1715123086;
 h=references:in-reply-to:cc:to:from:subject:message-id:date
 :x-gm-message-state:from:to:cc:subject:date:message-id:reply-to;
 bh=EBgoCf1weRXWydol/lzuHG4Vt7b1jo3WHjm9OwzwzoA=;
 b=YbWejYONKn1lbcnyREbk4d6ztLEaNaHz32iIyR8Wh0B1cqVa/Pei+fWdKSSvg0ddFm
 HzwKKiJmZH1+/4Fdexj44NUKUSgSkMLZAMRJtTJQE4g9siArCK+KIeqYex1plWb6gF5t
 2cCEYKf1d0zrF4rpJxc7zReHmnPR4pm8JTa6yYYMWd917i29xM9Aelx3l3L3M9zBFDo7
 C0IK8TpYOfks6WO8sYlX3F0mlCsPfFeClS6edt6g3uV7+52sxrlJscMGRvC6s5TAmlA/
 A5J9Tfeo3YJI3V5BidaW//6oop9KiOBxYwA/EgA7FI7sKm3oho67546AdWE8pWhqJpvA
 AGsQ==
X-Gm-Message-State: AOJu0YzED/Yw7rZJsKO+pOIkdCVPUiv6KYtAWx+h/RCGMdSt245wkbhe
 rCMh7CzrMKdizTlyMI+dlHpHr3RJMz2GFT9nN7NjQTr5xq+xRyWFVOSo4fHbqcaaC1Pd1ED58Vq
 3coFDQX5Md4ZcvJ8b5ob+pPP8NupcqRFD2Y2R9Gwy
X-Google-Smtp-Source: AGHT+IH5vO5ZUqaan1yPmimGk14sHk5EvvihAgKRwDZ/WdUCXH/I1PSmCQi3FvkaE8qT/WgPNz6W2eYpo3hF
X-Received: by 2002:a05:690c:6f88:b0:61b:92d9:f7e8 with SMTP id
 je8-20020a05690c6f8800b0061b92d9f7e8mr1071056ywb.23.1714518286502; 
 Tue, 30 Apr 2024 16:04:46 -0700 (PDT)
Received: from postal.iol.unh.edu (postal.iol.unh.edu. [132.177.123.84])
 by smtp-relay.gmail.com with ESMTPS id
 q129-20020a815c87000000b0061538cdc799sm2302752ywb.26.2024.04.30.16.04.46
 (version=TLS1_2 cipher=ECDHE-ECDSA-AES128-GCM-SHA256 bits=128/128);
 Tue, 30 Apr 2024 16:04:46 -0700 (PDT)
X-Relaying-Domain: iol.unh.edu
Date: Tue, 30 Apr 2024 16:04:46 -0700 (PDT)
Message-ID: <6631790e.810a0220.44234.150eSMTPIN_ADDED_MISSING@mx.google.com>
Received: from [172.21.0.6] (unknown [172.18.0.240])
 by postal.iol.unh.edu (Postfix) with ESMTP id 27F3E604D420;
 Tue, 30 Apr 2024 19:04:46 -0400 (EDT)
Subject: |SUCCESS| pw139747 [PATCH] doc: add power uncore API documentation
From: dpdklab@iol.unh.edu
To: Test Report <test-report@dpdk.org>
Cc: dpdk-test-reports@iol.unh.edu
In-Reply-To: <20240430185714.2550698-1-ferruh.yigit@amd.com>
References: <20240430185714.2550698-1-ferruh.yigit@amd.com>
Content-Type: text/plain
X-BeenThere: test-report@dpdk.org
X-Mailman-Version: 2.1.29
Precedence: list
List-Id: automatic DPDK test reports <test-report.dpdk.org>
List-Unsubscribe: <https://mails.dpdk.org/options/test-report>,
 <mailto:test-report-request@dpdk.org?subject=unsubscribe>
List-Archive: <http://mails.dpdk.org/archives/test-report/>
List-Post: <mailto:test-report@dpdk.org>
List-Help: <mailto:test-report-request@dpdk.org?subject=help>
List-Subscribe: <https://mails.dpdk.org/listinfo/test-report>,
 <mailto:test-report-request@dpdk.org?subject=subscribe>
Errors-To: test-report-bounces@dpdk.org

Test-Label: iol-abi-testing
Test-Status: SUCCESS
http://dpdk.org/patch/139747

_Testing PASS_

Submitter: Ferruh Yigit <ferruh.yigit@amd.com>
Date: Tuesday, April 30 2024 18:57:14 
DPDK git baseline: Repo:dpdk
  Branch: master
  CommitID:7e06c0de1952d3109a5b0c4779d7e7d8059c9d78

139747 --> testing pass

Test environment and result as below:

+------------------+----------+
|   Environment    | abi_test |
+==================+==========+
| openSUSE Leap 15 | PASS     |
+------------------+----------+
| CentOS Stream 8  | PASS     |
+------------------+----------+
| CentOS Stream 9  | PASS     |
+------------------+----------+


openSUSE Leap 15
	Kernel: 5.4.0-167-generic
	Compiler: gcc 7.5.0

CentOS Stream 8
	Kernel: 5.4.0-167-generic
	Compiler: gcc 8.5.0 20210514

CentOS Stream 9
	Kernel: 5.4.0-167-generic
	Compiler: gcc 11.4.1 20230605

To view detailed results, visit:
https://lab.dpdk.org/results/dashboard/patchsets/29882/

UNH-IOL DPDK Community Lab

To manage your email subscriptions, visit: 
https://lab.dpdk.org/results/dashboard/preferences/subscriptions/