From mboxrd@z Thu Jan  1 00:00:00 1970
Return-Path: <test-report-bounces@dpdk.org>
Received: from mails.dpdk.org (mails.dpdk.org [217.70.189.124])
	by inbox.dpdk.org (Postfix) with ESMTP id 0CA8543F57
	for <public@inbox.dpdk.org>; Wed,  1 May 2024 01:06:17 +0200 (CEST)
Received: from mails.dpdk.org (localhost [127.0.0.1])
	by mails.dpdk.org (Postfix) with ESMTP id 09227402A8;
	Wed,  1 May 2024 01:06:17 +0200 (CEST)
Received: from mail-ot1-f97.google.com (mail-ot1-f97.google.com
 [209.85.210.97]) by mails.dpdk.org (Postfix) with ESMTP id 93926402A7
 for <test-report@dpdk.org>; Wed,  1 May 2024 01:06:15 +0200 (CEST)
Received: by mail-ot1-f97.google.com with SMTP id
 46e09a7af769-6ee27cb096cso1591207a34.2
 for <test-report@dpdk.org>; Tue, 30 Apr 2024 16:06:15 -0700 (PDT)
DKIM-Signature: v=1; a=rsa-sha256; c=relaxed/relaxed;
 d=iol.unh.edu; s=unh-iol; t=1714518375; x=1715123175; darn=dpdk.org;
 h=references:in-reply-to:cc:to:from:subject:message-id:date:from:to
 :cc:subject:date:message-id:reply-to;
 bh=w+GMGWoJLT3T1HMC/BfDqarzifkGCSxTICoL2WLFEqk=;
 b=WB2Fr+ghUjX5zFzwidMhGRWYwY8jyCRDHIqKBzROL5wK6ecQIWP7PVWuJ7aZCpsY6G
 IwBuvsesAxIgeSYeNcR55BKOr/o0tti8OdlyKK21jpx6RDN7OXWGI3k2kTGHR81F0KKm
 cXnnYZuerhHgFsX7/kqpjzb2Fb5fbtrFiCXMY=
X-Google-DKIM-Signature: v=1; a=rsa-sha256; c=relaxed/relaxed;
 d=1e100.net; s=20230601; t=1714518375; x=1715123175;
 h=references:in-reply-to:cc:to:from:subject:message-id:date
 :x-gm-message-state:from:to:cc:subject:date:message-id:reply-to;
 bh=w+GMGWoJLT3T1HMC/BfDqarzifkGCSxTICoL2WLFEqk=;
 b=QYUgAdeE4hdk7RxniTHBpZ7ZUg5rVh+uwMh4LartD5+lTlwkPMfbuHG4hduK6GGpuG
 GtWPAYxBIAKQFgGpJkWH7BP1VlMfn3AMNw7IA1tUEBPrlRHp09spKuofJSqcCwFTkU2O
 NGW/VntxBzZxq2ODhuzGXqu1pAw7KKD1v1vPVABIlwigMxdUgERT+ZSaJeUB/Wp9YZUc
 ABRexyZx8kePNGPMfFZOwl93bdY3bZ3AKAkqoMj5SqoPKgK6kJ/r30pE8tlI0gSW034C
 dKRWTW3SrGeEt6JDLNtKhu1uC3ChlkCxeGcAZ4KdLQdYPW+2h5swp2DoiULcniFOPQ69
 cDsQ==
X-Gm-Message-State: AOJu0YyxXM5enYeFfXKe2UNo9BrRie409sGBdzzzbCYlH/GVlEgIEB31
 CMnZ6W3aJp7oMVngKX2tMgcDwYBpSOOIRfPAo5nv0XNeMjSR0tbWPEhmWbMSD6vBNy+pNBokLZ1
 8GksqreReYDpacK1L06fWvpSg/zs9ktA4AWDmcY7C
X-Google-Smtp-Source: AGHT+IFCQGO/z7P7N6dsgvnUe56fHa5AeLgXNilytkVtuenTLuLfB1/5q4Qw57lxqY0hIM3EJpYOGeo/Npyr
X-Received: by 2002:a05:6830:18ee:b0:6ee:c90:9bf with SMTP id
 d14-20020a05683018ee00b006ee0c9009bfmr839044otf.9.1714518374926; 
 Tue, 30 Apr 2024 16:06:14 -0700 (PDT)
Received: from postal.iol.unh.edu (postal.iol.unh.edu. [132.177.123.84])
 by smtp-relay.gmail.com with ESMTPS id
 q19-20020a056830441300b006ef9472129bsm56895otv.7.2024.04.30.16.06.14
 (version=TLS1_2 cipher=ECDHE-ECDSA-AES128-GCM-SHA256 bits=128/128);
 Tue, 30 Apr 2024 16:06:14 -0700 (PDT)
X-Relaying-Domain: iol.unh.edu
Date: Tue, 30 Apr 2024 16:06:14 -0700 (PDT)
Message-ID: <66317966.050a0220.bcf9f.2634SMTPIN_ADDED_MISSING@mx.google.com>
Received: from [172.21.0.7] (unknown [172.18.0.240])
 by postal.iol.unh.edu (Postfix) with ESMTP id 676B7604D420;
 Tue, 30 Apr 2024 19:06:14 -0400 (EDT)
Subject: |SUCCESS| pw139757 [PATCH] maintainers: update for eal
From: dpdklab@iol.unh.edu
To: Test Report <test-report@dpdk.org>
Cc: dpdk-test-reports@iol.unh.edu
In-Reply-To: <1714510339-10416-1-git-send-email-roretzla@linux.microsoft.com>
References: <1714510339-10416-1-git-send-email-roretzla@linux.microsoft.com>
Content-Type: text/plain
X-BeenThere: test-report@dpdk.org
X-Mailman-Version: 2.1.29
Precedence: list
List-Id: automatic DPDK test reports <test-report.dpdk.org>
List-Unsubscribe: <https://mails.dpdk.org/options/test-report>,
 <mailto:test-report-request@dpdk.org?subject=unsubscribe>
List-Archive: <http://mails.dpdk.org/archives/test-report/>
List-Post: <mailto:test-report@dpdk.org>
List-Help: <mailto:test-report-request@dpdk.org?subject=help>
List-Subscribe: <https://mails.dpdk.org/listinfo/test-report>,
 <mailto:test-report-request@dpdk.org?subject=subscribe>
Errors-To: test-report-bounces@dpdk.org

Test-Label: iol-compile-arm64-testing
Test-Status: SUCCESS
http://dpdk.org/patch/139757

_Testing PASS_

Submitter: Tyler Retzlaff <roretzla@linux.microsoft.com>
Date: Tuesday, April 30 2024 20:52:19 
DPDK git baseline: Repo:dpdk
  Branch: master
  CommitID:7e06c0de1952d3109a5b0c4779d7e7d8059c9d78

139757 --> testing pass

Test environment and result as below:

+----------------------------------------+--------------------+
|              Environment               | dpdk_meson_compile |
+========================================+====================+
| Ubuntu 20.04 ARM SVE                   | PASS               |
+----------------------------------------+--------------------+
| Debian 12 with MUSDK                   | PASS               |
+----------------------------------------+--------------------+
| Fedora 38 (ARM)                        | PASS               |
+----------------------------------------+--------------------+
| Fedora 39 (ARM)                        | PASS               |
+----------------------------------------+--------------------+
| Fedora 37 (ARM)                        | PASS               |
+----------------------------------------+--------------------+
| CentOS Stream 9 (ARM)                  | PASS               |
+----------------------------------------+--------------------+
| Ubuntu 20.04 (ARM)                     | PASS               |
+----------------------------------------+--------------------+
| Debian 12 (arm)                        | PASS               |
+----------------------------------------+--------------------+
| Debian 11 (Buster) (ARM)               | PASS               |
+----------------------------------------+--------------------+
| Ubuntu 20.04 ARM GCC Cross Compile     | PASS               |
+----------------------------------------+--------------------+
| Ubuntu 20.04 aarch32 GCC Cross Compile | PASS               |
+----------------------------------------+--------------------+
| Ubuntu 20.04 ARM Clang Cross Compile   | PASS               |
+----------------------------------------+--------------------+
| Fedora 38 (ARM Clang)                  | PASS               |
+----------------------------------------+--------------------+


Ubuntu 20.04 ARM SVE
	Kernel: 5.4.0-167-generic
	Compiler: gcc (Ubuntu 10.5.0-1ubuntu1~20.04) 10.5.0

Debian 12 with MUSDK
	Kernel: Container Host Kernel
	Compiler: gcc 12.2.0

Fedora 38 (ARM)
	Kernel: Depends on container host
	Compiler: gcc 13.2.1

Fedora 39 (ARM)
	Kernel: Depends on container host
	Compiler: gcc 13.2.1

Fedora 37 (ARM)
	Kernel: Depends on container host
	Compiler: gcc 12.3.1

CentOS Stream 9 (ARM)
	Kernel: Container Host Kernel
	Compiler: gcc 11.4.1

Ubuntu 20.04 (ARM)
	Kernel: Container Host Kernel
	Compiler: gcc 9.4.0

Debian 12 (arm)
	Kernel: Container Host Kernel
	Compiler: gcc 12.2.0

Debian 11 (Buster) (ARM)
	Kernel: Container Host Kernel
	Compiler: gcc 10.2.1

Ubuntu 20.04 ARM GCC Cross Compile
	Kernel: 5.4.0-167-generic
	Compiler: aarch64-linux-gnu-gcc (Ubuntu 9.4.0-1ubuntu1~20.04.2) 9.4.0

Ubuntu 20.04 aarch32 GCC Cross Compile
	Kernel: 5.4.0-167-generic
	Compiler: gcc 9.4.0

Ubuntu 20.04 ARM Clang Cross Compile
	Kernel: 5.4.0-72-generic
	Compiler: clang 10.0.0-4ubuntu1

Fedora 38 (ARM Clang)
	Kernel: Depends on container host
	Compiler: clang 16.0.6

To view detailed results, visit:
https://lab.dpdk.org/results/dashboard/patchsets/29884/

UNH-IOL DPDK Community Lab

To manage your email subscriptions, visit: 
https://lab.dpdk.org/results/dashboard/preferences/subscriptions/