From mboxrd@z Thu Jan  1 00:00:00 1970
Return-Path: <test-report-bounces@dpdk.org>
Received: from mails.dpdk.org (mails.dpdk.org [217.70.189.124])
	by inbox.dpdk.org (Postfix) with ESMTP id 16E3843F59
	for <public@inbox.dpdk.org>; Wed,  1 May 2024 01:20:02 +0200 (CEST)
Received: from mails.dpdk.org (localhost [127.0.0.1])
	by mails.dpdk.org (Postfix) with ESMTP id 0FCA9402A8;
	Wed,  1 May 2024 01:20:02 +0200 (CEST)
Received: from mail-il1-f227.google.com (mail-il1-f227.google.com
 [209.85.166.227])
 by mails.dpdk.org (Postfix) with ESMTP id 1382B402A7
 for <test-report@dpdk.org>; Wed,  1 May 2024 01:20:01 +0200 (CEST)
Received: by mail-il1-f227.google.com with SMTP id
 e9e14a558f8ab-36c60ff0322so2138965ab.1
 for <test-report@dpdk.org>; Tue, 30 Apr 2024 16:20:01 -0700 (PDT)
DKIM-Signature: v=1; a=rsa-sha256; c=relaxed/relaxed;
 d=iol.unh.edu; s=unh-iol; t=1714519200; x=1715124000; darn=dpdk.org;
 h=references:in-reply-to:cc:to:from:subject:message-id:date:from:to
 :cc:subject:date:message-id:reply-to;
 bh=iuBQqXanAFkdqv6XkeyhqZEwaIzKDcNthH3r8knxnbs=;
 b=WHFPsg6Tii0XlFu94l3sqOvOoE0TW+6nr4uFpubCcj4xON6M4Z+f2w8CRjuHtuliUU
 TRRVFy4PfDLuUpTpKfbhbSn4oVc+CiC+Ugbfxy5pm+Yg+fQc9JvnP4Us1+z9AVirfgAP
 DsS/em/2YIvP088sstr7ixnO+mIQTvdH5fG/M=
X-Google-DKIM-Signature: v=1; a=rsa-sha256; c=relaxed/relaxed;
 d=1e100.net; s=20230601; t=1714519200; x=1715124000;
 h=references:in-reply-to:cc:to:from:subject:message-id:date
 :x-gm-message-state:from:to:cc:subject:date:message-id:reply-to;
 bh=iuBQqXanAFkdqv6XkeyhqZEwaIzKDcNthH3r8knxnbs=;
 b=laiWk+5VPBWp7eesZZ0CXrlU7WR5akkgqMfYOfdty5pJgFAYxvAcRKOZz67zr2dOMI
 Z+bTw4KXogpblXbwM2BFZ3PgFdWW+CqMapurz5on4UjNqRkukJJri+WtZ7vtg1vK4kqn
 CNOAmu/5H35RBkein4mnh4d920A6kasnLpxi0fJ+2gagMNyyXob5oyh6QrJzBvogjfgN
 8Kz9St9nF99f624vQscorQlqI3p2ZDzxYlvu2bq71nGnQF0GNK1HO4NH2Xw19PGTaHEW
 uxTN45O8HtK5J3kvciCwIbQ7ZOg0MnJuJbwvIIvPzU41EyCfpE1F2LkRBD2ycUjYbckr
 75ow==
X-Gm-Message-State: AOJu0YzsqSGkIQcLaqvtiOds5soM1yDkhve9eZAdMRjSLefxDkLNd2t7
 gsmEej51REY+aSNThHxLIhy1WjJFllUpDbWPi+b0ArQaWDFpqTPDDTZ8Zg9gq9ZVsJVYi+SaskM
 iwpC9/pK48ak3bmXsgKDfCBDpKDmH1RB6Y4ahcLf4MwXEsyE3SLNGGq/o
X-Google-Smtp-Source: AGHT+IGmq7M0/ZuQqTJSitun0VGSts0djaFF3AfFvWX6e8jsKRufLf/PTzKenTW6DvuGhNIonh2wURocQDST
X-Received: by 2002:a05:6e02:1d99:b0:36c:3a73:401a with SMTP id
 h25-20020a056e021d9900b0036c3a73401amr1473099ila.14.1714519200481; 
 Tue, 30 Apr 2024 16:20:00 -0700 (PDT)
Received: from postal.iol.unh.edu (postal.iol.unh.edu.
 [2606:4100:3880:1234::84]) by smtp-relay.gmail.com with ESMTPS id
 g3-20020a92cda3000000b0036c4d9a7860sm450759ild.32.2024.04.30.16.20.00
 (version=TLS1_2 cipher=ECDHE-ECDSA-AES128-GCM-SHA256 bits=128/128);
 Tue, 30 Apr 2024 16:20:00 -0700 (PDT)
X-Relaying-Domain: iol.unh.edu
Date: Tue, 30 Apr 2024 16:20:00 -0700 (PDT)
Message-ID: <66317ca0.920a0220.45489.fb7bSMTPIN_ADDED_MISSING@mx.google.com>
Received: from [172.17.0.2] (unknown [172.18.0.217])
 by postal.iol.unh.edu (Postfix) with ESMTP id 223D3604D420;
 Tue, 30 Apr 2024 19:20:00 -0400 (EDT)
Subject: |SUCCESS| pw139748-139754 [PATCH] [v2,9/9] crypto/ionic: add stats s
From: dpdklab@iol.unh.edu
To: Test Report <test-report@dpdk.org>
Cc: dpdk-test-reports@iol.unh.edu
In-Reply-To: <20240430202144.49899-10-andrew.boyer@amd.com>
References: <20240430202144.49899-10-andrew.boyer@amd.com>
Content-Type: text/plain
X-BeenThere: test-report@dpdk.org
X-Mailman-Version: 2.1.29
Precedence: list
List-Id: automatic DPDK test reports <test-report.dpdk.org>
List-Unsubscribe: <https://mails.dpdk.org/options/test-report>,
 <mailto:test-report-request@dpdk.org?subject=unsubscribe>
List-Archive: <http://mails.dpdk.org/archives/test-report/>
List-Post: <mailto:test-report@dpdk.org>
List-Help: <mailto:test-report-request@dpdk.org?subject=help>
List-Subscribe: <https://mails.dpdk.org/listinfo/test-report>,
 <mailto:test-report-request@dpdk.org?subject=subscribe>
Errors-To: test-report-bounces@dpdk.org

Test-Label: iol-unit-arm64-testing
Test-Status: SUCCESS
http://dpdk.org/patch/139754

_Testing PASS_

Submitter: Andrew Boyer <Andrew.Boyer@amd.com>
Date: Tuesday, April 30 2024 20:21:44 
DPDK git baseline: Repo:dpdk
  Branch: master
  CommitID:7e06c0de1952d3109a5b0c4779d7e7d8059c9d78

139748-139754 --> testing pass

Test environment and result as below:

+--------------------------+----------------+---------------------------+------------------------------+--------------+
|       Environment        | dpdk_unit_test | cryptodev_sw_zuc_autotest | cryptodev_sw_snow3g_autotest | lpm_autotest |
+==========================+================+===========================+==============================+==============+
| CentOS Stream 9 (ARM)    | PASS           | SKIPPED                   | SKIPPED                      | SKIPPED      |
+--------------------------+----------------+---------------------------+------------------------------+--------------+
| Debian 12 (arm)          | PASS           | PASS                      | PASS                         | SKIPPED      |
+--------------------------+----------------+---------------------------+------------------------------+--------------+
| Debian 11 (Buster) (ARM) | PASS           | SKIPPED                   | SKIPPED                      | SKIPPED      |
+--------------------------+----------------+---------------------------+------------------------------+--------------+
| Fedora 39 (ARM)          | PASS           | SKIPPED                   | SKIPPED                      | SKIPPED      |
+--------------------------+----------------+---------------------------+------------------------------+--------------+
| Fedora 38 (ARM)          | PASS           | SKIPPED                   | SKIPPED                      | SKIPPED      |
+--------------------------+----------------+---------------------------+------------------------------+--------------+
| Ubuntu 20.04 (ARM)       | PASS           | SKIPPED                   | SKIPPED                      | SKIPPED      |
+--------------------------+----------------+---------------------------+------------------------------+--------------+
| Fedora 38 (ARM Clang)    | PASS           | SKIPPED                   | SKIPPED                      | SKIPPED      |
+--------------------------+----------------+---------------------------+------------------------------+--------------+
| Fedora 37 (ARM)          | PASS           | SKIPPED                   | SKIPPED                      | SKIPPED      |
+--------------------------+----------------+---------------------------+------------------------------+--------------+
| Ubuntu 20.04 ARM SVE     | SKIPPED        | SKIPPED                   | SKIPPED                      | PASS         |
+--------------------------+----------------+---------------------------+------------------------------+--------------+


CentOS Stream 9 (ARM)
	Kernel: Container Host Kernel
	Compiler: gcc 11.4.1

Debian 12 (arm)
	Kernel: Container Host Kernel
	Compiler: gcc 12.2.0

Debian 11 (Buster) (ARM)
	Kernel: Container Host Kernel
	Compiler: gcc 10.2.1

Fedora 39 (ARM)
	Kernel: Depends on container host
	Compiler: gcc 13.2.1

Fedora 38 (ARM)
	Kernel: Depends on container host
	Compiler: gcc 13.2.1

Ubuntu 20.04 (ARM)
	Kernel: Container Host Kernel
	Compiler: gcc 9.4.0

Fedora 38 (ARM Clang)
	Kernel: Depends on container host
	Compiler: clang 16.0.6

Fedora 37 (ARM)
	Kernel: Depends on container host
	Compiler: gcc 12.3.1

Ubuntu 20.04 ARM SVE
	Kernel: 5.4.0-167-generic
	Compiler: gcc (Ubuntu 10.5.0-1ubuntu1~20.04) 10.5.0

To view detailed results, visit:
https://lab.dpdk.org/results/dashboard/patchsets/29883/

UNH-IOL DPDK Community Lab

To manage your email subscriptions, visit: 
https://lab.dpdk.org/results/dashboard/preferences/subscriptions/