From mboxrd@z Thu Jan  1 00:00:00 1970
Return-Path: <test-report-bounces@dpdk.org>
Received: from mails.dpdk.org (mails.dpdk.org [217.70.189.124])
	by inbox.dpdk.org (Postfix) with ESMTP id 8590D43F5A
	for <public@inbox.dpdk.org>; Wed,  1 May 2024 09:11:36 +0200 (CEST)
Received: from mails.dpdk.org (localhost [127.0.0.1])
	by mails.dpdk.org (Postfix) with ESMTP id 7E3D2402A7;
	Wed,  1 May 2024 09:11:36 +0200 (CEST)
Received: from mail-vk1-f228.google.com (mail-vk1-f228.google.com
 [209.85.221.228])
 by mails.dpdk.org (Postfix) with ESMTP id 91F6B4021E
 for <test-report@dpdk.org>; Wed,  1 May 2024 09:11:35 +0200 (CEST)
Received: by mail-vk1-f228.google.com with SMTP id
 71dfb90a1353d-4daa91c0344so2570914e0c.3
 for <test-report@dpdk.org>; Wed, 01 May 2024 00:11:35 -0700 (PDT)
DKIM-Signature: v=1; a=rsa-sha256; c=relaxed/relaxed;
 d=iol.unh.edu; s=unh-iol; t=1714547495; x=1715152295; darn=dpdk.org;
 h=references:in-reply-to:cc:to:from:subject:message-id:date:from:to
 :cc:subject:date:message-id:reply-to;
 bh=M7e05gSK1l02AwrEiLV+JDZARf53HsX9NXEJTqno32o=;
 b=ayvC7idjBlwgBPUs9g+E86WOFE7+XOcJJVOjN3xb8OxbI8ZL8oVkefgEcktWg4uMn1
 9hHUUQb70Tf/aa0OkkZqXiOh0HM5CxAVdfz9jFVWdXkzRqxN2vFeZKg99VBzpDU3vK6Z
 YvaGgb54BXgKgHp2TyRyJIioQt/O2dLUlOCx0=
X-Google-DKIM-Signature: v=1; a=rsa-sha256; c=relaxed/relaxed;
 d=1e100.net; s=20230601; t=1714547495; x=1715152295;
 h=references:in-reply-to:cc:to:from:subject:message-id:date
 :x-gm-message-state:from:to:cc:subject:date:message-id:reply-to;
 bh=M7e05gSK1l02AwrEiLV+JDZARf53HsX9NXEJTqno32o=;
 b=tYZJprkKxVSVUyH995BVwVfKbRheIcYD6m9mKAE5eUjlM/0PC02J8MhGnoRKpu5d2K
 0L+vNCRrNiMArXGogWGKRz+YXD+pnDuaTrZuEn4ha8n4CEFWUgB0e2Mkp7H+w0S0dNAQ
 Xlfz8KXHqGpzp949UfT+Z1QZxRbiS7dHCVnNz7lWTrJAoxzr58s2VsKnxrs4Gu6OamIw
 EIb2BAVFC2zBEWYaCzvsXfmz50k6LBRBM5JSnID64Bn24CHcOGk5+5HCLnfZmuOi91lZ
 tpzSU59qD571l/9R8OxMYCG1pk6nUUiJXunAeUa966qbgGzXL7+TvhdNID1yIkdShaRE
 oObw==
X-Gm-Message-State: AOJu0YySwEwnSxGc8K5tSOcULAOc9yL5PnDs7q+0Hxi51nfl1ZCjrnVr
 Mx0S4Uak2LGx29TyOkZiSPo0vgMbhaZm5C62W3xrZ77e/U7ZNWfHxg/WafzzE/YVIVjfzw+vMR7
 qMSWSyN7T+T29jISuEx0ZvmcciaYYPzC4ubfkrY+7Sfib5Gd4yTRKPrhK
X-Google-Smtp-Source: AGHT+IFWJiXH7075hPfdhW6foU204Udnn/7gUpzAcIDTr1cwHvzsYAcORSRiQn67VB2iQlPtEr+4yaSIOIww
X-Received: by 2002:a05:6122:1354:b0:4d4:1a1a:6db7 with SMTP id
 f20-20020a056122135400b004d41a1a6db7mr1928557vkp.2.1714547493555; 
 Wed, 01 May 2024 00:11:33 -0700 (PDT)
Received: from postal.iol.unh.edu (postal.iol.unh.edu.
 [2606:4100:3880:1234::84]) by smtp-relay.gmail.com with ESMTPS id
 de32-20020a05612245a000b004dec8acbaa6sm1091858vkb.6.2024.05.01.00.11.33
 (version=TLS1_2 cipher=ECDHE-ECDSA-AES128-GCM-SHA256 bits=128/128);
 Wed, 01 May 2024 00:11:33 -0700 (PDT)
X-Relaying-Domain: iol.unh.edu
Date: Wed, 01 May 2024 00:11:33 -0700 (PDT)
Message-ID: <6631eb25.050a0220.37eb.ea44SMTPIN_ADDED_MISSING@mx.google.com>
Received: from [172.17.0.3] (unknown [172.18.0.217])
 by postal.iol.unh.edu (Postfix) with ESMTP id 39246604D420;
 Wed,  1 May 2024 03:11:33 -0400 (EDT)
Subject: |SUCCESS| pw139758 [PATCH] cmdline: configure input buffer size
From: dpdklab@iol.unh.edu
To: Test Report <test-report@dpdk.org>
Cc: dpdk-test-reports@iol.unh.edu
In-Reply-To: <20240501052659.231457-1-getelson@nvidia.com>
References: <20240501052659.231457-1-getelson@nvidia.com>
Content-Type: text/plain
X-BeenThere: test-report@dpdk.org
X-Mailman-Version: 2.1.29
Precedence: list
List-Id: automatic DPDK test reports <test-report.dpdk.org>
List-Unsubscribe: <https://mails.dpdk.org/options/test-report>,
 <mailto:test-report-request@dpdk.org?subject=unsubscribe>
List-Archive: <http://mails.dpdk.org/archives/test-report/>
List-Post: <mailto:test-report@dpdk.org>
List-Help: <mailto:test-report-request@dpdk.org?subject=help>
List-Subscribe: <https://mails.dpdk.org/listinfo/test-report>,
 <mailto:test-report-request@dpdk.org?subject=subscribe>
Errors-To: test-report-bounces@dpdk.org

Test-Label: iol-unit-amd64-testing
Test-Status: SUCCESS
http://dpdk.org/patch/139758

_Testing PASS_

Submitter: Gregory Etelson <getelson@nvidia.com>
Date: Wednesday, May 01 2024 05:26:59 
DPDK git baseline: Repo:dpdk
  Branch: master
  CommitID:7e06c0de1952d3109a5b0c4779d7e7d8059c9d78

139758 --> testing pass

Test environment and result as below:

+---------------------+----------------+
|     Environment     | dpdk_unit_test |
+=====================+================+
| Windows Server 2019 | PASS           |
+---------------------+----------------+
| Windows Server 2022 | PASS           |
+---------------------+----------------+
| Debian Bullseye     | PASS           |
+---------------------+----------------+
| CentOS Stream 8     | PASS           |
+---------------------+----------------+
| CentOS Stream 9     | PASS           |
+---------------------+----------------+
| Fedora 37           | PASS           |
+---------------------+----------------+
| Fedora 38           | PASS           |
+---------------------+----------------+
| Fedora 39           | PASS           |
+---------------------+----------------+
| Debian 12           | PASS           |
+---------------------+----------------+


Windows Server 2019
	Kernel: 10.0.17763
	Compiler: clang 14.0 and gcc 8.1.0 (MinGW)

Windows Server 2022
	Kernel: 10.0.20348.2031
	Compiler: clang 15.0.7, gcc 8.1.0 (MinGW), and MSVC VS 17.9

Debian Bullseye
	Kernel: 5.4.0-167-generic
	Compiler: gcc 10.2.1-6

CentOS Stream 8
	Kernel: 5.4.0-167-generic
	Compiler: gcc 8.5.0 20210514

CentOS Stream 9
	Kernel: 5.4.0-167-generic
	Compiler: gcc 11.4.1 20230605

Fedora 37
	Kernel: Depends on container host system
	Compiler: gcc 12.3.1

Fedora 38
	Kernel: Depends on container host
	Compiler: gcc 13.2.1

Fedora 39
	Kernel: Depends on container host
	Compiler: gcc 13.2.1

Debian 12
	Kernel: Container Host Kernel
	Compiler: gcc 10.2.1

To view detailed results, visit:
https://lab.dpdk.org/results/dashboard/patchsets/29885/

UNH-IOL DPDK Community Lab

To manage your email subscriptions, visit: 
https://lab.dpdk.org/results/dashboard/preferences/subscriptions/