From mboxrd@z Thu Jan  1 00:00:00 1970
Return-Path: <test-report-bounces@dpdk.org>
Received: from mails.dpdk.org (mails.dpdk.org [217.70.189.124])
	by inbox.dpdk.org (Postfix) with ESMTP id B7CCD43F5C
	for <public@inbox.dpdk.org>; Wed,  1 May 2024 10:53:58 +0200 (CEST)
Received: from mails.dpdk.org (localhost [127.0.0.1])
	by mails.dpdk.org (Postfix) with ESMTP id AE933402A7;
	Wed,  1 May 2024 10:53:58 +0200 (CEST)
Received: from mail-yw1-f225.google.com (mail-yw1-f225.google.com
 [209.85.128.225])
 by mails.dpdk.org (Postfix) with ESMTP id 2DAF04021E
 for <test-report@dpdk.org>; Wed,  1 May 2024 10:53:57 +0200 (CEST)
Received: by mail-yw1-f225.google.com with SMTP id
 00721157ae682-61bee45d035so15388307b3.1
 for <test-report@dpdk.org>; Wed, 01 May 2024 01:53:57 -0700 (PDT)
DKIM-Signature: v=1; a=rsa-sha256; c=relaxed/relaxed;
 d=iol.unh.edu; s=unh-iol; t=1714553636; x=1715158436; darn=dpdk.org;
 h=references:in-reply-to:cc:to:from:subject:message-id:date:from:to
 :cc:subject:date:message-id:reply-to;
 bh=JsO2+cWHAX4B5mF8UtSBP5eJu/xwTEBg6IyqzYq7EsM=;
 b=I+v44d/TCTP6PQaknaiq+rVfbwNV6vbtZOLDJr8jtuLLibs2A3jKvJkVBHcKYOftTr
 K/oyec2+Z8dTWTqbms4tzC7UoIDUeS5n4uzix1ypOBIuQNcLDs7ybM21fgfRjlxuyHbH
 rRLbJlnWVJ9UbUwrLywp8W9GksCumYEMV/Pik=
X-Google-DKIM-Signature: v=1; a=rsa-sha256; c=relaxed/relaxed;
 d=1e100.net; s=20230601; t=1714553636; x=1715158436;
 h=references:in-reply-to:cc:to:from:subject:message-id:date
 :x-gm-message-state:from:to:cc:subject:date:message-id:reply-to;
 bh=JsO2+cWHAX4B5mF8UtSBP5eJu/xwTEBg6IyqzYq7EsM=;
 b=mAGPzB8ub+qVy3ZYPzyoc3EM3Uevi6f53g1AsUBGg5t0cs1uZ//WANmhVlq4Nb56rd
 dT8wSBn5kZ/3F+mOzphIfV8GuWNKCjxrHde3DSh2s/Sh2J4uZNoYWab2eAa+3gGOsf/d
 B40YQUtar4CHXERIojbvylLsNF0rRxj9Vxp8bfV/HX3JE54QxM5RhDRLhQRuJrwETOm3
 8oqtC1dVrY/SLZrStnLhpTbWe6KH98h88nGNyaPXatzZs/LgCqnSIKwvYn0tUkXSgCC0
 vj8fm4a5pmmhHwD7c72tZHUC6WVnXPbXrflmC2dWAfYXcbi9LEv3pp/QaGr4z21pvV/S
 jR6A==
X-Gm-Message-State: AOJu0YxqJi3BjZZlnD0bVbuamDeP06rTf0T/4uQhhbLEK5a5auaIv9tU
 kIr53cWmxKn0cBKi9/PV3Xo2SmSAonW5/Esrq6c4BSir1dzbrtcf8XfyywooQRbtGLn2L4fxkF+
 1/C9w/xmW7cKxqGdWJkcj/WgCNzK052OLqi3GbExAXscQRILSj9laXx0u
X-Google-Smtp-Source: AGHT+IF0nfMFp2iImsaNMFwcB8DfTBjAcadu+/M8VMHkJxP2YlFfWoYqs2aJAdbzWgPoP7h+RoQXGrYCcF5t
X-Received: by 2002:a05:690c:888:b0:61b:1f2:b8ba with SMTP id
 cd8-20020a05690c088800b0061b01f2b8bamr2022742ywb.15.1714553636605; 
 Wed, 01 May 2024 01:53:56 -0700 (PDT)
Received: from postal.iol.unh.edu (postal.iol.unh.edu.
 [2606:4100:3880:1234::84]) by smtp-relay.gmail.com with ESMTPS id
 p123-20020a0de681000000b0061d47015e60sm195627ywe.65.2024.05.01.01.53.56
 (version=TLS1_2 cipher=ECDHE-ECDSA-AES128-GCM-SHA256 bits=128/128);
 Wed, 01 May 2024 01:53:56 -0700 (PDT)
X-Relaying-Domain: iol.unh.edu
Date: Wed, 01 May 2024 01:53:56 -0700 (PDT)
Message-ID: <66320324.0d0a0220.c6230.8c2cSMTPIN_ADDED_MISSING@mx.google.com>
Received: from [172.17.0.5] (unknown [172.18.0.217])
 by postal.iol.unh.edu (Postfix) with ESMTP id 3B0606052514;
 Wed,  1 May 2024 04:53:56 -0400 (EDT)
Subject: |SUCCESS| pw139759 [PATCH] [RFC] net/ice: Update base code with late
From: dpdklab@iol.unh.edu
To: Test Report <test-report@dpdk.org>
Cc: dpdk-test-reports@iol.unh.edu
In-Reply-To: <20240430154014.1026-1-ian.stokes@intel.com>
References: <20240430154014.1026-1-ian.stokes@intel.com>
Content-Type: text/plain
X-BeenThere: test-report@dpdk.org
X-Mailman-Version: 2.1.29
Precedence: list
List-Id: automatic DPDK test reports <test-report.dpdk.org>
List-Unsubscribe: <https://mails.dpdk.org/options/test-report>,
 <mailto:test-report-request@dpdk.org?subject=unsubscribe>
List-Archive: <http://mails.dpdk.org/archives/test-report/>
List-Post: <mailto:test-report@dpdk.org>
List-Help: <mailto:test-report-request@dpdk.org?subject=help>
List-Subscribe: <https://mails.dpdk.org/listinfo/test-report>,
 <mailto:test-report-request@dpdk.org?subject=subscribe>
Errors-To: test-report-bounces@dpdk.org

Test-Label: iol-unit-arm64-testing
Test-Status: SUCCESS
http://dpdk.org/patch/139759

_Testing PASS_

Submitter: Ian Stokes <ian.stokes@intel.com>
Date: Tuesday, April 30 2024 15:40:14 
DPDK git baseline: Repo:dpdk
  Branch: master
  CommitID:7e06c0de1952d3109a5b0c4779d7e7d8059c9d78

139759 --> testing pass

Test environment and result as below:

+--------------------------+----------------+------------------------------+---------------------------+
|       Environment        | dpdk_unit_test | cryptodev_sw_snow3g_autotest | cryptodev_sw_zuc_autotest |
+==========================+================+==============================+===========================+
| Debian 11 (Buster) (ARM) | PASS           | SKIPPED                      | SKIPPED                   |
+--------------------------+----------------+------------------------------+---------------------------+
| Fedora 37 (ARM)          | PASS           | SKIPPED                      | SKIPPED                   |
+--------------------------+----------------+------------------------------+---------------------------+
| Debian 12 (arm)          | PASS           | PASS                         | PASS                      |
+--------------------------+----------------+------------------------------+---------------------------+
| CentOS Stream 9 (ARM)    | PASS           | SKIPPED                      | SKIPPED                   |
+--------------------------+----------------+------------------------------+---------------------------+
| Fedora 39 (ARM)          | PASS           | SKIPPED                      | SKIPPED                   |
+--------------------------+----------------+------------------------------+---------------------------+
| Fedora 38 (ARM)          | PASS           | SKIPPED                      | SKIPPED                   |
+--------------------------+----------------+------------------------------+---------------------------+
| Ubuntu 20.04 (ARM)       | PASS           | SKIPPED                      | SKIPPED                   |
+--------------------------+----------------+------------------------------+---------------------------+


Debian 11 (Buster) (ARM)
	Kernel: Container Host Kernel
	Compiler: gcc 10.2.1

Fedora 37 (ARM)
	Kernel: Depends on container host
	Compiler: gcc 12.3.1

Debian 12 (arm)
	Kernel: Container Host Kernel
	Compiler: gcc 12.2.0

CentOS Stream 9 (ARM)
	Kernel: Container Host Kernel
	Compiler: gcc 11.4.1

Fedora 39 (ARM)
	Kernel: Depends on container host
	Compiler: gcc 13.2.1

Fedora 38 (ARM)
	Kernel: Depends on container host
	Compiler: gcc 13.2.1

Ubuntu 20.04 (ARM)
	Kernel: Container Host Kernel
	Compiler: gcc 9.4.0

To view detailed results, visit:
https://lab.dpdk.org/results/dashboard/patchsets/29886/

UNH-IOL DPDK Community Lab

To manage your email subscriptions, visit: 
https://lab.dpdk.org/results/dashboard/preferences/subscriptions/