From mboxrd@z Thu Jan  1 00:00:00 1970
Return-Path: <test-report-bounces@dpdk.org>
Received: from mails.dpdk.org (mails.dpdk.org [217.70.189.124])
	by inbox.dpdk.org (Postfix) with ESMTP id C35BB43F5C
	for <public@inbox.dpdk.org>; Wed,  1 May 2024 10:58:56 +0200 (CEST)
Received: from mails.dpdk.org (localhost [127.0.0.1])
	by mails.dpdk.org (Postfix) with ESMTP id BFFBC402A7;
	Wed,  1 May 2024 10:58:56 +0200 (CEST)
Received: from mail-yw1-f227.google.com (mail-yw1-f227.google.com
 [209.85.128.227])
 by mails.dpdk.org (Postfix) with ESMTP id 7D9104021E
 for <test-report@dpdk.org>; Wed,  1 May 2024 10:58:55 +0200 (CEST)
Received: by mail-yw1-f227.google.com with SMTP id
 00721157ae682-61be674f5d1so21959447b3.2
 for <test-report@dpdk.org>; Wed, 01 May 2024 01:58:55 -0700 (PDT)
DKIM-Signature: v=1; a=rsa-sha256; c=relaxed/relaxed;
 d=iol.unh.edu; s=unh-iol; t=1714553935; x=1715158735; darn=dpdk.org;
 h=references:in-reply-to:cc:to:from:subject:message-id:date:from:to
 :cc:subject:date:message-id:reply-to;
 bh=JNGQCLum5K8WTvMP4fYD5m0srRHq0ydUJGR018BN3qM=;
 b=SFr+8Yna5oG3LSG2pfcl0kn/bDwgR8MTkrUzBwtGZlTIeIUS7dmPkNJGcJ9NWK9S/R
 DM4IMWnU2Hmbd8Qs5nszMJw9rULLaX5XoI/YejjqsRBSOahn/XgW6L0su+9LaDJbz3gB
 qxsAwO6IsLR/tCeAzf6lQzGWM9OWAX4Cz6NFA=
X-Google-DKIM-Signature: v=1; a=rsa-sha256; c=relaxed/relaxed;
 d=1e100.net; s=20230601; t=1714553935; x=1715158735;
 h=references:in-reply-to:cc:to:from:subject:message-id:date
 :x-gm-message-state:from:to:cc:subject:date:message-id:reply-to;
 bh=JNGQCLum5K8WTvMP4fYD5m0srRHq0ydUJGR018BN3qM=;
 b=irhIE+3l9Zrhpvp0641wmFKfedG4qFNH8GBHpbtHOVjSUGOMRlIZJiyUJ06fm1tVit
 y6gjTCyu1DQlgcfD0fLg+KnzWCwcGIgAZcVWt6xX9VlawXgq9J/58oC/L2V59Ai7Y6Js
 Vui/dZVtC8r0EykKJiKmPZhvLOyKn3jUHQvR+fsM+pcHsZwaYYk66r2k60HVm3A0GvLq
 R5JP6ew4mSNUXeTn2rbYtV6n8SvvWwQCUfo3EhKmIIXh5DA41Fwa7DdKQDDTIIEC9eJe
 bMrL4VLxyP2g+MLAviOZWDV+e5zdEMBxxkL6Kp6GV8VQ7ZZE8AnzWlS9UPUik8oI5iQL
 HY+A==
X-Gm-Message-State: AOJu0YwBzC1x6XsUiySqkXlq1TIYudnJxMwvfI9KL57UdKB1HP1BSz8R
 XyIfZoCjCf0nj9CXQvThuEWnYsBnZalYLisJeihiHPNTkhgAaMB7rNoLvidWI3N3sJTPcfpdGXH
 WedcKzKBLXR+m17LnoMlyt4mSG5PsmUkKIagQApMqerCqgYav5eRO/G5Z
X-Google-Smtp-Source: AGHT+IHiyu1OAevC0Z3xSRJlIrSXbW3JCbcSL/KL76mnAmXndXK3TqNQfEM5dRI6mvHhMMFU2l1N+qgAcs2F
X-Received: by 2002:a05:690c:610f:b0:61a:b00a:ff9 with SMTP id
 hi15-20020a05690c610f00b0061ab00a0ff9mr2303669ywb.13.1714553934904; 
 Wed, 01 May 2024 01:58:54 -0700 (PDT)
Received: from postal.iol.unh.edu (postal.iol.unh.edu.
 [2606:4100:3880:1234::84]) by smtp-relay.gmail.com with ESMTPS id
 h78-20020a816c51000000b0061be4576250sm444917ywc.69.2024.05.01.01.58.54
 (version=TLS1_2 cipher=ECDHE-ECDSA-AES128-GCM-SHA256 bits=128/128);
 Wed, 01 May 2024 01:58:54 -0700 (PDT)
X-Relaying-Domain: iol.unh.edu
Date: Wed, 01 May 2024 01:58:54 -0700 (PDT)
Message-ID: <6632044e.810a0220.bc927.1374SMTPIN_ADDED_MISSING@mx.google.com>
Received: from [172.17.0.2] (unknown [172.18.0.217])
 by postal.iol.unh.edu (Postfix) with ESMTP id 895256052514;
 Wed,  1 May 2024 04:58:54 -0400 (EDT)
Subject: |SUCCESS| pw139759 [PATCH] [RFC] net/ice: Update base code with late
From: dpdklab@iol.unh.edu
To: Test Report <test-report@dpdk.org>
Cc: dpdk-test-reports@iol.unh.edu
In-Reply-To: <20240430154014.1026-1-ian.stokes@intel.com>
References: <20240430154014.1026-1-ian.stokes@intel.com>
Content-Type: text/plain
X-BeenThere: test-report@dpdk.org
X-Mailman-Version: 2.1.29
Precedence: list
List-Id: automatic DPDK test reports <test-report.dpdk.org>
List-Unsubscribe: <https://mails.dpdk.org/options/test-report>,
 <mailto:test-report-request@dpdk.org?subject=unsubscribe>
List-Archive: <http://mails.dpdk.org/archives/test-report/>
List-Post: <mailto:test-report@dpdk.org>
List-Help: <mailto:test-report-request@dpdk.org?subject=help>
List-Subscribe: <https://mails.dpdk.org/listinfo/test-report>,
 <mailto:test-report-request@dpdk.org?subject=subscribe>
Errors-To: test-report-bounces@dpdk.org

Test-Label: iol-abi-testing
Test-Status: SUCCESS
http://dpdk.org/patch/139759

_Testing PASS_

Submitter: Ian Stokes <ian.stokes@intel.com>
Date: Tuesday, April 30 2024 15:40:14 
DPDK git baseline: Repo:dpdk
  Branch: master
  CommitID:7e06c0de1952d3109a5b0c4779d7e7d8059c9d78

139759 --> testing pass

Test environment and result as below:

+------------------+----------+
|   Environment    | abi_test |
+==================+==========+
| CentOS Stream 9  | PASS     |
+------------------+----------+
| Fedora 39        | PASS     |
+------------------+----------+
| CentOS Stream 8  | PASS     |
+------------------+----------+
| Fedora 38        | PASS     |
+------------------+----------+
| openSUSE Leap 15 | PASS     |
+------------------+----------+
| Debian Bullseye  | PASS     |
+------------------+----------+
| Debian 12        | PASS     |
+------------------+----------+
| Fedora 37        | PASS     |
+------------------+----------+
| Ubuntu 22.04     | PASS     |
+------------------+----------+
| RHEL8            | PASS     |
+------------------+----------+


CentOS Stream 9
	Kernel: 5.4.0-167-generic
	Compiler: gcc 11.4.1 20230605

Fedora 39
	Kernel: Depends on container host
	Compiler: gcc 13.2.1

CentOS Stream 8
	Kernel: 5.4.0-167-generic
	Compiler: gcc 8.5.0 20210514

Fedora 38
	Kernel: Depends on container host
	Compiler: clang 16.0.6

openSUSE Leap 15
	Kernel: 5.4.0-167-generic
	Compiler: gcc 7.5.0

Debian Bullseye
	Kernel: 5.4.0-167-generic
	Compiler: gcc 10.2.1-6

Debian 12
	Kernel: Container Host Kernel
	Compiler: gcc 10.2.1

Fedora 37
	Kernel: Depends on container host system
	Compiler: gcc 12.3.1

Ubuntu 22.04
	Kernel: 5.4.0-167-generic
	Compiler: gcc 11.4.0

RHEL8
	Kernel: 5.4.0-167-generic
	Compiler: gcc 8.5.0 20210514 (Red Hat 8.5.0-20)

To view detailed results, visit:
https://lab.dpdk.org/results/dashboard/patchsets/29886/

UNH-IOL DPDK Community Lab

To manage your email subscriptions, visit: 
https://lab.dpdk.org/results/dashboard/preferences/subscriptions/