From mboxrd@z Thu Jan  1 00:00:00 1970
Return-Path: <test-report-bounces@dpdk.org>
Received: from mails.dpdk.org (mails.dpdk.org [217.70.189.124])
	by inbox.dpdk.org (Postfix) with ESMTP id 24A8743F5C
	for <public@inbox.dpdk.org>; Wed,  1 May 2024 10:59:32 +0200 (CEST)
Received: from mails.dpdk.org (localhost [127.0.0.1])
	by mails.dpdk.org (Postfix) with ESMTP id 206FE402A7;
	Wed,  1 May 2024 10:59:32 +0200 (CEST)
Received: from mail-qv1-f97.google.com (mail-qv1-f97.google.com
 [209.85.219.97]) by mails.dpdk.org (Postfix) with ESMTP id BE1D04021E
 for <test-report@dpdk.org>; Wed,  1 May 2024 10:59:30 +0200 (CEST)
Received: by mail-qv1-f97.google.com with SMTP id
 6a1803df08f44-69b9365e584so5070006d6.1
 for <test-report@dpdk.org>; Wed, 01 May 2024 01:59:30 -0700 (PDT)
DKIM-Signature: v=1; a=rsa-sha256; c=relaxed/relaxed;
 d=iol.unh.edu; s=unh-iol; t=1714553970; x=1715158770; darn=dpdk.org;
 h=references:in-reply-to:cc:to:from:subject:message-id:date:from:to
 :cc:subject:date:message-id:reply-to;
 bh=TizA/umq8BOYrfmwTkcBgcHaWjy6Mu0CvOFo8E175b0=;
 b=PglPSMD4W52kDrh3FJkyhdRODqm+4rnvhjROErf2xHKbq4jh0rYogObtLPVJ5kkub0
 OWd+DLojR1GMwr2MTKkIldwsMJcICXBT96XFcb8S8UHY0baOX00l1e9S0zpArq5It6dr
 uBdNuf6RVu0f/4lXxmoYe2YgwhZpnwcG3KGeg=
X-Google-DKIM-Signature: v=1; a=rsa-sha256; c=relaxed/relaxed;
 d=1e100.net; s=20230601; t=1714553970; x=1715158770;
 h=references:in-reply-to:cc:to:from:subject:message-id:date
 :x-gm-message-state:from:to:cc:subject:date:message-id:reply-to;
 bh=TizA/umq8BOYrfmwTkcBgcHaWjy6Mu0CvOFo8E175b0=;
 b=JBzTTTZkF31cg2qj4pJB0gcAbCG0stsfkdnb/toT/5bnfAWmmNTWmR7b7ojf0P2R2W
 gR27nnKDrDEeQ0I3iYA2OWM+sQu4H5eGpJc1FN05+/IxYyhHO2OFx70lZqWh90CtLLGg
 3113TithCm80JHSM2xeRuqi8pyj6rcF/gAqANupIc8R7P3L9cedMZfxjvQdmiCqJBtNa
 6NIdOCPYfZZd+6csdcy/fiSeDXmheDn5zbZJQjpnqrngYod5ECnEn8awM9II5SDMw5cY
 +uKXAyrnMJBFlic9I55zDFt2XMWDY/OM5ALJ6ftiYm4L0v3vzU9o49G4Je7KkJQTKfeH
 ddEQ==
X-Gm-Message-State: AOJu0YykWYgtebxm/oPcgh/NJxk9gpI5Vyj7LoZBlYGptDiUHWGimjAx
 xp6CHpS18k55tySSm4dkMusUBM93SrRV7MTD9H8EJU8DQJ2dy4/2KjLc0/+6K3JxwFP59Av4lVX
 K4oTFp8MNXtnubM1Cv8BFH0mIW/GquUl8g2+m9NzGuI+EKMlqRXb35C1z
X-Google-Smtp-Source: AGHT+IGr0uqaB97JGObSTFbBSrBic+nZhR2i9s7pAg/d0qDG6K6fA8XJFJIbvi3ld1AZ4yfKNKAe+i4P3wEr
X-Received: by 2002:a05:6214:4008:b0:6a0:64ee:e40d with SMTP id
 kd8-20020a056214400800b006a064eee40dmr2271409qvb.22.1714553970292; 
 Wed, 01 May 2024 01:59:30 -0700 (PDT)
Received: from postal.iol.unh.edu (postal.iol.unh.edu.
 [2606:4100:3880:1234::84]) by smtp-relay.gmail.com with ESMTPS id
 p7-20020a0cfac7000000b006a0c7a8e80asm173105qvo.56.2024.05.01.01.59.30
 (version=TLS1_2 cipher=ECDHE-ECDSA-AES128-GCM-SHA256 bits=128/128);
 Wed, 01 May 2024 01:59:30 -0700 (PDT)
X-Relaying-Domain: iol.unh.edu
Date: Wed, 01 May 2024 01:59:30 -0700 (PDT)
Message-ID: <66320472.0c0a0220.c99de.7726SMTPIN_ADDED_MISSING@mx.google.com>
Received: from [172.17.0.3] (unknown [172.18.0.217])
 by postal.iol.unh.edu (Postfix) with ESMTP id 06FAC6052514;
 Wed,  1 May 2024 04:59:30 -0400 (EDT)
Subject: |SUCCESS| pw139759 [PATCH] [RFC] net/ice: Update base code with late
From: dpdklab@iol.unh.edu
To: Test Report <test-report@dpdk.org>
Cc: dpdk-test-reports@iol.unh.edu
In-Reply-To: <20240430154014.1026-1-ian.stokes@intel.com>
References: <20240430154014.1026-1-ian.stokes@intel.com>
Content-Type: text/plain
X-BeenThere: test-report@dpdk.org
X-Mailman-Version: 2.1.29
Precedence: list
List-Id: automatic DPDK test reports <test-report.dpdk.org>
List-Unsubscribe: <https://mails.dpdk.org/options/test-report>,
 <mailto:test-report-request@dpdk.org?subject=unsubscribe>
List-Archive: <http://mails.dpdk.org/archives/test-report/>
List-Post: <mailto:test-report@dpdk.org>
List-Help: <mailto:test-report-request@dpdk.org?subject=help>
List-Subscribe: <https://mails.dpdk.org/listinfo/test-report>,
 <mailto:test-report-request@dpdk.org?subject=subscribe>
Errors-To: test-report-bounces@dpdk.org

Test-Label: iol-unit-arm64-testing
Test-Status: SUCCESS
http://dpdk.org/patch/139759

_Testing PASS_

Submitter: Ian Stokes <ian.stokes@intel.com>
Date: Tuesday, April 30 2024 15:40:14 
DPDK git baseline: Repo:dpdk
  Branch: master
  CommitID:7e06c0de1952d3109a5b0c4779d7e7d8059c9d78

139759 --> testing pass

Test environment and result as below:

+--------------------------+----------------+------------------------------+---------------------------+--------------+
|       Environment        | dpdk_unit_test | cryptodev_sw_snow3g_autotest | cryptodev_sw_zuc_autotest | lpm_autotest |
+==========================+================+==============================+===========================+==============+
| Debian 11 (Buster) (ARM) | PASS           | SKIPPED                      | SKIPPED                   | SKIPPED      |
+--------------------------+----------------+------------------------------+---------------------------+--------------+
| Fedora 37 (ARM)          | PASS           | SKIPPED                      | SKIPPED                   | SKIPPED      |
+--------------------------+----------------+------------------------------+---------------------------+--------------+
| Debian 12 (arm)          | PASS           | PASS                         | PASS                      | SKIPPED      |
+--------------------------+----------------+------------------------------+---------------------------+--------------+
| CentOS Stream 9 (ARM)    | PASS           | SKIPPED                      | SKIPPED                   | SKIPPED      |
+--------------------------+----------------+------------------------------+---------------------------+--------------+
| Fedora 39 (ARM)          | PASS           | SKIPPED                      | SKIPPED                   | SKIPPED      |
+--------------------------+----------------+------------------------------+---------------------------+--------------+
| Fedora 38 (ARM)          | PASS           | SKIPPED                      | SKIPPED                   | SKIPPED      |
+--------------------------+----------------+------------------------------+---------------------------+--------------+
| Ubuntu 20.04 (ARM)       | PASS           | SKIPPED                      | SKIPPED                   | SKIPPED      |
+--------------------------+----------------+------------------------------+---------------------------+--------------+
| Ubuntu 20.04 ARM SVE     | SKIPPED        | SKIPPED                      | SKIPPED                   | PASS         |
+--------------------------+----------------+------------------------------+---------------------------+--------------+


Debian 11 (Buster) (ARM)
	Kernel: Container Host Kernel
	Compiler: gcc 10.2.1

Fedora 37 (ARM)
	Kernel: Depends on container host
	Compiler: gcc 12.3.1

Debian 12 (arm)
	Kernel: Container Host Kernel
	Compiler: gcc 12.2.0

CentOS Stream 9 (ARM)
	Kernel: Container Host Kernel
	Compiler: gcc 11.4.1

Fedora 39 (ARM)
	Kernel: Depends on container host
	Compiler: gcc 13.2.1

Fedora 38 (ARM)
	Kernel: Depends on container host
	Compiler: gcc 13.2.1

Ubuntu 20.04 (ARM)
	Kernel: Container Host Kernel
	Compiler: gcc 9.4.0

Ubuntu 20.04 ARM SVE
	Kernel: 5.4.0-167-generic
	Compiler: gcc (Ubuntu 10.5.0-1ubuntu1~20.04) 10.5.0

To view detailed results, visit:
https://lab.dpdk.org/results/dashboard/patchsets/29886/

UNH-IOL DPDK Community Lab

To manage your email subscriptions, visit: 
https://lab.dpdk.org/results/dashboard/preferences/subscriptions/