From mboxrd@z Thu Jan  1 00:00:00 1970
Return-Path: <test-report-bounces@dpdk.org>
Received: from mails.dpdk.org (mails.dpdk.org [217.70.189.124])
	by inbox.dpdk.org (Postfix) with ESMTP id 78AA543F5C
	for <public@inbox.dpdk.org>; Wed,  1 May 2024 11:02:27 +0200 (CEST)
Received: from mails.dpdk.org (localhost [127.0.0.1])
	by mails.dpdk.org (Postfix) with ESMTP id 73B40402A7;
	Wed,  1 May 2024 11:02:27 +0200 (CEST)
Received: from mail-yw1-f226.google.com (mail-yw1-f226.google.com
 [209.85.128.226])
 by mails.dpdk.org (Postfix) with ESMTP id 4E9EB4021E
 for <test-report@dpdk.org>; Wed,  1 May 2024 11:02:26 +0200 (CEST)
Received: by mail-yw1-f226.google.com with SMTP id
 00721157ae682-61b2218ab6fso51511507b3.1
 for <test-report@dpdk.org>; Wed, 01 May 2024 02:02:26 -0700 (PDT)
DKIM-Signature: v=1; a=rsa-sha256; c=relaxed/relaxed;
 d=iol.unh.edu; s=unh-iol; t=1714554145; x=1715158945; darn=dpdk.org;
 h=references:in-reply-to:cc:to:from:subject:message-id:date:from:to
 :cc:subject:date:message-id:reply-to;
 bh=TizA/umq8BOYrfmwTkcBgcHaWjy6Mu0CvOFo8E175b0=;
 b=AR/w5jBhCbwKYAdxVCmVBY/psRkN514sGbMn7q6mOWfUd7Hd+Fxcxlnqs3DWBedqeI
 lOqA8Qe1BsClIvy8YepwEBNC4AA8OCW2zp9D1XLbRWhC92vtlRTg7Mrhi9cyPEtsdszm
 myHk65cTmj5FMNfFesGF3yZKkcCsv/1vIjNl4=
X-Google-DKIM-Signature: v=1; a=rsa-sha256; c=relaxed/relaxed;
 d=1e100.net; s=20230601; t=1714554145; x=1715158945;
 h=references:in-reply-to:cc:to:from:subject:message-id:date
 :x-gm-message-state:from:to:cc:subject:date:message-id:reply-to;
 bh=TizA/umq8BOYrfmwTkcBgcHaWjy6Mu0CvOFo8E175b0=;
 b=J9nTmipZE9h8I7071xFDB4v/Lk7syU/7ZDZKhXkHb/7tTzB61+1sh8rnZfeRnNMAS8
 VR6PEm8ugkIeXDjC31b3EkBOgSYjuWlhRNdu0FhFnOZzSz75cYcgaQ7ghHQESAdE1Kcs
 fzVpHBLXBAenanniUD4I4qGdzEfY3nn94Uy5ReWUP3VXtU+r+Paotd60Ih24V/60/dfW
 sM6bcx0YEEFczRuvqilv/xJpGoLlkqTDLWL1q/yZXqS8n9oMsDQCAXijBsD7rJ4MHkv2
 3KB0KAypp2ABEp4rLLaVANMqQUbQ6nH2g6mRYg2v11prsIkfQVBAabUcictOsb07layE
 QDrw==
X-Gm-Message-State: AOJu0YyQndiS9tS0KDmhwy84IAsHcx/TNIBw9l0LMxvXrQAnAoKighgb
 o0HKsxQuVLY36afDTO2PtficW9OOnMNzhyQkncxLzvCCKpO6YxALiBLfz1o7lISrma9NxAE4Cdg
 MZCb29VefRxV71YTyTUIazcmM6OmHcIKpPAlf7BW0
X-Google-Smtp-Source: AGHT+IGoayb+/wCWU0hs4i3sxqTwDNFbKgGxc8+5bRGDD3z7s+FQItIqUBeMmBOrRBsg+Q06ADnCT7xZIzz0
X-Received: by 2002:a05:690c:3747:b0:61a:af28:ed1a with SMTP id
 fw7-20020a05690c374700b0061aaf28ed1amr2103997ywb.31.1714554145786; 
 Wed, 01 May 2024 02:02:25 -0700 (PDT)
Received: from postal.iol.unh.edu (postal.iol.unh.edu. [132.177.123.84])
 by smtp-relay.gmail.com with ESMTPS id
 y8-20020a0dd608000000b0061883b0e2casm2313019ywd.64.2024.05.01.02.02.25
 (version=TLS1_2 cipher=ECDHE-ECDSA-AES128-GCM-SHA256 bits=128/128);
 Wed, 01 May 2024 02:02:25 -0700 (PDT)
X-Relaying-Domain: iol.unh.edu
Date: Wed, 01 May 2024 02:02:25 -0700 (PDT)
Message-ID: <66320521.0d0a0220.b1fc0.1b82SMTPIN_ADDED_MISSING@mx.google.com>
Received: from [172.17.0.2] (unknown [172.18.0.217])
 by postal.iol.unh.edu (Postfix) with ESMTP id 6EF456052514;
 Wed,  1 May 2024 05:02:25 -0400 (EDT)
Subject: |SUCCESS| pw139759 [PATCH] [RFC] net/ice: Update base code with late
From: dpdklab@iol.unh.edu
To: Test Report <test-report@dpdk.org>
Cc: dpdk-test-reports@iol.unh.edu
In-Reply-To: <20240430154014.1026-1-ian.stokes@intel.com>
References: <20240430154014.1026-1-ian.stokes@intel.com>
Content-Type: text/plain
X-BeenThere: test-report@dpdk.org
X-Mailman-Version: 2.1.29
Precedence: list
List-Id: automatic DPDK test reports <test-report.dpdk.org>
List-Unsubscribe: <https://mails.dpdk.org/options/test-report>,
 <mailto:test-report-request@dpdk.org?subject=unsubscribe>
List-Archive: <http://mails.dpdk.org/archives/test-report/>
List-Post: <mailto:test-report@dpdk.org>
List-Help: <mailto:test-report-request@dpdk.org?subject=help>
List-Subscribe: <https://mails.dpdk.org/listinfo/test-report>,
 <mailto:test-report-request@dpdk.org?subject=subscribe>
Errors-To: test-report-bounces@dpdk.org

Test-Label: iol-unit-arm64-testing
Test-Status: SUCCESS
http://dpdk.org/patch/139759

_Testing PASS_

Submitter: Ian Stokes <ian.stokes@intel.com>
Date: Tuesday, April 30 2024 15:40:14 
DPDK git baseline: Repo:dpdk
  Branch: master
  CommitID:7e06c0de1952d3109a5b0c4779d7e7d8059c9d78

139759 --> testing pass

Test environment and result as below:

+--------------------------+----------------+------------------------------+---------------------------+--------------+
|       Environment        | dpdk_unit_test | cryptodev_sw_snow3g_autotest | cryptodev_sw_zuc_autotest | lpm_autotest |
+==========================+================+==============================+===========================+==============+
| Debian 11 (Buster) (ARM) | PASS           | SKIPPED                      | SKIPPED                   | SKIPPED      |
+--------------------------+----------------+------------------------------+---------------------------+--------------+
| Fedora 37 (ARM)          | PASS           | SKIPPED                      | SKIPPED                   | SKIPPED      |
+--------------------------+----------------+------------------------------+---------------------------+--------------+
| Debian 12 (arm)          | PASS           | PASS                         | PASS                      | SKIPPED      |
+--------------------------+----------------+------------------------------+---------------------------+--------------+
| CentOS Stream 9 (ARM)    | PASS           | SKIPPED                      | SKIPPED                   | SKIPPED      |
+--------------------------+----------------+------------------------------+---------------------------+--------------+
| Fedora 39 (ARM)          | PASS           | SKIPPED                      | SKIPPED                   | SKIPPED      |
+--------------------------+----------------+------------------------------+---------------------------+--------------+
| Fedora 38 (ARM)          | PASS           | SKIPPED                      | SKIPPED                   | SKIPPED      |
+--------------------------+----------------+------------------------------+---------------------------+--------------+
| Ubuntu 20.04 (ARM)       | PASS           | SKIPPED                      | SKIPPED                   | SKIPPED      |
+--------------------------+----------------+------------------------------+---------------------------+--------------+
| Ubuntu 20.04 ARM SVE     | SKIPPED        | SKIPPED                      | SKIPPED                   | PASS         |
+--------------------------+----------------+------------------------------+---------------------------+--------------+


Debian 11 (Buster) (ARM)
	Kernel: Container Host Kernel
	Compiler: gcc 10.2.1

Fedora 37 (ARM)
	Kernel: Depends on container host
	Compiler: gcc 12.3.1

Debian 12 (arm)
	Kernel: Container Host Kernel
	Compiler: gcc 12.2.0

CentOS Stream 9 (ARM)
	Kernel: Container Host Kernel
	Compiler: gcc 11.4.1

Fedora 39 (ARM)
	Kernel: Depends on container host
	Compiler: gcc 13.2.1

Fedora 38 (ARM)
	Kernel: Depends on container host
	Compiler: gcc 13.2.1

Ubuntu 20.04 (ARM)
	Kernel: Container Host Kernel
	Compiler: gcc 9.4.0

Ubuntu 20.04 ARM SVE
	Kernel: 5.4.0-167-generic
	Compiler: gcc (Ubuntu 10.5.0-1ubuntu1~20.04) 10.5.0

To view detailed results, visit:
https://lab.dpdk.org/results/dashboard/patchsets/29886/

UNH-IOL DPDK Community Lab

To manage your email subscriptions, visit: 
https://lab.dpdk.org/results/dashboard/preferences/subscriptions/