From mboxrd@z Thu Jan  1 00:00:00 1970
Return-Path: <test-report-bounces@dpdk.org>
Received: from mails.dpdk.org (mails.dpdk.org [217.70.189.124])
	by inbox.dpdk.org (Postfix) with ESMTP id 009F043F60
	for <public@inbox.dpdk.org>; Wed,  1 May 2024 15:20:20 +0200 (CEST)
Received: from mails.dpdk.org (localhost [127.0.0.1])
	by mails.dpdk.org (Postfix) with ESMTP id EEB42402A8;
	Wed,  1 May 2024 15:20:20 +0200 (CEST)
Received: from mail-yb1-f227.google.com (mail-yb1-f227.google.com
 [209.85.219.227])
 by mails.dpdk.org (Postfix) with ESMTP id B3F7B402A7
 for <test-report@dpdk.org>; Wed,  1 May 2024 15:20:19 +0200 (CEST)
Received: by mail-yb1-f227.google.com with SMTP id
 3f1490d57ef6-de45dba157cso6385955276.3
 for <test-report@dpdk.org>; Wed, 01 May 2024 06:20:19 -0700 (PDT)
DKIM-Signature: v=1; a=rsa-sha256; c=relaxed/relaxed;
 d=iol.unh.edu; s=unh-iol; t=1714569619; x=1715174419; darn=dpdk.org;
 h=references:in-reply-to:cc:to:from:subject:message-id:date:from:to
 :cc:subject:date:message-id:reply-to;
 bh=z12spRiSsbnc5AvzYVy53i15A+SQVJi+2jBGb+zsIOw=;
 b=MbroksOknSRdmgtmmrkb3aKtnaIznrqmucDpZPnFrdzB8wvvQK0VYoR+hhRbt3QF7C
 L0MrISZq9i7m8B63XAAJMGYVx09x0z/RHZKvoOVTyLTi0t1W7RQCwuskn4YHQu3CwVQV
 Gob6qMU2gzYNiwt5chQz4ucbJJFMuCqwbjGjg=
X-Google-DKIM-Signature: v=1; a=rsa-sha256; c=relaxed/relaxed;
 d=1e100.net; s=20230601; t=1714569619; x=1715174419;
 h=references:in-reply-to:cc:to:from:subject:message-id:date
 :x-gm-message-state:from:to:cc:subject:date:message-id:reply-to;
 bh=z12spRiSsbnc5AvzYVy53i15A+SQVJi+2jBGb+zsIOw=;
 b=kd0Zk4fFacUBAvQxb8ZTSkcjSGkzGAoEGD9Zpavg1shWH8WLHT/IO28/T9gs8DPHNI
 6Be6GO3VW1LIp46Lk9jiZcFaqyqVnZTEZs1DOSGzcLqrtB/pbqEPG0AK4iDCNDFbO/60
 shfyoT//iuva1qJT7KAopwUhNPxhwzrd3+F7WbB5tJDK+cxcf7vLkNXj51r22BcCH/7R
 hxlHy18D/pTREDonQb/7iXG1ZCe3ULjZhs3DOhh6zSidh4vLR8ZtDZ7EHDPY1njA1XhG
 M7Q9D0DGZNcWDgEZjF8OPhVEt8dMQHH2uRpIdVJgSSdE5wIqaDbkX8jcW/k2DvM8qb7u
 7M9w==
X-Gm-Message-State: AOJu0YzthZJr3qN5QmACIiynsDd07Y85rH2mu+OWO2OdirGwK9DUvxsk
 DWGdwn4WQmyEp9drG9cnOV0lndy8IKaO2yRJdJL4VaSypkJjfWdm8r4MmHKJ5ona0czN1a3anGk
 YsTNTbClKXfOzoPFMWtm0JNPwVzHfFqiV1isbEmyl
X-Google-Smtp-Source: AGHT+IEPdiy2qW0SSv9NL1wy0I4crYQC8hlKFtLmW2/h8x3V+blCvFsLaF128IYYQXxqLdEm0xkKAUpt8fLy
X-Received: by 2002:a05:690c:6f08:b0:61b:33fc:ad0e with SMTP id
 jd8-20020a05690c6f0800b0061b33fcad0emr2673264ywb.17.1714569619154; 
 Wed, 01 May 2024 06:20:19 -0700 (PDT)
Received: from postal.iol.unh.edu (postal.iol.unh.edu. [132.177.123.84])
 by smtp-relay.gmail.com with ESMTPS id
 g77-20020a0ddd50000000b0061d33037f27sm224816ywe.35.2024.05.01.06.20.19
 (version=TLS1_2 cipher=ECDHE-ECDSA-AES128-GCM-SHA256 bits=128/128);
 Wed, 01 May 2024 06:20:19 -0700 (PDT)
X-Relaying-Domain: iol.unh.edu
Date: Wed, 01 May 2024 06:20:19 -0700 (PDT)
Message-ID: <66324193.0d0a0220.8c96d.bc30SMTPIN_ADDED_MISSING@mx.google.com>
Received: from [172.21.0.6] (unknown [172.18.0.240])
 by postal.iol.unh.edu (Postfix) with ESMTP id C81896052514;
 Wed,  1 May 2024 09:20:18 -0400 (EDT)
Subject: |SUCCESS| pw139760 [PATCH] [v2,1/1] docs: af_xdp device plugin repo 
From: dpdklab@iol.unh.edu
To: Test Report <test-report@dpdk.org>
Cc: dpdk-test-reports@iol.unh.edu
In-Reply-To: <20240501123654.1803467-1-mtahhan@redhat.com>
References: <20240501123654.1803467-1-mtahhan@redhat.com>
Content-Type: text/plain
X-BeenThere: test-report@dpdk.org
X-Mailman-Version: 2.1.29
Precedence: list
List-Id: automatic DPDK test reports <test-report.dpdk.org>
List-Unsubscribe: <https://mails.dpdk.org/options/test-report>,
 <mailto:test-report-request@dpdk.org?subject=unsubscribe>
List-Archive: <http://mails.dpdk.org/archives/test-report/>
List-Post: <mailto:test-report@dpdk.org>
List-Help: <mailto:test-report-request@dpdk.org?subject=help>
List-Subscribe: <https://mails.dpdk.org/listinfo/test-report>,
 <mailto:test-report-request@dpdk.org?subject=subscribe>
Errors-To: test-report-bounces@dpdk.org

Test-Label: iol-unit-arm64-testing
Test-Status: SUCCESS
http://dpdk.org/patch/139760

_Testing PASS_

Submitter: Maryam Tahhan <mtahhan@redhat.com>
Date: Wednesday, May 01 2024 12:36:51 
DPDK git baseline: Repo:dpdk
  Branch: master
  CommitID:baa8e2c6b4d7ce289e891b9c96fb3193311c0f01

139760 --> testing pass

Test environment and result as below:

+--------------------------+----------------+
|       Environment        | dpdk_unit_test |
+==========================+================+
| Debian 11 (Buster) (ARM) | PASS           |
+--------------------------+----------------+
| Fedora 38 (ARM)          | PASS           |
+--------------------------+----------------+
| CentOS Stream 9 (ARM)    | PASS           |
+--------------------------+----------------+


Debian 11 (Buster) (ARM)
	Kernel: Container Host Kernel
	Compiler: gcc 10.2.1

Fedora 38 (ARM)
	Kernel: Depends on container host
	Compiler: gcc 13.2.1

CentOS Stream 9 (ARM)
	Kernel: Container Host Kernel
	Compiler: gcc 11.4.1

To view detailed results, visit:
https://lab.dpdk.org/results/dashboard/patchsets/29887/

UNH-IOL DPDK Community Lab

To manage your email subscriptions, visit: 
https://lab.dpdk.org/results/dashboard/preferences/subscriptions/