From mboxrd@z Thu Jan  1 00:00:00 1970
Return-Path: <test-report-bounces@dpdk.org>
Received: from mails.dpdk.org (mails.dpdk.org [217.70.189.124])
	by inbox.dpdk.org (Postfix) with ESMTP id 549C143F60
	for <public@inbox.dpdk.org>; Wed,  1 May 2024 15:44:35 +0200 (CEST)
Received: from mails.dpdk.org (localhost [127.0.0.1])
	by mails.dpdk.org (Postfix) with ESMTP id 503EC402A7;
	Wed,  1 May 2024 15:44:35 +0200 (CEST)
Received: from mail-pl1-f225.google.com (mail-pl1-f225.google.com
 [209.85.214.225])
 by mails.dpdk.org (Postfix) with ESMTP id 839074021E
 for <test-report@dpdk.org>; Wed,  1 May 2024 15:44:34 +0200 (CEST)
Received: by mail-pl1-f225.google.com with SMTP id
 d9443c01a7336-1ec69e3dbcfso11824925ad.0
 for <test-report@dpdk.org>; Wed, 01 May 2024 06:44:34 -0700 (PDT)
DKIM-Signature: v=1; a=rsa-sha256; c=relaxed/relaxed;
 d=iol.unh.edu; s=unh-iol; t=1714571073; x=1715175873; darn=dpdk.org;
 h=references:in-reply-to:cc:to:from:subject:message-id:date:from:to
 :cc:subject:date:message-id:reply-to;
 bh=tvJNrCJ0RfbomGLmnvaAlTma4J1J8x1+CfSsCYjDJV0=;
 b=ervK8SKXVOA7dc6ioYNsdpP5PqjRhMeTx+p2lIMkP9syxh+flhH9HqC+EY3v1vOOqi
 g8lJf+jE5oeb+sy6sbHk4JoAWnfp0DM5h7x2iXP6D8SuuTGZ+2zXkSxHG0QkQsdbGk0C
 oXYNXjGwvSqgcsb9x2uaR8gWlK+aEjw/DfKrk=
X-Google-DKIM-Signature: v=1; a=rsa-sha256; c=relaxed/relaxed;
 d=1e100.net; s=20230601; t=1714571073; x=1715175873;
 h=references:in-reply-to:cc:to:from:subject:message-id:date
 :x-gm-message-state:from:to:cc:subject:date:message-id:reply-to;
 bh=tvJNrCJ0RfbomGLmnvaAlTma4J1J8x1+CfSsCYjDJV0=;
 b=snzGFhZUERG5kzorpI3IwQVsDpOADxFKtqySH78h4dU8+UrXpnHEMYTmbn03HZrn7t
 ZUHGXccLViBD8Rog0XY3KMyO7PcFSo+Sn9otzm48nDX+5B9RFomrI7GS2eXf6zr0INYy
 VmG480o59eECdMnNhN8OmS1J7N1mK9yrtQq2nbeuWwVbukvWHpTLyAgauCVFE+4Ll2F8
 /qCBzzG/C3xGZIQK/QE3qpwVmS5RqpOGOs8w4DmPaEsxliaw/9Qp/kmb9wTxuSwrIwGE
 tbzmCJkhjrwy031pQeR+ruem6j/38eahbN+y945esZf++yGVBdIrIQotYNYtNcDtiBEw
 R2cw==
X-Gm-Message-State: AOJu0YyxplRUrl01vNoGjXlrEfO+W0Zi/xxnNfgLhl36vT3xCIzr3p1J
 RfidNMpFWPTYsNoG2YMmwuVGIL/UjRObyrMrli+aGxp3rN88n11wVbCYaq1lnJPb+Bl3OdVWsJe
 qXfIo8h0dhaWCJCmtjP6F9fdwJj9Lct66vcO+yTB/1Gwm/wGsSXfPnQI/
X-Google-Smtp-Source: AGHT+IFBGFvkpwaZ0Ov2JA73Y1Wo+HuDxc7GUsRdKUt+l6297H14jNzvxFpRLYJJqaakpzxHekmWC/YgUcqe
X-Received: by 2002:a17:903:8ce:b0:1e2:a31e:2062 with SMTP id
 lk14-20020a17090308ce00b001e2a31e2062mr3083607plb.53.1714571073625; 
 Wed, 01 May 2024 06:44:33 -0700 (PDT)
Received: from postal.iol.unh.edu (postal.iol.unh.edu.
 [2606:4100:3880:1234::84]) by smtp-relay.gmail.com with ESMTPS id
 bj8-20020a170902850800b001e42a609313sm849967plb.6.2024.05.01.06.44.33
 (version=TLS1_2 cipher=ECDHE-ECDSA-AES128-GCM-SHA256 bits=128/128);
 Wed, 01 May 2024 06:44:33 -0700 (PDT)
X-Relaying-Domain: iol.unh.edu
Date: Wed, 01 May 2024 06:44:33 -0700 (PDT)
Message-ID: <66324741.170a0220.d4afc.34a9SMTPIN_ADDED_MISSING@mx.google.com>
Received: from [172.17.0.4] (unknown [172.18.0.217])
 by postal.iol.unh.edu (Postfix) with ESMTP id 045D46052514;
 Wed,  1 May 2024 09:44:33 -0400 (EDT)
Subject: |SUCCESS| pw139760 [PATCH] [v2,1/1] docs: af_xdp device plugin repo 
From: dpdklab@iol.unh.edu
To: Test Report <test-report@dpdk.org>
Cc: dpdk-test-reports@iol.unh.edu
In-Reply-To: <20240501123654.1803467-1-mtahhan@redhat.com>
References: <20240501123654.1803467-1-mtahhan@redhat.com>
Content-Type: text/plain
X-BeenThere: test-report@dpdk.org
X-Mailman-Version: 2.1.29
Precedence: list
List-Id: automatic DPDK test reports <test-report.dpdk.org>
List-Unsubscribe: <https://mails.dpdk.org/options/test-report>,
 <mailto:test-report-request@dpdk.org?subject=unsubscribe>
List-Archive: <http://mails.dpdk.org/archives/test-report/>
List-Post: <mailto:test-report@dpdk.org>
List-Help: <mailto:test-report-request@dpdk.org?subject=help>
List-Subscribe: <https://mails.dpdk.org/listinfo/test-report>,
 <mailto:test-report-request@dpdk.org?subject=subscribe>
Errors-To: test-report-bounces@dpdk.org

Test-Label: iol-unit-amd64-testing
Test-Status: SUCCESS
http://dpdk.org/patch/139760

_Testing PASS_

Submitter: Maryam Tahhan <mtahhan@redhat.com>
Date: Wednesday, May 01 2024 12:36:51 
DPDK git baseline: Repo:dpdk
  Branch: master
  CommitID:baa8e2c6b4d7ce289e891b9c96fb3193311c0f01

139760 --> testing pass

Test environment and result as below:

+---------------------+----------------+
|     Environment     | dpdk_unit_test |
+=====================+================+
| Windows Server 2019 | PASS           |
+---------------------+----------------+
| Debian Bullseye     | PASS           |
+---------------------+----------------+
| CentOS Stream 9     | PASS           |
+---------------------+----------------+
| Windows Server 2022 | PASS           |
+---------------------+----------------+


Windows Server 2019
	Kernel: 10.0.17763
	Compiler: clang 14.0 and gcc 8.1.0 (MinGW)

Debian Bullseye
	Kernel: 5.4.0-167-generic
	Compiler: gcc 10.2.1-6

CentOS Stream 9
	Kernel: 5.4.0-167-generic
	Compiler: gcc 11.4.1 20230605

Windows Server 2022
	Kernel: 10.0.20348.2031
	Compiler: clang 15.0.7, gcc 8.1.0 (MinGW), and MSVC VS 17.9

To view detailed results, visit:
https://lab.dpdk.org/results/dashboard/patchsets/29887/

UNH-IOL DPDK Community Lab

To manage your email subscriptions, visit: 
https://lab.dpdk.org/results/dashboard/preferences/subscriptions/