From mboxrd@z Thu Jan  1 00:00:00 1970
Return-Path: <test-report-bounces@dpdk.org>
Received: from mails.dpdk.org (mails.dpdk.org [217.70.189.124])
	by inbox.dpdk.org (Postfix) with ESMTP id 4974E43F17
	for <public@inbox.dpdk.org>; Wed,  1 May 2024 17:58:08 +0200 (CEST)
Received: from mails.dpdk.org (localhost [127.0.0.1])
	by mails.dpdk.org (Postfix) with ESMTP id 429C2402A7;
	Wed,  1 May 2024 17:58:08 +0200 (CEST)
Received: from mail-ot1-f98.google.com (mail-ot1-f98.google.com
 [209.85.210.98]) by mails.dpdk.org (Postfix) with ESMTP id B66DC4021E
 for <test-report@dpdk.org>; Wed,  1 May 2024 17:58:06 +0200 (CEST)
Received: by mail-ot1-f98.google.com with SMTP id
 46e09a7af769-6ee1b203f30so2410442a34.0
 for <test-report@dpdk.org>; Wed, 01 May 2024 08:58:06 -0700 (PDT)
DKIM-Signature: v=1; a=rsa-sha256; c=relaxed/relaxed;
 d=iol.unh.edu; s=unh-iol; t=1714579086; x=1715183886; darn=dpdk.org;
 h=references:in-reply-to:cc:to:from:subject:message-id:date:from:to
 :cc:subject:date:message-id:reply-to;
 bh=upMNP3HeNHpwnErDKd/6WPXa6IzLbP7lQfcmUZCJQUw=;
 b=C1BpbVdDGBnEfOpjXNFib+jMvTp1JU3PN3McuRzWRMIWf/66QaGHyYkiuxLW6Cg1Pc
 bv6iVAFoOrUH6PLluURfqLrV/WiBgIbNdw9ULOgKKnFTRyStg7XuFNS8DwnFFBWUiBnx
 cxsRlJeYB7auGLZ53/SvUt1cP+ZuGy2xrWM1k=
X-Google-DKIM-Signature: v=1; a=rsa-sha256; c=relaxed/relaxed;
 d=1e100.net; s=20230601; t=1714579086; x=1715183886;
 h=references:in-reply-to:cc:to:from:subject:message-id:date
 :x-gm-message-state:from:to:cc:subject:date:message-id:reply-to;
 bh=upMNP3HeNHpwnErDKd/6WPXa6IzLbP7lQfcmUZCJQUw=;
 b=q6Ax8YrbsYcXACbb7Mepbupc6bwbI+SYm+8i+di39VhOEumNfGAxp8hiv14S057pMn
 BTYySDc5BYnc+6F3SlPZXDCFw3Yqp1SomNhMU9QbQY2gFcc4Z+A2CjnKJr7ENLwiJMRg
 iF1xb/vcfqXLIpRQcjh8U/9IJdeVpWO3ItTUds0P3ixoYWOABG3mXv8g3M1k/x7Pr4Or
 LVlfcAMZHocyJiE5Apo+xRy91a5kj/UlH759aMaNgHM5kghWrGMyJXYkTvJQXqfNSzXv
 3yuMIJ1kf+opG3rWGlpYcgQKaymN/bnhrbF358aWIC+dKjqgNmBuavnv5tnCqGD6pUHS
 2nLA==
X-Gm-Message-State: AOJu0YwBhv7cXaZj45LPKdaA+MkXcZipRyY44zA6ZOMD2H9qKd165Yrc
 cHe1FoTEkCKBxoFBiMoZRKeaq3oi6NRpel1t9jQuvm++3g4wYvIdkJtpUo+cSnloxBfKOuviM1+
 rTurFGLv9aJ9D5Gtr/E2u1jxZPT8zRDshWIbRpO+VhJGn4IwY3TwKehSU
X-Google-Smtp-Source: AGHT+IHTXItYAOsg4ys+su0RX8pv5kK5JBTe+738JDwPSBiELw5jjHnsYzj658vY+Jkx4RzR2H1nbdOL8yuS
X-Received: by 2002:a05:6870:51cf:b0:229:fa5a:2fec with SMTP id
 b15-20020a05687051cf00b00229fa5a2fecmr3040232oaj.54.1714579085948; 
 Wed, 01 May 2024 08:58:05 -0700 (PDT)
Received: from postal.iol.unh.edu (postal.iol.unh.edu.
 [2606:4100:3880:1234::84]) by smtp-relay.gmail.com with ESMTPS id
 a11-20020a05622a064b00b0043afa34d1aasm641007qtb.20.2024.05.01.08.58.05
 (version=TLS1_2 cipher=ECDHE-ECDSA-AES128-GCM-SHA256 bits=128/128);
 Wed, 01 May 2024 08:58:05 -0700 (PDT)
X-Relaying-Domain: iol.unh.edu
Date: Wed, 01 May 2024 08:58:05 -0700 (PDT)
Message-ID: <6632668d.050a0220.3a6df.8f80SMTPIN_ADDED_MISSING@mx.google.com>
Received: from [172.17.0.2] (unknown [172.18.0.217])
 by postal.iol.unh.edu (Postfix) with ESMTP id 8FD9D6052514;
 Wed,  1 May 2024 11:58:05 -0400 (EDT)
Subject: |SUCCESS| pw139760 [PATCH] [v2,1/1] docs: af_xdp device plugin repo 
From: dpdklab@iol.unh.edu
To: Test Report <test-report@dpdk.org>
Cc: dpdk-test-reports@iol.unh.edu
In-Reply-To: <20240501123654.1803467-1-mtahhan@redhat.com>
References: <20240501123654.1803467-1-mtahhan@redhat.com>
Content-Type: text/plain
X-BeenThere: test-report@dpdk.org
X-Mailman-Version: 2.1.29
Precedence: list
List-Id: automatic DPDK test reports <test-report.dpdk.org>
List-Unsubscribe: <https://mails.dpdk.org/options/test-report>,
 <mailto:test-report-request@dpdk.org?subject=unsubscribe>
List-Archive: <http://mails.dpdk.org/archives/test-report/>
List-Post: <mailto:test-report@dpdk.org>
List-Help: <mailto:test-report-request@dpdk.org?subject=help>
List-Subscribe: <https://mails.dpdk.org/listinfo/test-report>,
 <mailto:test-report-request@dpdk.org?subject=subscribe>
Errors-To: test-report-bounces@dpdk.org

Test-Label: iol-compile-arm64-testing
Test-Status: SUCCESS
http://dpdk.org/patch/139760

_Testing PASS_

Submitter: Maryam Tahhan <mtahhan@redhat.com>
Date: Wednesday, May 01 2024 12:36:51 
DPDK git baseline: Repo:dpdk
  Branch: master
  CommitID:baa8e2c6b4d7ce289e891b9c96fb3193311c0f01

139760 --> testing pass

Test environment and result as below:

+----------------------------------------+--------------------+
|              Environment               | dpdk_meson_compile |
+========================================+====================+
| Ubuntu 20.04 ARM SVE                   | PASS               |
+----------------------------------------+--------------------+
| Debian 12 with MUSDK                   | PASS               |
+----------------------------------------+--------------------+
| Fedora 38 (ARM)                        | PASS               |
+----------------------------------------+--------------------+
| Fedora 37 (ARM)                        | PASS               |
+----------------------------------------+--------------------+
| Ubuntu 20.04 (ARM)                     | PASS               |
+----------------------------------------+--------------------+
| Fedora 39 (ARM)                        | PASS               |
+----------------------------------------+--------------------+
| CentOS Stream 9 (ARM)                  | PASS               |
+----------------------------------------+--------------------+
| Debian 11 (Buster) (ARM)               | PASS               |
+----------------------------------------+--------------------+
| Debian 12 (arm)                        | PASS               |
+----------------------------------------+--------------------+
| Ubuntu 20.04 aarch32 GCC Cross Compile | PASS               |
+----------------------------------------+--------------------+
| Ubuntu 20.04 ARM GCC Cross Compile     | PASS               |
+----------------------------------------+--------------------+
| Ubuntu 20.04 ARM Clang Cross Compile   | PASS               |
+----------------------------------------+--------------------+
| Fedora 38 (ARM Clang)                  | PASS               |
+----------------------------------------+--------------------+
| Fedora 39 (ARM Clang)                  | PASS               |
+----------------------------------------+--------------------+


Ubuntu 20.04 ARM SVE
	Kernel: 5.4.0-167-generic
	Compiler: gcc (Ubuntu 10.5.0-1ubuntu1~20.04) 10.5.0

Debian 12 with MUSDK
	Kernel: Container Host Kernel
	Compiler: gcc 12.2.0

Fedora 38 (ARM)
	Kernel: Depends on container host
	Compiler: gcc 13.2.1

Fedora 37 (ARM)
	Kernel: Depends on container host
	Compiler: gcc 12.3.1

Ubuntu 20.04 (ARM)
	Kernel: Container Host Kernel
	Compiler: gcc 9.4.0

Fedora 39 (ARM)
	Kernel: Depends on container host
	Compiler: gcc 13.2.1

CentOS Stream 9 (ARM)
	Kernel: Container Host Kernel
	Compiler: gcc 11.4.1

Debian 11 (Buster) (ARM)
	Kernel: Container Host Kernel
	Compiler: gcc 10.2.1

Debian 12 (arm)
	Kernel: Container Host Kernel
	Compiler: gcc 12.2.0

Ubuntu 20.04 aarch32 GCC Cross Compile
	Kernel: 5.4.0-167-generic
	Compiler: gcc 9.4.0

Ubuntu 20.04 ARM GCC Cross Compile
	Kernel: 5.4.0-167-generic
	Compiler: aarch64-linux-gnu-gcc (Ubuntu 9.4.0-1ubuntu1~20.04.2) 9.4.0

Ubuntu 20.04 ARM Clang Cross Compile
	Kernel: 5.4.0-72-generic
	Compiler: clang 10.0.0-4ubuntu1

Fedora 38 (ARM Clang)
	Kernel: Depends on container host
	Compiler: clang 16.0.6

Fedora 39 (ARM Clang)
	Kernel: Depends on container host
	Compiler: clang 17.0.6

To view detailed results, visit:
https://lab.dpdk.org/results/dashboard/patchsets/29887/

UNH-IOL DPDK Community Lab

To manage your email subscriptions, visit: 
https://lab.dpdk.org/results/dashboard/preferences/subscriptions/