From mboxrd@z Thu Jan  1 00:00:00 1970
Return-Path: <test-report-bounces@dpdk.org>
Received: from mails.dpdk.org (mails.dpdk.org [217.70.189.124])
	by inbox.dpdk.org (Postfix) with ESMTP id E1E0643F5D
	for <public@inbox.dpdk.org>; Wed,  1 May 2024 18:55:45 +0200 (CEST)
Received: from mails.dpdk.org (localhost [127.0.0.1])
	by mails.dpdk.org (Postfix) with ESMTP id D5F784027F;
	Wed,  1 May 2024 18:55:45 +0200 (CEST)
Received: from mail-pl1-f226.google.com (mail-pl1-f226.google.com
 [209.85.214.226])
 by mails.dpdk.org (Postfix) with ESMTP id C4A624021E
 for <test-report@dpdk.org>; Wed,  1 May 2024 18:55:44 +0200 (CEST)
Received: by mail-pl1-f226.google.com with SMTP id
 d9443c01a7336-1eca195a7c8so5599465ad.2
 for <test-report@dpdk.org>; Wed, 01 May 2024 09:55:44 -0700 (PDT)
DKIM-Signature: v=1; a=rsa-sha256; c=relaxed/relaxed;
 d=iol.unh.edu; s=unh-iol; t=1714582544; x=1715187344; darn=dpdk.org;
 h=references:in-reply-to:cc:to:from:subject:message-id:date:from:to
 :cc:subject:date:message-id:reply-to;
 bh=mjLFkhnmkz2ekXbzoddAEESZ+ZyQGK3KgG4hYorEOp0=;
 b=QNt+2ml1PsKvq//bmn1P0UVBbIwAfjBCYneCsPFnsAgXpK+rsYR0nVRUDKmKUx6qU/
 JiO6PrNWm0vDUtrgl/Koe3jybRJ/PBgOQa+whmfiFmGTfBVKy9gm1RCukE3QZ7Zb9J+W
 zPXkPvdgZWLLw7367LoAI2O94OufneMQWxqdA=
X-Google-DKIM-Signature: v=1; a=rsa-sha256; c=relaxed/relaxed;
 d=1e100.net; s=20230601; t=1714582544; x=1715187344;
 h=references:in-reply-to:cc:to:from:subject:message-id:date
 :x-gm-message-state:from:to:cc:subject:date:message-id:reply-to;
 bh=mjLFkhnmkz2ekXbzoddAEESZ+ZyQGK3KgG4hYorEOp0=;
 b=qeMbJsn3JC7P4DHGrLLty/dhsIfHL1Xgm3n1Ufv0G8+itNQzMLm+VMafaiTspj5RHd
 9lROdUmMhTy+yDBeTGn5hsMsyTbEoT+r+sle2uOMzOxnEa56HUciEElXh21Buau5hk2U
 TUu41sZi+ODFZ6YFfWzFCr1Yw4oFflE+nWgll3/1QSLvLubk1IIB76ReqaAKORrBFT1q
 flccy9M7C77WWGZedeBqNxd+buSGcCpD2hAtPctqH0DY9xz554OYpwGDZkfHvtTjbqM+
 tsstTEgjnV+ds+1ae0ciZQAhD2kdTx6MXosV+c/iSzHw39XupO0f8nBOMvQ4WFuuYLkg
 /pcg==
X-Gm-Message-State: AOJu0Yyol4HNoyDoYL65Zj1jAmIaOmJwNtRt4dbtDKDrLzaaMHL0Hbp3
 U8siAHQIPOM0ud3PFJBmdMsTGLwVCEwLygv+PWwgofflF/n5fgS0WMVl/shvHx7ecnexOixeAAW
 jtArNPTfT81hqsGKeBKSRFwZtOBvxE+FXjp//7Q47IbumWGBTBdzo9pqn
X-Google-Smtp-Source: AGHT+IFfbUzAzzqOVseL9lPtrlT4qor3cosNyFN/JxOl5e+Pc206mZwNsIq/jo0JdbtxHlPhCXK5dfBK4KYt
X-Received: by 2002:a17:902:ce85:b0:1e0:b2d5:5f46 with SMTP id
 f5-20020a170902ce8500b001e0b2d55f46mr3534994plg.46.1714582543967; 
 Wed, 01 May 2024 09:55:43 -0700 (PDT)
Received: from postal.iol.unh.edu (postal.iol.unh.edu.
 [2606:4100:3880:1234::84]) by smtp-relay.gmail.com with ESMTPS id
 jj10-20020a170903048a00b001ec71de4ed9sm102019plb.61.2024.05.01.09.55.43
 (version=TLS1_2 cipher=ECDHE-ECDSA-AES128-GCM-SHA256 bits=128/128);
 Wed, 01 May 2024 09:55:43 -0700 (PDT)
X-Relaying-Domain: iol.unh.edu
Date: Wed, 01 May 2024 09:55:43 -0700 (PDT)
Message-ID: <6632740f.170a0220.bb8b.3b02SMTPIN_ADDED_MISSING@mx.google.com>
Received: from [172.21.0.6] (unknown [172.18.0.240])
 by postal.iol.unh.edu (Postfix) with ESMTP id 5382D6052514;
 Wed,  1 May 2024 12:55:43 -0400 (EDT)
Subject: |SUCCESS| pw139770-139772 [PATCH] [v2,3/3] dts: Improve logging for 
From: dpdklab@iol.unh.edu
To: Test Report <test-report@dpdk.org>
Cc: dpdk-test-reports@iol.unh.edu
In-Reply-To: <20240501161623.26672-4-jspewock@iol.unh.edu>
References: <20240501161623.26672-4-jspewock@iol.unh.edu>
Content-Type: text/plain
X-BeenThere: test-report@dpdk.org
X-Mailman-Version: 2.1.29
Precedence: list
List-Id: automatic DPDK test reports <test-report.dpdk.org>
List-Unsubscribe: <https://mails.dpdk.org/options/test-report>,
 <mailto:test-report-request@dpdk.org?subject=unsubscribe>
List-Archive: <http://mails.dpdk.org/archives/test-report/>
List-Post: <mailto:test-report@dpdk.org>
List-Help: <mailto:test-report-request@dpdk.org?subject=help>
List-Subscribe: <https://mails.dpdk.org/listinfo/test-report>,
 <mailto:test-report-request@dpdk.org?subject=subscribe>
Errors-To: test-report-bounces@dpdk.org

Test-Label: iol-compile-arm64-testing
Test-Status: SUCCESS
http://dpdk.org/patch/139772

_Testing PASS_

Submitter: Jeremy Spewock <jspewock@iol.unh.edu>
Date: Wednesday, May 01 2024 16:16:23 
DPDK git baseline: Repo:dpdk
  Branch: master
  CommitID:7e06c0de1952d3109a5b0c4779d7e7d8059c9d78

139770-139772 --> testing pass

Test environment and result as below:

+--------------------------+--------------------+
|       Environment        | dpdk_meson_compile |
+==========================+====================+
| Debian 12 with MUSDK     | PASS               |
+--------------------------+--------------------+
| Ubuntu 20.04 ARM SVE     | PASS               |
+--------------------------+--------------------+
| Fedora 37 (ARM)          | PASS               |
+--------------------------+--------------------+
| Fedora 38 (ARM)          | PASS               |
+--------------------------+--------------------+
| Debian 11 (Buster) (ARM) | PASS               |
+--------------------------+--------------------+
| CentOS Stream 9 (ARM)    | PASS               |
+--------------------------+--------------------+


Debian 12 with MUSDK
	Kernel: Container Host Kernel
	Compiler: gcc 12.2.0

Ubuntu 20.04 ARM SVE
	Kernel: 5.4.0-167-generic
	Compiler: gcc (Ubuntu 10.5.0-1ubuntu1~20.04) 10.5.0

Fedora 37 (ARM)
	Kernel: Depends on container host
	Compiler: gcc 12.3.1

Fedora 38 (ARM)
	Kernel: Depends on container host
	Compiler: gcc 13.2.1

Debian 11 (Buster) (ARM)
	Kernel: Container Host Kernel
	Compiler: gcc 10.2.1

CentOS Stream 9 (ARM)
	Kernel: Container Host Kernel
	Compiler: gcc 11.4.1

To view detailed results, visit:
https://lab.dpdk.org/results/dashboard/patchsets/29889/

UNH-IOL DPDK Community Lab

To manage your email subscriptions, visit: 
https://lab.dpdk.org/results/dashboard/preferences/subscriptions/