From mboxrd@z Thu Jan  1 00:00:00 1970
Return-Path: <test-report-bounces@dpdk.org>
Received: from mails.dpdk.org (mails.dpdk.org [217.70.189.124])
	by inbox.dpdk.org (Postfix) with ESMTP id 58A7043EDE
	for <public@inbox.dpdk.org>; Wed,  1 May 2024 19:06:37 +0200 (CEST)
Received: from mails.dpdk.org (localhost [127.0.0.1])
	by mails.dpdk.org (Postfix) with ESMTP id 5365A4027F;
	Wed,  1 May 2024 19:06:37 +0200 (CEST)
Received: from mail-qv1-f97.google.com (mail-qv1-f97.google.com
 [209.85.219.97]) by mails.dpdk.org (Postfix) with ESMTP id 88D454021E
 for <test-report@dpdk.org>; Wed,  1 May 2024 19:06:36 +0200 (CEST)
Received: by mail-qv1-f97.google.com with SMTP id
 6a1803df08f44-69b782287f9so33936136d6.0
 for <test-report@dpdk.org>; Wed, 01 May 2024 10:06:36 -0700 (PDT)
DKIM-Signature: v=1; a=rsa-sha256; c=relaxed/relaxed;
 d=iol.unh.edu; s=unh-iol; t=1714583196; x=1715187996; darn=dpdk.org;
 h=references:in-reply-to:cc:to:from:subject:message-id:date:from:to
 :cc:subject:date:message-id:reply-to;
 bh=wrnM/c+VTE49B3bqmKWRPuf0GKYYXruoHBECw0425kE=;
 b=X9yeeL7LAyNdgB9q8OkwNypfrxChO3kHxj+dYbHz127UMqMmehtwfGklacnOmCTziU
 bd/MCZ9Z/fM52pHIeQpAvDpORuv1aH/fDYFy3r1PFG6+sLzOdJePUWWZWYZc757tStTH
 hvMa+sFuv0IIjkfjOyUeFzFYqpZwWkAPDwWoQ=
X-Google-DKIM-Signature: v=1; a=rsa-sha256; c=relaxed/relaxed;
 d=1e100.net; s=20230601; t=1714583196; x=1715187996;
 h=references:in-reply-to:cc:to:from:subject:message-id:date
 :x-gm-message-state:from:to:cc:subject:date:message-id:reply-to;
 bh=wrnM/c+VTE49B3bqmKWRPuf0GKYYXruoHBECw0425kE=;
 b=FBirKK1L7Ffz6Zq9RX539hpse+cJ2+GjCpKqSJrHqu5gTcGkJgzpjz2VPM8x7o88/1
 bC0Um0qaV3GLB2EJri707lJBPBYah2lyMvctpZimMVt0/AUAfl8MHF1r5XODrcICGUAx
 7cVeRxnr5BCCSqrzD1ly8UJo4Oxm7sUasxNUF6pdHA8CMDUgT7NoTRpW4rHqPGNTE6SG
 FBaxQR7QoQxUnizFLlME8ua2x8KolFXl8pTADsxLLeHMAdLLxH2j+6uyH8hKhKDPWHNK
 znb7bswsfOGwwvUMC4B4zQMm95RbIt6sRwFtT0toMfmZj9RXV8NCuKIrmjczghxdDcLo
 54rw==
X-Gm-Message-State: AOJu0YxWcdz5dsmBruJ6I297UllOZ6m37wiApa/wd/XLnBrRl8mJLBHh
 lNV89bo5BcoFGNCTh+YSEqbkMRwM8UwJEfaOUKLSS2sD82406U33OkOM4X/VF7eyMgBmiSEMBkC
 OnjFcW++X+E2DsvmgnypEjrvwzMLyRqGT+o3Ye/DnF59HRwAVwbWftF5N
X-Google-Smtp-Source: AGHT+IETtaUMHwkf0VwQTjubQFszT+n0gP09dVVnDivcROdnvBOaZhLiNzBQl8ngRT/E86yNdt62J8I3n57m
X-Received: by 2002:a05:6214:5098:b0:6a0:7a3b:b149 with SMTP id
 kk24-20020a056214509800b006a07a3bb149mr3296365qvb.17.1714583196002; 
 Wed, 01 May 2024 10:06:36 -0700 (PDT)
Received: from postal.iol.unh.edu (postal.iol.unh.edu.
 [2606:4100:3880:1234::84]) by smtp-relay.gmail.com with ESMTPS id
 j7-20020a0ce6a7000000b006a0cd43526csm688896qvn.21.2024.05.01.10.06.35
 (version=TLS1_2 cipher=ECDHE-ECDSA-AES128-GCM-SHA256 bits=128/128);
 Wed, 01 May 2024 10:06:35 -0700 (PDT)
X-Relaying-Domain: iol.unh.edu
Date: Wed, 01 May 2024 10:06:35 -0700 (PDT)
Message-ID: <6632769b.0c0a0220.a8bb.d43fSMTPIN_ADDED_MISSING@mx.google.com>
Received: from [172.21.0.7] (unknown [172.18.0.240])
 by postal.iol.unh.edu (Postfix) with ESMTP id ADB376052514;
 Wed,  1 May 2024 13:06:35 -0400 (EDT)
Subject: |SUCCESS| pw139770-139772 [PATCH] [v2,3/3] dts: Improve logging for 
From: dpdklab@iol.unh.edu
To: Test Report <test-report@dpdk.org>
Cc: dpdk-test-reports@iol.unh.edu
In-Reply-To: <20240501161623.26672-4-jspewock@iol.unh.edu>
References: <20240501161623.26672-4-jspewock@iol.unh.edu>
Content-Type: text/plain
X-BeenThere: test-report@dpdk.org
X-Mailman-Version: 2.1.29
Precedence: list
List-Id: automatic DPDK test reports <test-report.dpdk.org>
List-Unsubscribe: <https://mails.dpdk.org/options/test-report>,
 <mailto:test-report-request@dpdk.org?subject=unsubscribe>
List-Archive: <http://mails.dpdk.org/archives/test-report/>
List-Post: <mailto:test-report@dpdk.org>
List-Help: <mailto:test-report-request@dpdk.org?subject=help>
List-Subscribe: <https://mails.dpdk.org/listinfo/test-report>,
 <mailto:test-report-request@dpdk.org?subject=subscribe>
Errors-To: test-report-bounces@dpdk.org

Test-Label: iol-compile-amd64-testing
Test-Status: SUCCESS
http://dpdk.org/patch/139772

_Testing PASS_

Submitter: Jeremy Spewock <jspewock@iol.unh.edu>
Date: Wednesday, May 01 2024 16:16:23 
DPDK git baseline: Repo:dpdk
  Branch: master
  CommitID:7e06c0de1952d3109a5b0c4779d7e7d8059c9d78

139770-139772 --> testing pass

Test environment and result as below:

+---------------------+--------------------+----------------------+-------------------+
|     Environment     | dpdk_meson_compile | dpdk_mingw64_compile | dpdk_msvc_compile |
+=====================+====================+======================+===================+
| FreeBSD 13.3        | PASS               | SKIPPED              | SKIPPED           |
+---------------------+--------------------+----------------------+-------------------+
| CentOS Stream 9     | PASS               | SKIPPED              | SKIPPED           |
+---------------------+--------------------+----------------------+-------------------+
| CentOS Stream 8     | PASS               | SKIPPED              | SKIPPED           |
+---------------------+--------------------+----------------------+-------------------+
| Ubuntu 22.04        | PASS               | SKIPPED              | SKIPPED           |
+---------------------+--------------------+----------------------+-------------------+
| Windows Server 2022 | PASS               | PASS                 | PASS              |
+---------------------+--------------------+----------------------+-------------------+
| Debian Bullseye     | PASS               | SKIPPED              | SKIPPED           |
+---------------------+--------------------+----------------------+-------------------+
| Debian 12           | PASS               | SKIPPED              | SKIPPED           |
+---------------------+--------------------+----------------------+-------------------+
| Windows Server 2019 | PASS               | PASS                 | SKIPPED           |
+---------------------+--------------------+----------------------+-------------------+
| Fedora 38           | PASS               | SKIPPED              | SKIPPED           |
+---------------------+--------------------+----------------------+-------------------+
| Fedora 39           | PASS               | SKIPPED              | SKIPPED           |
+---------------------+--------------------+----------------------+-------------------+
| RHEL8               | PASS               | SKIPPED              | SKIPPED           |
+---------------------+--------------------+----------------------+-------------------+
| Fedora 37           | PASS               | SKIPPED              | SKIPPED           |
+---------------------+--------------------+----------------------+-------------------+
| Ubuntu 20.04        | PASS               | SKIPPED              | SKIPPED           |
+---------------------+--------------------+----------------------+-------------------+
| openSUSE Leap 15    | PASS               | SKIPPED              | SKIPPED           |
+---------------------+--------------------+----------------------+-------------------+


FreeBSD 13.3
	Kernel: 13.3-RELEASE-p1
	Compiler: clang 17.0.6

CentOS Stream 9
	Kernel: 5.4.0-167-generic
	Compiler: gcc 11.4.1 20230605

CentOS Stream 8
	Kernel: 5.4.0-167-generic
	Compiler: gcc 8.5.0 20210514

Ubuntu 22.04
	Kernel: 5.4.0-167-generic
	Compiler: gcc 11.4.0

Windows Server 2022
	Kernel: 10.0.20348.2031
	Compiler: clang 15.0.7, gcc 8.1.0 (MinGW), and MSVC VS 17.9

Debian Bullseye
	Kernel: 5.4.0-167-generic
	Compiler: gcc 10.2.1-6

Debian 12
	Kernel: Container Host Kernel
	Compiler: gcc 10.2.1

Windows Server 2019
	Kernel: 10.0.17763
	Compiler: clang 14.0 and gcc 8.1.0 (MinGW)

Fedora 38
	Kernel: Depends on container host
	Compiler: gcc 13.2.1

Fedora 39
	Kernel: Depends on container host
	Compiler: gcc 13.2.1

RHEL8
	Kernel: 5.4.0-167-generic
	Compiler: gcc 8.5.0 20210514 (Red Hat 8.5.0-20)

Fedora 37
	Kernel: Depends on container host system
	Compiler: gcc 12.3.1

Ubuntu 20.04
	Kernel: 5.4.0-167-generic
	Compiler: gcc 9.4.0-1ubuntu1~20.04.1

openSUSE Leap 15
	Kernel: 5.4.0-167-generic
	Compiler: gcc 7.5.0

To view detailed results, visit:
https://lab.dpdk.org/results/dashboard/patchsets/29889/

UNH-IOL DPDK Community Lab

To manage your email subscriptions, visit: 
https://lab.dpdk.org/results/dashboard/preferences/subscriptions/