From mboxrd@z Thu Jan  1 00:00:00 1970
Return-Path: <test-report-bounces@dpdk.org>
Received: from mails.dpdk.org (mails.dpdk.org [217.70.189.124])
	by inbox.dpdk.org (Postfix) with ESMTP id EE65443F5D
	for <public@inbox.dpdk.org>; Wed,  1 May 2024 19:09:17 +0200 (CEST)
Received: from mails.dpdk.org (localhost [127.0.0.1])
	by mails.dpdk.org (Postfix) with ESMTP id E8F0E4027F;
	Wed,  1 May 2024 19:09:17 +0200 (CEST)
Received: from mail-qv1-f97.google.com (mail-qv1-f97.google.com
 [209.85.219.97]) by mails.dpdk.org (Postfix) with ESMTP id 7DE8A4021E
 for <test-report@dpdk.org>; Wed,  1 May 2024 19:09:16 +0200 (CEST)
Received: by mail-qv1-f97.google.com with SMTP id
 6a1803df08f44-69b4e94ecd2so35283056d6.3
 for <test-report@dpdk.org>; Wed, 01 May 2024 10:09:16 -0700 (PDT)
DKIM-Signature: v=1; a=rsa-sha256; c=relaxed/relaxed;
 d=iol.unh.edu; s=unh-iol; t=1714583356; x=1715188156; darn=dpdk.org;
 h=references:in-reply-to:cc:to:from:subject:message-id:date:from:to
 :cc:subject:date:message-id:reply-to;
 bh=X10Leus62p00Vv1pi1yU7pkyEyXUVS5bwQAjCe+Pk/U=;
 b=i5uvSeWTLHwRMrzy00KQBhlvLqhW37ZrAKl9zp0idPX4TUNjT7jqvbCUfpiz4X7b1/
 RyC4MYMkWWFp5CpZFH7kwVyGOGo2ths+mYsrw9grGtXeOZiuly1Wtgue2vtiPY+VhNIo
 /SxAbKKFfPsM0R7+fehkPG/AjQYX8xyQV1B5I=
X-Google-DKIM-Signature: v=1; a=rsa-sha256; c=relaxed/relaxed;
 d=1e100.net; s=20230601; t=1714583356; x=1715188156;
 h=references:in-reply-to:cc:to:from:subject:message-id:date
 :x-gm-message-state:from:to:cc:subject:date:message-id:reply-to;
 bh=X10Leus62p00Vv1pi1yU7pkyEyXUVS5bwQAjCe+Pk/U=;
 b=adUMj1uHrKP3TgNjkB/gD+2b9aZyD4psXcCWkqm0KRelmdA0CXFBQIZv4sLqneU2up
 pYJBGRlnleQa+p7zK+KVFSS0NmtXXfFtgtZsCcABf2Bo6qdhrGwbRHBpHO3QfQs1pk47
 bHb6009SsuQaVjRMEaw+Wtfs8n/tTjVt/HsklfXMEcy6VHkOhCjES2hJINnxyqjTvz6d
 J5OVmFR2avFBDD7Y1shTgahP754TC+8bzsp8mlGxk1VK/jWNkdJI8LDxYPFTRMzxn1sy
 0ySa/eB6QzppEDqJCZTbD4ezSY4OTNO3J8iTV/77ybLDycIYEAmCMQyOjxSi0nbPc97z
 gRoQ==
X-Gm-Message-State: AOJu0YxLIsabjiQbAANeZuInObGGw7v9i5NJPWzY2hb8MnB7ZqJgOiP2
 EzPhRFqTDgzzs6Md00jm+Czy6SCeCzqexAt5m22ZpndpGdm2v2oHj9H1Mubx9H5ZedtvO0GiVOV
 ZCEbuWXjXF+foAnzA4AjXuwHHxgTBByDhvDSbdFyC
X-Google-Smtp-Source: AGHT+IHdOVejeFqnhGszUYy0Lb+aWG3O12kUo4jBEtFFUtxedms+748mavpU0uwNWqP8qIl5WJwX3senfXOA
X-Received: by 2002:a05:6214:258c:b0:69b:1d83:d884 with SMTP id
 fq12-20020a056214258c00b0069b1d83d884mr3129331qvb.62.1714583355956; 
 Wed, 01 May 2024 10:09:15 -0700 (PDT)
Received: from postal.iol.unh.edu (postal.iol.unh.edu. [132.177.123.84])
 by smtp-relay.gmail.com with ESMTPS id
 n6-20020a056214008600b006a0f7f6f503sm84523qvr.50.2024.05.01.10.09.15
 (version=TLS1_2 cipher=ECDHE-ECDSA-AES128-GCM-SHA256 bits=128/128);
 Wed, 01 May 2024 10:09:15 -0700 (PDT)
X-Relaying-Domain: iol.unh.edu
Date: Wed, 01 May 2024 10:09:15 -0700 (PDT)
Message-ID: <6632773b.050a0220.14847.4789SMTPIN_ADDED_MISSING@mx.google.com>
Received: from [172.21.0.7] (unknown [172.18.0.240])
 by postal.iol.unh.edu (Postfix) with ESMTP id A49186052514;
 Wed,  1 May 2024 13:09:15 -0400 (EDT)
Subject: |SUCCESS| pw139770-139772 [PATCH] [v2,3/3] dts: Improve logging for 
From: dpdklab@iol.unh.edu
To: Test Report <test-report@dpdk.org>
Cc: dpdk-test-reports@iol.unh.edu
In-Reply-To: <20240501161623.26672-4-jspewock@iol.unh.edu>
References: <20240501161623.26672-4-jspewock@iol.unh.edu>
Content-Type: text/plain
X-BeenThere: test-report@dpdk.org
X-Mailman-Version: 2.1.29
Precedence: list
List-Id: automatic DPDK test reports <test-report.dpdk.org>
List-Unsubscribe: <https://mails.dpdk.org/options/test-report>,
 <mailto:test-report-request@dpdk.org?subject=unsubscribe>
List-Archive: <http://mails.dpdk.org/archives/test-report/>
List-Post: <mailto:test-report@dpdk.org>
List-Help: <mailto:test-report-request@dpdk.org?subject=help>
List-Subscribe: <https://mails.dpdk.org/listinfo/test-report>,
 <mailto:test-report-request@dpdk.org?subject=subscribe>
Errors-To: test-report-bounces@dpdk.org

Test-Label: iol-abi-testing
Test-Status: SUCCESS
http://dpdk.org/patch/139772

_Testing PASS_

Submitter: Jeremy Spewock <jspewock@iol.unh.edu>
Date: Wednesday, May 01 2024 16:16:23 
DPDK git baseline: Repo:dpdk
  Branch: master
  CommitID:7e06c0de1952d3109a5b0c4779d7e7d8059c9d78

139770-139772 --> testing pass

Test environment and result as below:

+------------------+----------+
|   Environment    | abi_test |
+==================+==========+
| Ubuntu 22.04     | PASS     |
+------------------+----------+
| CentOS Stream 9  | PASS     |
+------------------+----------+
| openSUSE Leap 15 | PASS     |
+------------------+----------+
| Fedora 38        | PASS     |
+------------------+----------+
| Fedora 39        | PASS     |
+------------------+----------+
| Debian Bullseye  | PASS     |
+------------------+----------+
| CentOS Stream 8  | PASS     |
+------------------+----------+
| RHEL8            | PASS     |
+------------------+----------+


Ubuntu 22.04
	Kernel: 5.4.0-167-generic
	Compiler: gcc 11.4.0

CentOS Stream 9
	Kernel: 5.4.0-167-generic
	Compiler: gcc 11.4.1 20230605

openSUSE Leap 15
	Kernel: 5.4.0-167-generic
	Compiler: gcc 7.5.0

Fedora 38
	Kernel: Depends on container host
	Compiler: clang 16.0.6

Fedora 39
	Kernel: Depends on container host
	Compiler: clang 17.0.6

Debian Bullseye
	Kernel: 5.4.0-167-generic
	Compiler: gcc 10.2.1-6

CentOS Stream 8
	Kernel: 5.4.0-167-generic
	Compiler: gcc 8.5.0 20210514

RHEL8
	Kernel: 5.4.0-167-generic
	Compiler: gcc 8.5.0 20210514 (Red Hat 8.5.0-20)

To view detailed results, visit:
https://lab.dpdk.org/results/dashboard/patchsets/29889/

UNH-IOL DPDK Community Lab

To manage your email subscriptions, visit: 
https://lab.dpdk.org/results/dashboard/preferences/subscriptions/