From mboxrd@z Thu Jan  1 00:00:00 1970
Return-Path: <test-report-bounces@dpdk.org>
Received: from mails.dpdk.org (mails.dpdk.org [217.70.189.124])
	by inbox.dpdk.org (Postfix) with ESMTP id 0037043F61
	for <public@inbox.dpdk.org>; Wed,  1 May 2024 20:03:54 +0200 (CEST)
Received: from mails.dpdk.org (localhost [127.0.0.1])
	by mails.dpdk.org (Postfix) with ESMTP id ED9964027F;
	Wed,  1 May 2024 20:03:54 +0200 (CEST)
Received: from mail-pl1-f226.google.com (mail-pl1-f226.google.com
 [209.85.214.226])
 by mails.dpdk.org (Postfix) with ESMTP id 6658D4021E
 for <test-report@dpdk.org>; Wed,  1 May 2024 20:03:53 +0200 (CEST)
Received: by mail-pl1-f226.google.com with SMTP id
 d9443c01a7336-1e5715a9ebdso59389435ad.2
 for <test-report@dpdk.org>; Wed, 01 May 2024 11:03:53 -0700 (PDT)
DKIM-Signature: v=1; a=rsa-sha256; c=relaxed/relaxed;
 d=iol.unh.edu; s=unh-iol; t=1714586632; x=1715191432; darn=dpdk.org;
 h=references:in-reply-to:cc:to:from:subject:message-id:date:from:to
 :cc:subject:date:message-id:reply-to;
 bh=hH0JZwuSq4iC52g+pHSm+fpwwQpFid2GCI9jH78cmRM=;
 b=E38o2VeKcwLzKDW6pKHyJYoXf9JLypfoH3V8Vc0Xt+BC+8DeRoV826nWsCXGvcnXA6
 K2wmWTvOnl2K7pbo6VMPLZgNQd1H5N/N8QJTFREzUJfA6G+lSw3oRDYHmhwQ0ffyO97J
 v4MnEIOOh6RbOEDzsklHV5si8O/jYgkcTx0G0=
X-Google-DKIM-Signature: v=1; a=rsa-sha256; c=relaxed/relaxed;
 d=1e100.net; s=20230601; t=1714586632; x=1715191432;
 h=references:in-reply-to:cc:to:from:subject:message-id:date
 :x-gm-message-state:from:to:cc:subject:date:message-id:reply-to;
 bh=hH0JZwuSq4iC52g+pHSm+fpwwQpFid2GCI9jH78cmRM=;
 b=XPcnFoyJt2v9LeJXQr5FlNMpvJk9OA9NoFvvyPuiQ/9gmU6TBRwro+ls63eyXBxMRI
 BqETnK3eod5FfFuc3UIPHs4NKL85jnA40DY0gl8KWDWxeXqGAf/vJ6+kxcPim2EGGbDO
 9pt0SFU4jgIhUMoA3x+Sziplqr04YwigBdd85J/didWvNLRDj4F4OlKqW04qQUPvK+lM
 7aCZyjEpmS+6m+CeiN/YAQ8JhhCGNV8ML6uEeVNwacW2ZR1agqLZwVGoSBuuWGK//cD+
 9dF0Q9j9axJ58/xoujDwS3FW9cAsh0yZRpmpTcayaPMIB++9UAQf3hLucuNVr/KvFL84
 qeiA==
X-Gm-Message-State: AOJu0YxoVXjgFgtA1K456IVpLI599GL7iTp/tC6LeTXvZV2u0nmq3c9D
 OL4tfZWVXocKUEyMeA43AQ8a0xfmN7P/aVXOxqF+wI0SW5RUlUMugEbLlZN4MIKWBYXLNGmObGF
 6GT4dYyRpilsMEax19jY9XY9VSjjlVqG4XhpYfgMW
X-Google-Smtp-Source: AGHT+IEojldyfiuUBpvMCA3TIYb1SoTsXinOgZD2MVNfdR+1NHo6iQ0f/jXgqrN2nxQ54dCsqw8lZbtaM71X
X-Received: by 2002:a17:902:eac4:b0:1ec:76a6:ea9 with SMTP id
 p4-20020a170902eac400b001ec76a60ea9mr3172060pld.26.1714586632623; 
 Wed, 01 May 2024 11:03:52 -0700 (PDT)
Received: from postal.iol.unh.edu (postal.iol.unh.edu. [132.177.123.84])
 by smtp-relay.gmail.com with ESMTPS id
 be5-20020a170902aa0500b001ec460903e3sm112901plb.104.2024.05.01.11.03.52
 (version=TLS1_2 cipher=ECDHE-ECDSA-AES128-GCM-SHA256 bits=128/128);
 Wed, 01 May 2024 11:03:52 -0700 (PDT)
X-Relaying-Domain: iol.unh.edu
Date: Wed, 01 May 2024 11:03:52 -0700 (PDT)
Message-ID: <66328408.170a0220.3dcb2.4478SMTPIN_ADDED_MISSING@mx.google.com>
Received: from [172.21.0.6] (unknown [172.18.0.240])
 by postal.iol.unh.edu (Postfix) with ESMTP id 10EE16052514;
 Wed,  1 May 2024 14:03:52 -0400 (EDT)
Subject: |SUCCESS| pw139761-139769 [PATCH] [v10,9/9] net/tap: update document
From: dpdklab@iol.unh.edu
To: Test Report <test-report@dpdk.org>
Cc: dpdk-test-reports@iol.unh.edu
In-Reply-To: <20240501161403.114658-10-stephen@networkplumber.org>
References: <20240501161403.114658-10-stephen@networkplumber.org>
Content-Type: text/plain
X-BeenThere: test-report@dpdk.org
X-Mailman-Version: 2.1.29
Precedence: list
List-Id: automatic DPDK test reports <test-report.dpdk.org>
List-Unsubscribe: <https://mails.dpdk.org/options/test-report>,
 <mailto:test-report-request@dpdk.org?subject=unsubscribe>
List-Archive: <http://mails.dpdk.org/archives/test-report/>
List-Post: <mailto:test-report@dpdk.org>
List-Help: <mailto:test-report-request@dpdk.org?subject=help>
List-Subscribe: <https://mails.dpdk.org/listinfo/test-report>,
 <mailto:test-report-request@dpdk.org?subject=subscribe>
Errors-To: test-report-bounces@dpdk.org

Test-Label: iol-unit-arm64-testing
Test-Status: SUCCESS
http://dpdk.org/patch/139769

_Testing PASS_

Submitter: Stephen Hemminger <stephen@networkplumber.org>
Date: Wednesday, May 01 2024 16:12:08 
DPDK git baseline: Repo:dpdk
  Branch: master
  CommitID:7e06c0de1952d3109a5b0c4779d7e7d8059c9d78

139761-139769 --> testing pass

Test environment and result as below:

+--------------------------+---------------------------+------------------------------+----------------+--------------+
|       Environment        | cryptodev_sw_zuc_autotest | cryptodev_sw_snow3g_autotest | dpdk_unit_test | lpm_autotest |
+==========================+===========================+==============================+================+==============+
| Debian 12 (arm)          | PASS                      | PASS                         | PASS           | SKIPPED      |
+--------------------------+---------------------------+------------------------------+----------------+--------------+
| Debian 11 (Buster) (ARM) | SKIPPED                   | SKIPPED                      | PASS           | SKIPPED      |
+--------------------------+---------------------------+------------------------------+----------------+--------------+
| Fedora 37 (ARM)          | SKIPPED                   | SKIPPED                      | PASS           | SKIPPED      |
+--------------------------+---------------------------+------------------------------+----------------+--------------+
| CentOS Stream 9 (ARM)    | SKIPPED                   | SKIPPED                      | PASS           | SKIPPED      |
+--------------------------+---------------------------+------------------------------+----------------+--------------+
| Fedora 38 (ARM)          | SKIPPED                   | SKIPPED                      | PASS           | SKIPPED      |
+--------------------------+---------------------------+------------------------------+----------------+--------------+
| Fedora 39 (ARM)          | SKIPPED                   | SKIPPED                      | PASS           | SKIPPED      |
+--------------------------+---------------------------+------------------------------+----------------+--------------+
| Ubuntu 20.04 ARM SVE     | SKIPPED                   | SKIPPED                      | SKIPPED        | PASS         |
+--------------------------+---------------------------+------------------------------+----------------+--------------+


Debian 12 (arm)
	Kernel: Container Host Kernel
	Compiler: gcc 12.2.0

Debian 11 (Buster) (ARM)
	Kernel: Container Host Kernel
	Compiler: gcc 10.2.1

Fedora 37 (ARM)
	Kernel: Depends on container host
	Compiler: gcc 12.3.1

CentOS Stream 9 (ARM)
	Kernel: Container Host Kernel
	Compiler: gcc 11.4.1

Fedora 38 (ARM)
	Kernel: Depends on container host
	Compiler: gcc 13.2.1

Fedora 39 (ARM)
	Kernel: Depends on container host
	Compiler: gcc 13.2.1

Ubuntu 20.04 ARM SVE
	Kernel: 5.4.0-167-generic
	Compiler: gcc (Ubuntu 10.5.0-1ubuntu1~20.04) 10.5.0

To view detailed results, visit:
https://lab.dpdk.org/results/dashboard/patchsets/29888/

UNH-IOL DPDK Community Lab

To manage your email subscriptions, visit: 
https://lab.dpdk.org/results/dashboard/preferences/subscriptions/